Workbook
Name book_id: Table13Lookups[book_id]
Name book_id: Table12022Data[book_id]
Name Lookups: Table13Lookups[]
Name NativeTimeline_Finished: #N/A
Name Slicer_Birth_Country: #N/A
Name Slicer_Genre: #N/A
Name Slicer_Language_Read: #N/A
Name Slicer_Rating: #N/A

Sheet 2022Dashboard
A1: Nicole's Reading Log Dashboard 2022 | X1: Alt + F5 to refresh
L12: Total Books | N12: Total Pages
L13: 65 | N13: 19276

Sheet 2022Data
A1: book_id | B1: Book Title | C1: Pages | D1: Format | E1: Fiction/ Nonfic | F1: Front/ Back | G1: Genre | H1: Original Language | I1: Language Read | J1: Source | K1: Bookshelf | L1: Pub Date | M1: author_id | N1: Author | O1: Birth Country | P1: Current Country | Q1: Country Details | R1: Gender | S1: BIPOC | T1: LGBT | U1: Disabled/ Neurodiverse | V1: pub_id | W1: Publisher | X1: City | Y1: Country | Z1: imprint_id | AA1: Imprint | AB1: translator_id | AC1: Translator | AD1: readbook_id | AE1: Read | AF1: Started | AG1: Finished | AH1: Rating
A2: 1 | B2: Life in the City of Dirty Water: A Memoir of Healing | C2: 200 | D2: Audio | E2: N | F2: F | G2: Memoir | H2: English | I2: English | J2: Library | K2: books-from-the-library | L2: 2019-09-04 | M2: 1 | N2: Clayton Thomas-Muller | O2: Canada | P2: Canada | Q2: Cree | R2: M | S2: Yes | T2: No | U2: No | V2: 1 | W2: Penguin Random House Canada | X2: Toronto | Y2: Canada | Z2: 1 | AA2: Allen Lane | AD2: 1 | AE2: 1 | AF2: 44510 | AG2: 44579 | AH2: 4
A3: 2 | B3: Stress and Your Body | C3: 200 | D3: Audio | E3: N | F3: B | G3: Science | H3: English | I3: English | J3: Home | K3: audible | L3: 2010-01-01 | M3: 2 | N3: Robert M. Sapolsky | O3: US | P3: US | R3: M | S3: No | T3: No | U3: No | V3: 2 | W3: The Great Courses | X3: Chantilly | Y3: US | AD3: 2 | AE3: 1 | AF3: 44591 | AG3: 44591 | AH3: 4
A4: 3 | B4: As Long as Grass Grows: The Indigenous Fight for Environmental Justice, from Colonization to Standing Rock | C4: 224 | D4: Audio | E4: N | F4: F | G4: Memoir | H4: English | I4: English | J4: Library | K4: books-from-the-library | L4: 2019-04-02 | M4: 3 | N4: Dina Gilio-Whitaker | O4: US | P4: US | Q4: Colville Confederated Tribes | R4: F | S4: Yes | T4: No | U4: No | V4: 3 | W4: Beacon Press | X4: Boston | Y4: US | AD4: 3 | AE4: 1 | AF4: 44591 | AG4: 44595 | AH4: 5
A5: 4 | B5: Thus Spoke the Plant: A Remarkable Journey of Groundbreaking Scientific Discoveries and Personal Encounters with Plants | C5: 176 | D5: Audio | E5: N | F5: F | G5: Earth | H5: English | I5: English | J5: Library | K5: books-from-the-library | L5: 2018-11-13 | M5: 4 | N5: Monica Gagliano | O5: Australia | P5: Australia | R5: F | S5: No | T5: No | U5: No | V5: 5 | W5: North Atlantic Books | AD5: 4 | AE5: 1 | AF5: 44595 | AG5: 44597 | AH5: 3
A6: 5 | B6: The Strangers | C6: 337 | D6: Audio | E6: F | F6: F | G6: Mystery | H6: English | I6: English | J6: Home | K6: fiction-adult-2015-present | L6: 2021-09-28 | M6: 5 | N6: Katherena Vermette | O6: Canada | P6: Canada | Q6: Métis | R6: F | S6: Yes | T6: No | U6: No | V6: 1 | W6: Penguin Random House Canada | Z6: 2 | AA6: Hamish Hamilton | AD6: 5 | AE6: 1 | AF6: 44597 | AG6: 44598 | AH6: 4
A7: 6 | B7: Secrets of Sleep Science: From Dreams to Disorders | C7: 150 | D7: Audio | E7: N | F7: B | G7: Science | H7: English | I7: English | J7: Home | K7: audible | L7: 2013-07-08 | M7: 6 | N7: H. Craig Heller | O7: US | P7: US | R7: M | S7: No | T7: No | U7: No | V7: 2 | W7: The Great Courses | AD7: 6 | AE7: 1 | AF7: 44595 | AG7: 44602 | AH7: 4
A8: 7 | B8: Why Did You Lie? | C8: 384 | D8: Paper | E8: F | F8: B | G8: Mystery | H8: Icelandic | I8: English | J8: Home | K8: fiction-adult-mystery | L8: 2016-08-11 | M8: 7 | N8: Yrsa Sigurðardóttir | O8: Iceland | P8: Iceland | R8: F | S8: No | T8: No | U8: No | V8: 6 | W8: Hachette | X8: New York | Y8: US | Z8: 3 | AA8: Hodder & Stoughton | AB8: 1 | AC8: Victoria Cribb | AD8: 7 | AE8: 1 | AF8: 44603 | AG8: 44607 | AH8: 4
A9: 8 | B9: Winterlust: Finding Beauty in the Fiercest Season | C9: 288 | D9: Paper | E9: N | F9: F | G9: Memoir | H9: English | I9: English | J9: Home | K9: sociology | L9: 2019-02-05 | M9: 8 | N9: Bernd Brunner | O9: Canada | P9: Canada | R9: M | S9: No | T9: No | U9: No | V9: 7 | W9: Greystone Books | X9: Vancouver | Y9: Canada | AD9: 8 | AE9: 1 | AF9: 44563 | AG9: 44611 | AH9: 3
A10: 9 | B10: Wild Souls: Freedom and Flourishing in the Non-Human World | C10: 352 | D10: Audio | E10: N | F10: F | G10: Earth | H10: English | I10: English | J10: Library | K10: books-from-the-library | L10: 2018-09-04 | M10: 9 | N10: Emma Marris | O10: US | P10: US | R10: F | S10: No | T10: No | U10: No | V10: 8 | W10: Simon & Schuster Canada | X10: Toronto | Y10: Canada | Z10: 4 | AA10: Atria Books | AD10: 9 | AE10: 1 | AF10: 44602 | AG10: 44620 | AH10: 4
A11: 10 | B11: Pure: Inside the Evangelical Movement That Shamed a Generation of Young Women and How I Broke Free | C11: 341 | D11: Audio | E11: N | F11: F | G11: Memoir | H11: English | I11: English | J11: Home | K11: audible | L11: 2021-06-29 | M11: 10 | N11: Linda Kay Klein | O11: US | P11: US | R11: F | S11: No | T11: No | U11: No | V11: 9 | W11: Bloomsbury Publishing | X11: London | Y11: UK | AD11: 10 | AE11: 1 | AF11: 44615 | AG11: 44617 | AH11: 5
A12: 11 | B12: Biology: The Science of Life | C12: 400 | D12: Audio | E12: N | F12: B | G12: Science | H12: English | I12: English | J12: Home | K12: audible | L12: 2004-01-01 | M12: 11 | N12: Stephen Nowicki | O12: US | P12: US | R12: M | S12: No | T12: No | U12: No | V12: 2 | W12: The Great Courses | AD12: 11 | AE12: 1 | AF12: 44139 | AG12: 44618 | AH12: 4
A13: 12 | B13: Zen and the Art of Saving the Planet | C13: 150 | D13: Audio | E13: N | F13: F | G13: Earth | H13: Vietnamese | I13: English | J13: Library | K13: books-from-the-library | L13: 2021-10-05 | M13: 12 | N13: Thich Nhat Hanh | O13: Vietnam | P13: France | R13: M | S13: Yes | T13: No | U13: No | V13: 4 | W13: HarperCollins Canada | X13: Toronto | Y13: Canada | Z13: 5 | AA13: HarperOne | AD13: 12 | AE13: 1 | AF13: 44547 | AG13: 44618 | AH13: 5
A14: 13 | B14: The Daughters of Kobani: A Story of Rebellion, Courage, and Justice | C14: 288 | D14: Audio | E14: N | F14: F | G14: History | H14: English | I14: English | J14: Library | K14: books-from-the-library | L14: 2021-02-16 | M14: 13 | N14: Gayle Tzemach Lemmon | O14: US | P14: US | R14: F | S14: No | T14: No | U14: No | V14: 1 | W14: Penguin Random House Canada | Z14: 6 | AA14: Penguin Press | AD14: 13 | AE14: 1 | AF14: 44553 | AG14: 44619 | AH14: 5
A15: 14 | B15: The 500 Years of Indigenous Resistance Comic Book: Revised and Expanded | C15: 144 | D15: Paper | E15: N | F15: F | G15: History | H15: English | I15: English | J15: Borrowed | K15: books-borrowed | L15: 2021-10-12 | M15: 14 | N15: Gord Hill | O15: Canada | P15: Canada | Q15: Kwakwaka'wakw | R15: M | S15: Yes | T15: No | U15: No | V15: 10 | W15: Arsenal Pulp Press | X15: Vancouver | Y15: Canada | AD15: 14 | AE15: 1 | AF15: 44527 | AG15: 44620 | AH15: 4
A16: 15 | B16: Plants Have So Much to Give Us, All We Have to Do Is Ask: Anishinaabe Botanical Teachings | C16: 344 | D16: Paper | E16: N | F16: F | G16: Earth | H16: English | I16: English | J16: Home | K16: earth-plants-etc | L16: 2015-06-22 | M16: 15 | N16: Mary Siisip Geniusz | O16: Canada | P16: Canada | Q16: Anishinaabe | R16: F | S16: Yes | T16: No | U16: No | V16: 11 | W16: University of Minnesota Press | X16: Minneapolis | Y16: US | AD16: 15 | AE16: 1 | AF16: 44560 | AG16: 44625 | AH16: 5
A17: 16 | B17: These Silent Woods | C17: 288 | D17: Paper | E17: F | F17: F | G17: Mystery | H17: English | I17: English | J17: Home | K17: fiction-adult-2015-present | L17: 2021-05-16 | M17: 16 | N17: Kimi Cunningham Grant | O17: US | P17: US | R17: F | S17: No | T17: No | U17: No | V17: 12 | W17: Minotaur Books | X17: New York | Y17: US | AD17: 16 | AE17: 1 | AF17: 44619 | AG17: 44632 | AH17: 4
A18: 17 | B18: The Disordered Mind: What Unusual Brains Tell Us about Ourselves | C18: 403 | D18: Audio | E18: N | F18: B | G18: Science | H18: English | I18: English | J18: Library | K18: books-from-the-library | L18: 2018-08-28 | M18: 17 | N18: Eric R. Kandel | O18: US | P18: US | R18: M | S18: No | T18: No | U18: No | V18: 13 | W18: Farrar, Straus and Giroux | X18: New York | Y18: US | AD18: 1 | AE18: 1 | AF18: 44632 | AG18: 44634 | AH18: 4
A19: 18 | B19: Plant Science: An Introduction to Botany | C19: 300 | D19: Audio | E19: N | F19: B | G19: Science | H19: English | I19: English | J19: Home | K19: audible | L19: 2018-12-05 | M19: 18 | N19: Catherine Kleier | O19: US | P19: US | R19: F | S19: No | T19: No | U19: No | V19: 2 | W19: The Great Courses | AD19: 18 | AE19: 1 | AF19: 44619 | AG19: 44639 | AH19: 5
A20: 19 | B20: Death of a Red Heroine (Inspector Chen Cao #1) | C20: 512 | D20: Paper | E20: F | F20: B | G20: Mystery | H20: English | I20: English | J20: Home | K20: fiction-adult-2000-2014 | L20: 2000-01-01 | M20: 19 | N20: Qiu Xiaolong | O20: China | P20: US | R20: M | S20: Yes | T20: No | U20: No | V20: 14 | W20: Soho Crime | X20: New York | Y20: US | AD20: 19 | AE20: 1 | AF20: 44551 | AG20: 44641 | AH20: 4
A21: 20 | B21: Violeta | C21: 336 | D21: Audio | E21: F | F21: F | G21: Lit Fic | H21: Spanish | I21: English | J21: Library | K21: books-from-the-library | L21: 44586 | M21: 20 | N21: Isabel Allende | O21: Chile | P21: US | R21: F | S21: Yes | T21: No | U21: No | W21: Penguin Random House Canada | X21: Toronto | Y21: Canada | AA21: Ballantine Books | AB21: 2 | AC21: Frances Riddle | AD21: 20 | AE21: 1 | AF21: 44659 | AG21: 44664 | AH21: 4
A22: 21 | B22: Language and the Mind | C22: 187 | D22: Audio | E22: N | F22: B | G22: Science | H22: English | I22: English | J22: Home | K22: audible | L22: 43831 | N22: Spencer Kelly | O22: US | P22: US | R22: M | S22: No | T22: No | U22: No | W22: The Great Courses | AD22: 21 | AE22: 1 | AF22: 44659 | AG22: 44666 | AH22: 4
A23: 22 | B23: How Digital Technology Shapes Us | C23: 150 | D23: Audio | E23: N | F23: B | G23: Science | H23: English | I23: English | J23: Home | K23: audible | L23: 44085 | N23: Indre Viskontas | O23: Canada | P23: US | R23: F | S23: Yes | T23: No | U23: No | W23: The Great Courses | AD23: 22 | AE23: 1 | AF23: 44666 | AG23: 44674 | AH23: 4
A24: 23 | B24: The Greek & Persian Wars | C24: 150 | D24: Audio | E24: N | F24: B | G24: History | H24: English | I24: English | J24: Home | K24: audible | L24: 39448 | N24: John R. Hale | O24: UK | P24: UK | R24: M | S24: No | T24: No | U24: No | W24: The Great Courses | AD24: 23 | AE24: 1 | AF24: 44674 | AG24: 44679 | AH24: 4
A25: 24 | B25: Read Dangerously: The Subversive Power of Literature in Troubled Times | C25: 256 | D25: Paper | E25: N | F25: F | G25: Memoir | H25: English | I25: English | J25: Library | K25: books-from-the-library | L25: 44689 | N25: Azar Nafisi | O25: Iran | P25: US | R25: F | S25: Yes | T25: No | U25: No | W25: HarperCollins Canada | Y25: Canada | AA25: Dev Street Books | AD25: 24 | AE25: 1 | AF25: 44661 | AG25: 44688 | AH25: 4
A26: 25 | B26: Dissent: The Radicalization of the Republican Party and Its Capture of the Court | C26: 496 | D26: Audio | E26: N | F26: F | G26: Politics | H26: English | I26: English | J26: Library | K26: books-from-the-library | L26: 44362 | N26: Jackie Calmes | O26: US | P26: US | R26: F | S26: No | T26: No | U26: No | W26: Hachette | X26: New York | Y26: US | AA26: Twelve Books | AD26: 25 | AE26: 1 | AF26: 44688 | AG26: 44694 | AH26: 4
A27: 26 | B27: Shinrin-Yoku: The Art and Science of Forest Bathing | C27: 320 | D27: Audio | E27: N | F27: F | G27: Earth | H27: English | I27: English | J27: Library | K27: books-from-the-library | L27: 43195 | N27: Qing Li | O27: Japan | P27: Japan | R27: M | S27: Yes | T27: No | U27: No | W27: Penguin Random House Canada | AA27: Penguin Life | AD27: 26 | AE27: 1 | AF27: 44711 | AG27: 44722 | AH27: 4
A28: 27 | B28: Honour Earth Mother | C28: 171 | D28: Paper | E28: N | F28: B | G28: Earth | H28: English | I28: English | J28: Home | K28: earth-plants-etc | L28: 37818 | N28: Basil Johnston | O28: Canada | P28: Canada | Q28: Anishinaabe | R28: M | S28: Yes | T28: No | U28: No | W28: Kegedonce Press | X28: Neyaashiinigmiing Reserve No. 27, Ontario | Y28: Canada | AD28: 27 | AE28: 1 | AF28: 44627 | AG28: 44722 | AH28: 4
A29: 28 | B29: Divergent Mind: Thriving in a World That Wasn't Designed for You | C29: 244 | D29: Audio | E29: N | F29: F | G29: Science | H29: English | I29: English | J29: Library | K29: books-from-the-library | L29: 43901 | N29: Jenara Nerenberg | O29: US | P29: US | R29: F | S29: No | T29: No | U29: Yes | W29: HarperCollins Canada | Y29: Canada | AA29: HarperOne | AD29: 28 | AE29: 1 | AF29: 44722 | AG29: 44723 | AH29: 3
A30: 29 | B30: Ten Days in a Mad-House | C30: 92 | D30: Paper | E30: N | F30: B | G30: Memoir | H30: English | I30: English | J30: Library | K30: books-from-the-library | L30: 1887-01-01 | N30: Nellie Bly | O30: US | P30: US | R30: F | S30: No | T30: No | U30: No | W30: Norman L. Munro | X30: New York | Y30: US | AD30: 29 | AE30: 1 | AF30: 44723 | AG30: 44725 | AH30: 4
A31: 30 | B31: Zoology: Understanding the animal world | C31: 150 | D31: Audio | E31: N | F31: B | G31: Science | H31: English | I31: English | J31: Home | K31: audible | L31: 42736 | N31: Donald E. Moore III | O31: US | P31: US | R31: M | S31: No | T31: No | U31: No | W31: The Great Courses | AD31: 30 | AE31: 1 | AF31: 44722 | AG31: 44725 | AH31: 4
A32: 31 | B32: The Silence | C32: 117 | D32: Audio | E32: F | F32: B | G32: Lit Fic | H32: English | I32: English | J32: Library | K32: books-from-the-library | L32: 44124 | N32: Don DeLillo | O32: US | P32: US | R32: M | S32: No | T32: No | U32: No | W32: Simon & Schuster Canada | AA32: Scribner | AD32: 31 | AE32: 1 | AF32: 44725 | AG32: 44725 | AH32: 3
A33: 32 | B33: Malone Dies | C33: 127 | D33: Audio | E33: F | F33: B | G33: Plays | H33: English | I33: English | J33: Library | K33: books-from-the-library | L33: 18629 | N33: Samuel Beckett | O33: Ireland | P33: France | R33: M | S33: No | T33: No | U33: No | W33: Grove Atlantic | AA33: Grove Press | AD33: 32 | AE33: 1 | AF33: 44725 | AG33: 44727 | AH33: 4
A34: 33 | B34: Seeds of Hope: Wisdom and Wonder from the World of Plants | C34: 370 | D34: Audio | E34: N | F34: F | G34: Earth | H34: English | I34: English | J34: Library | K34: books-from-the-library | L34: 41391 | N34: Jane Goodall | O34: US | P34: US | R34: F | S34: No | T34: No | U34: No | W34: Grand Central Publishing | X34: New York | Y34: US | AD34: 33 | AE34: 1 | AF34: 44723 | AG34: 44740 | AH34: 4
A35: 34 | B35: Cultish: The Language of Fanaticism | C35: 320 | D35: Audio | E35: N | F35: F | G35: Science | H35: English | I35: English | J35: Library | K35: books-from-the-library | L35: 44362 | N35: Amanda Montell | O35: US | P35: US | R35: F | S35: No | T35: No | U35: No | W35: HarperCollins Canada | AA35: Harper Wave | AD35: 34 | AE35: 1 | AF35: 44740 | AG35: 44740 | AH35: 5
A36: 35 | B36: Ten Steps to Nanette | C36: 400 | D36: Paper | E36: N | F36: F | G36: Memoir | H36: English | I36: English | J36: Home | K36: biography-memoir | L36: 44649 | N36: Hannah Gadsby | O36: Australia | P36: Australia | R36: F | S36: No | T36: Yes | U36: Yes | W36: Allen & Unwin | Y36: Australia | AD36: 35 | AE36: 1 | AF36: 44652 | AG36: 44741 | AH36: 5
A37: 36 | B37: Proust and the Squid: The Story and Science of the Reading Brain | C37: 336 | D37: Audio | E37: N | F37: B | G37: Science | H37: English | I37: English | J37: Home | K37: science-mathematics | L37: 39686 | N37: Maryanne Wolf | O37: US | P37: US | R37: F | S37: No | T37: No | U37: No | W37: HarperCollins Canada | AA37: Harper Perennial | AD37: 36 | AE37: 1 | AF37: 44741 | AG37: 44742 | AH37: 4
A38: 37 | B38: Feasting Wild: In Search of the Last Untamed Food | C38: 336 | D38: Paper | E38: N | F38: F | G38: Earth | H38: English | I38: English | J38: Home | K38: earth-plants-etc | L38: 43952 | N38: Gina Rae La Cerva | O38: US | P38: US | R38: F | S38: Yes | T38: No | U38: No | W38: Greystone Books | AD38: 37 | AE38: 1 | AF38: 44761 | AG38: 44761 | AH38: 3
A39: 38 | B39: The Power of Kindness: Why Empathy Is Essential in Everyday Life | C39: 320 | D39: Audio | E39: N | F39: B | G39: Science | H39: English | I39: English | J39: Home | K39: science-mathematics | L39: 39359 | N39: Brian Goldman | O39: Canada | P39: Canada | R39: M | S39: No | T39: No | U39: No | W39: HarperCollins Canada | AA39: HarperCollins Publishers | AD39: 38 | AE39: 1 | AF39: 44742 | AG39: 44768 | AH39: 3
A40: 39 | B40: Seventy-Eight Degrees of Wisdom: A Book of Tarot | C40: 356 | D40: Audio | E40: N | F40: B | G40: Spirituality | H40: English | I40: English | J40: Library | K40: books-from-the-library | L40: 35751 | N40: Rachel Pollack | O40: US | P40: US | R40: F | S40: No | T40: No | U40: No | W40: HarperCollins Canada | AA40: HarperCollins Publishers | AD40: 39 | AE40: 1 | AF40: 44768 | AG40: 44768 | AH40: 2
A41: 40 | B41: Plant Witchery: Discover the Sacred Language, Wisdom, and Magic of 200 Plants | C41: 368 | D41: Audio | E41: N | F41: B | G41: Spirituality | H41: English | I41: English | J41: Home | K41: theology-mythology | L41: 44131 | N41: Juliet Diaz | O41: US | P41: US | Q41: Taino/Caribecu | R41: F | S41: Yes | T41: No | U41: Yes | W41: Hay House | AD41: 40 | AE41: 1 | AF41: 44768 | AG41: 44768 | AH41: 4
A42: 41 | B42: The Well-Gardened Mind: The Restorative Power of Nature | C42: 352 | D42: Audio | E42: N | F42: B | G42: Earth | H42: English | I42: English | J42: Library | K42: books-from-the-library | L42: 44019 | N42: Sue Stuart-Smith | O42: UK | P42: UK | R42: F | S42: No | T42: No | U42: No | W42: Simon & Schuster Canada | AA42: Scribner | AD42: 41 | AE42: 1 | AF42: 44768 | AG42: 44769 | AH42: 4
A43: 42 | B43: Edible and Medicinal Plants of the Rockies | C43: 272 | D43: Paper | E43: N | F43: B | G43: Earth | H43: English | I43: English | J43: Home | K43: earth-plants-etc | L43: 42826 | N43: Linda J. Kershaw | O43: Canada | P43: Canada | R43: F | S43: No | T43: No | U43: No | W43: Partners Publishing | Y43: Canada | AD43: 42 | AE43: 1 | AF43: 44717 | AG43: 44771 | AH43: 4
A44: 43 | B44: Harry Potter à l'École des Sorciers | C44: 312 | D44: Audio | E44: F | F44: B | G44: YA | H44: English | I44: French | J44: Home | K44: french-fiction-children-ya | L44: 35607 | N44: J.K. Rowling | O44: UK | P44: UK | R44: F | S44: No | T44: No | U44: No | W44: Gallimard Jeunesse | AD44: 43 | AE44: 1 | AF44: 44692 | AG44: 44772 | AH44: 5
A45: 44 | B45: Fall of the Pagans and the Origins of Medieval Christianity | C45: 150 | D45: Audio | E45: N | F45: B | G45: History | H45: English | I45: English | J45: Home | K45: audible | L45: 40544 | N45: Kenneth W. Harl | O45: US | P45: US | R45: M | S45: No | T45: No | U45: No | W45: The Great Courses | AD45: 44 | AE45: 1 | AF45: 44772 | AG45: 44772 | AH45: 4
A46: 45 | B46: The Bird Way: A New Look at How Birds Talk, Work, Play, Parent, and Think | C46: 368 | D46: Audio | E46: N | F46: F | G46: Science | H46: English | I46: English | J46: Library | K46: books-from-the-library | L46: 43956 | N46: Jennifer Ackerman | O46: US | P46: US | R46: F | S46: No | T46: No | U46: No | W46: Penguin Random House Canada | AA46: Penguin Press | AD46: 45 | AE46: 1 | AF46: 44696 | AG46: 44741 | AH46: 4
A47: 46 | B47: Climate Justice: Hope, Resilience, and the Fight for a Sustainable Future | C47: 176 | D47: Audio | E47: N | F47: F | G47: Earth | H47: English | I47: English | J47: Home | K47: audible | L47: 43347 | N47: Mary Robinson | O47: Ireland | P47: Ireland | R47: F | S47: No | T47: No | U47: No | W47: Bloomsbury Publishing | X47: London | Y47: UK | AD47: 46 | AE47: 1 | AF47: 44773 | AG47: 44773 | AH47: 5
A48: 47 | B48: When the Body Says No: The Cost of Hidden Stress | C48: 320 | D48: Audio | E48: N | F48: B | G48: Science | H48: English | I48: English | J48: Library | K48: books-from-the-library | L48: 38020 | N48: Gabor Maté | O48: Hungary | P48: Canada | R48: M | S48: No | T48: No | U48: No | W48: Penguin Random House Canada | AA48: Vintage Canada | AD48: 47 | AE48: 1 | AF48: 44768 | AG48: 44773 | AH48: 4
A49: 48 | B49: The Revolutionary Genius of Plants: A New Understanding of Plant Intelligence and Behavior | C49: 240 | D49: Audio | E49: N | F49: F | G49: Earth | H49: Italian | I49: English | J49: Home | K49: audible | L49: 43340 | N49: Stefano Mancuso | O49: Italy | P49: Italy | R49: M | S49: No | T49: No | U49: No | W49: Simon & Schuster Canada | AA49: Atria Books | AD49: 48 | AE49: 1 | AF49: 44773 | AG49: 44774 | AH49: 4
A50: 49 | B50: Second Nature: A Gardener's Education | C50: 258 | D50: Audio | E50: N | F50: B | G50: Earth | H50: English | I50: English | J50: Home | K50: earth-plants-etc | L50: 37845 | N50: Michael Pollan | O50: US | P50: US | R50: M | S50: No | T50: No | U50: No | W50: Grove Atlantic | AA50: Grove Press | AD50: 49 | AE50: 1 | AF50: 44774 | AG50: 44774 | AH50: 3
A51: 50 | B51: Wild Roses Are Worth It: Reimagining the Alberta Advantage | C51: 284 | D51: Paper | E51: N | F51: F | G51: Earth | H51: English | I51: English | J51: Home | K51: earth-plants-etc | L51: 44197 | N51: Kevin Van Tighem | O51: Canada | P51: Canada | R51: M | S51: No | T51: No | U51: No | W51: Rocky Mountain Books | Y51: Canada | AD51: 50 | AE51: 1 | AF51: 44710 | AG51: 44774 | AH51: 4
A52: 51 | B52: The Wisdom of Your Body: Finding Healing, Wholeness, and Connection Through Embodied Living | C52: 288 | D52: Audio | E52: N | F52: F | G52: Science | H52: English | I52: English | J52: Library | K52: books-from-the-library | L52: 44481 | N52: Hillary L. McBride | O52: Canada | P52: Canada | R52: F | S52: No | T52: No | U52: No | W52: Brazos Press | AD52: 51 | AE52: 1 | AF52: 44774 | AG52: 44775 | AH52: 4
A53: 52 | B53: Ireland's Trees: Myths, Legends and Folklore | C53: 231 | D53: Paper | E53: N | F53: B | G53: Earth | H53: English | I53: English | J53: Library | K53: earth-plants-etc | L53: 37622 | N53: Niall Mac Coitir | O53: Ireland | P53: Ireland | R53: M | S53: No | T53: No | U53: No | W53: The Collins Press | X53: Cork | Y53: Ireland | AD53: 52 | AE53: 1 | AF53: 44776 | AG53: 44779 | AH53: 4
A54: 52 | B54: Medicine Walk | C54: 256 | D54: Audio | E54: F | F54: B | G54: Lit Fic | H54: English | I54: English | J54: Home | K54: fiction-adult-2000-2014 | L54: 42066 | N54: Richard Wagamese | O54: Canada | P54: Canada | Q54: Anishinaabe | R54: M | S54: Yes | T54: No | U54: No | W54: Penguin Random House Canada | AA54: Emblem Editions | AD54: 53 | AE54: 1 | AF54: 44774 | AG54: 44780 | AH54: 5
A55: 54 | B55: The Graveyard Book | C55: 327 | D55: Audio | E55: F | F55: B | G55: YA | H55: English | I55: English | J55: Home | K55: fiction-children-ya-fantasy-sci-fi | L55: 39721 | N55: Neil Gaiman | O55: UK | P55: US | R55: M | S55: No | T55: No | U55: No | W55: HarperCollins Canada | AD55: 54 | AE55: 1 | AF55: 44780 | AG55: 44781 | AH55: 5
A56: 55 | B56: La Fille qui rêvait d'un bidon d'essence et d'une allumette (Millennium #2) | C56: 653 | D56: Audio | E56: F | F56: B | G56: Mystery | H56: Swedish | I56: French | J56: Home | K56: audible | L56: 39013 | N56: Stieg Larsson | O56: Sweden | P56: Sweden | R56: M | S56: No | T56: No | U56: No | W56: Éditions Actes Sud | AB56: 3 | AC56: Lena Grumbach | AD56: 55 | AE56: 1 | AF56: 44786 | AG56: 44788 | AH56: 5
A57: 56 | B57: La Reine dans le palais des courants d'air (Millennium #3) | C57: 711 | D57: Audio | E57: F | F57: B | G57: Mystery | H57: Swedish | I57: French | J57: Home | K57: audible | L57: 39326 | N57: Stieg Larsson | O57: Sweden | P57: Sweden | R57: M | S57: No | T57: No | U57: No | W57: Éditions Actes Sud | AB57: 3 | AC57: Lena Grumbach | AD57: 56 | AE57: 1 | AF57: 44788 | AG57: 44791 | AH57: 5
A58: 57 | B58: Ce qui ne me tue pas (Millennium #4) | C58: 481 | D58: Audio | E58: F | F58: B | G58: Mystery | H58: Swedish | I58: French | J58: Home | K58: audible | L58: 42243 | N58: David Lagercrantz | O58: Sweden | P58: Sweden | R58: M | S58: No | T58: No | U58: No | W58: Éditions Actes Sud | AB58: 4 | AC58: Hege Roel-Rousson | AD58: 57 | AE58: 1 | AF58: 44791 | AG58: 44793 | AH58: 3
A59: 58 | B59: La fille qui rendait coup pour coup (Millennium #5) | C59: 448 | D59: Audio | E59: F | F59: B | G59: Mystery | H59: Swedish | I59: French | J59: Home | K59: audible | L59: 42985 | N59: David Lagercrantz | O59: Sweden | P59: Sweden | R59: M | S59: No | T59: No | U59: No | W59: Éditions Actes Sud | AB59: 4 | AC59: Hege Roel-Rousson | AD59: 58 | AE59: 1 | AF59: 44793 | AG59: 44796 | AH59: 4
A60: 59 | B60: La fille qui devait mourir (Millennium #6) | C60: 320 | D60: Audio | E60: F | F60: B | G60: Mystery | H60: Swedish | I60: French | J60: Home | K60: audible | L60: 43697 | N60: David Lagercrantz | O60: Sweden | P60: Sweden | R60: M | S60: No | T60: No | U60: No | W60: Éditions Actes Sud | AB60: 4 | AC60: Hege Roel-Rousson | AD60: 59 | AE60: 1 | AF60: 44797 | AG60: 44812 | AH60: 3
A61: 60 | B61: La Princesse des glaces (Fjällbacka #1) | C61: 381 | D61: Audio | E61: F | F61: B | G61: Mystery | H61: Swedish | I61: French | J61: Home | K61: audible | L61: 39566 | N61: Camilla Läckberg | O61: Sweden | P61: Sweden | R61: F | S61: No | T61: No | U61: No | W61: Éditions Actes Sud | AB61: 3 | AC61: Lena Grumbach | AD61: 60 | AE61: 1 | AF61: 44812 | AG61: 44815 | AH61: 4
A62: 61 | B62: Learn Arabic - Absolute Beginner Lessons 1-25 | C62: 150 | D62: Audio | E62: F | F62: B | G62: Language | H62: Arabic | I62: Arabic | J62: Home | K62: audible | L62: 40514 | N62: InnovativeLanguage.com | O62: US | P62: US | R62: F | S62: Yes | T62: No | U62: No | W62: InnovativeLanguage.com | AD62: 61 | AE62: 1 | AF62: 44555 | AG62: 44816 | AH62: 4
A63: 62 | B63: Learn Arabic: Word Power 101 | C63: 150 | D63: Audio | E63: F | F63: B | G63: Language | H63: Arabic | I63: Arabic | J63: Home | K63: audible | L63: 40984 | N63: InnovativeLanguage.com | O63: US | P63: US | R63: F | S63: Yes | T63: No | U63: No | W63: InnovativeLanguage.com | AD63: 62 | AE63: 1 | AF63: 44783 | AG63: 44816 | AH63: 3
A64: 63 | B64: Climate Change in Simple French: Learn French the Fun Way with Topics that Matter | C64: 214 | D64: Audio | E64: F | F64: F | G64: Language | H64: French | I64: French | J64: Home | K64: audible | L64: 44578 | N64: Olly Richards | O64: UK | P64: UK | R64: M | S64: No | T64: No | U64: No | W64: Teach Yourself | AD64: 63 | AE64: 1 | AF64: 44815 | AG64: 44819 | AH64: 3
A65: 64 | B65: Le Prédicateur (Fjällbacka #2) | C65: 374 | D65: Audio | E65: F | F65: B | G65: Mystery | H65: Swedish | I65: French | J65: Home | K65: audible | L65: 39876 | N65: Camilla Läckberg | O65: Sweden | P65: Sweden | R65: F | S65: No | T65: No | U65: No | W65: Éditions Actes Sud | AB65: 3 | AC65: Lena Grumbach | AD65: 64 | AE65: 1 | AF65: 44815 | AG65: 44819 | AH65: 4
A66: 65 | B66: Le Tailleur de pierre (Fjällbacka #3) | C66: 477 | D66: Audio | E66: F | F66: B | G66: Mystery | H66: Swedish | I66: French | J66: Home | K66: audible | L66: 40093 | N66: Camilla Läckberg | O66: Sweden | P66: Sweden | R66: F | S66: No | T66: No | U66: No | W66: Éditions Actes Sud | AB66: 3 | AC66: Lena Grumbach | AD66: 65 | AE66: 1 | AF66: 44819 | AG66: 44823 | AH66: 3
V1048492: fiction-adult-2000-2014

Sheet 2022 Summaries & Visualizations
B2: Data for Pie Charts
A3: Paper | B3: ='2022Data'!#REF!/'2022Data'!#REF! -> #REF!
A4: Audio | B4: ='2022Data'!#REF!/'2022Data'!#REF! -> #REF!
A5: Fiction | B5: ='2022Data'!#REF!/'2022Data'!#REF! -> #REF!
A6: Non-fiction | B6: ='2022Data'!#REF!/'2022Data'!#REF! -> #REF!
A7: Women | B7: ='2022Data'!#REF!/'2022Data'!#REF! -> #REF!
A8: Men | B8: ='2022Data'!#REF!/'2022Data'!#REF! -> #REF!
A9: BIPOC | B9: ='2022Data'!#REF!/'2022Data'!#REF! -> #REF!
A10: White | B10: ='2022Data'!#REF!/'2022Data'!#REF! -> #REF!
A11: LGBTQ | B11: ='2022Data'!#REF!/'2022Data'!#REF! -> #REF!
A12: Cis/Het | B12: ='2022Data'!#REF!/'2022Data'!#REF! -> #REF!
A13: Disabled | B13: ='2022Data'!#REF!/'2022Data'!#REF! -> #REF!
A14: Abled | B14: ='2022Data'!#REF!/'2022Data'!#REF! -> #REF!
C17: Pages Read: Data for Histogram
A18: Bin | B18: Frequency | C18: Intervals
A19: 99 | B19: {=FREQUENCY('2022Data'!C2:C66,A19:A32)} -> 1 | C19: 1-99
A20: 199 | B20: 15 | C20: 100-199
A21: 299 | B21: 16 | C21: 200-299
A22: 399 | B22: 23 | C22: 300-399
A23: 499 | B23: 7 | C23: 400-499
A24: 599 | B24: 1 | C24: 500-599
A25: 699 | B25: 1 | C25: 600-699
A26: 799 | B26: 1 | C26: 700-799
A27: 899 | B27: 0 | C27: 800-899
A28: 999 | B28: 0 | C28: 900-999
A29: 1099 | B29: 0 | C29: 1000-1099
A30: 1199 | B30: 0 | C30: 1100-1199
A31: 1299 | B31: 0 | C31: 1200-1299
... A33: 1499 | B33: 0 | C33: 1400-1499
D36: Pages Read: Descriptive Statistics
C37: Mean | D37: =AVERAGE('2022Data'!$C$2:$C$66) -> 296.55385
C38: Standard Error | D38: =D48/SQRT('2022Data'!#REF!) -> #REF!
C39: Median | D39: =MEDIAN('2022Data'!$C$2:$C$66) -> 300
C40: Mode | D40: =_xlfn.MODE.SNGL('2022Data'!$C$2:$C$66) -> 150
C41: Min | D41: =MIN('2022Data'!$C$2:$C$66) -> 92
C42: Max | D42: =MAX('2022Data'!$C$2:$C$66) -> 711
C43: Range | D43: =D42-D41 -> 619
C44: 1st Quartile | D44: =QUARTILE('2022Data'!$C$2:$C$66,1) -> 200
C45: 3rd Quartile | D45: =QUARTILE('2022Data'!$C$2:$C$66,3) -> 356
C46: Interquartile Range | D46: =D45-D44 -> 156
C47: Sample Variance | D47: =_xlfn.VAR.S('2022Data'!$C$2:$C$66) -> 15146.157
C48: Standard Deviation | D48: =STDEVA('2022Data'!$C$2:$C$66) -> 123.06972
C49: Confidence Level (95%) | D49: =CONFIDENCE(0.05,D48,'2022Data'!#REF!) -> #REF!
C50: Confidence Level (95%), t-distribution | D50: =_xlfn.CONFIDENCE.T(0.05,D48,'2022Data'!#REF!) -> #REF!
C51: Confidence Interval (95%), lower range | D51: =D37-D49 -> #REF!
C52: Confidence Interval (95%), higher range | D52: =D37+D49 -> #REF!

Sheet 2022 Books
A3: Sum of Read
A4: 65

Sheet 2022 Pages
A3: Sum of Pages
A4: 19276

Sheet 2022 Source
A1: Sum by Source
A2: Row Labels | B2: Sum of Read
A3: Home | B3: 41
A4: Library | B4: 23
A5: Borrowed | B5: 1
A6: Grand Total | B6: 65

Sheet 2022 Ethnicity
A1: Sum by Ethnicity
A2: Row Labels | B2: Sum of Read
A3: Anishinaabe | B3: 3
A4: Colville Confederated Tribes | B4: 1
A5: Cree | B5: 1
A6: Kwakwaka'wakw | B6: 1
A7: Métis | B7: 1
A8: Taino/Caribecu | B8: 1
A9: Grand Total | B9: 8

Sheet 2022 Disabled
A1: Genre | B1: (All)
A2: Finished | B2: (All)
A4: Row Labels | B4: Sum of Read
A5: No | B5: 62
A6: Yes | B6: 3
A7: Grand Total | B7: 65

Sheet 2022 LGBTQ+
A1: Genre | B1: (All)
A2: Finished | B2: (All)
A4: Row Labels | B4: Sum of Read
A5: No | B5: 64
A6: Yes | B6: 1
A7: Grand Total | B7: 65

Sheet 2022 BIPOC
A1: Genre | B1: (All)
A2: Finished | B2: (All)
A4: Row Labels | B4: Sum of Read
A5: No | B5: 48
A6: Yes | B6: 17
A7: Grand Total | B7: 65

Sheet 2022 Gender
A1: Genre | B1: (All)
A2: Finished | B2: (All)
A4: Row Labels | B4: Sum of Read
A5: F | B5: 34
A6: M | B6: 31
A7: Grand Total | B7: 65

Sheet 2022 Format
A1: Genre | B1: (All)
A2: Finished | B2: (All)
A4: Row Labels | B4: Sum of Read
A5: Audio | B5: 51
A6: Paper | B6: 14
A7: Grand Total | B7: 65

Sheet 2022 FicNonFic
A1: Genre | B1: (All)
A2: Finished | B2: (All)
A4: Row Labels | B4: Sum of Read
A5: F | B5: 21
A6: N | B6: 44
A7: Grand Total | B7: 65

Sheet 2022 Original Language
A4: Row Labels | B4: Sum of Read
A5: Arabic | B5: 2
A6: English | B6: 50
A7: French | B7: 1
A8: Icelandic | B8: 1
A9: Italian | B9: 1
A10: Spanish | B10: 1
A11: Swedish | B11: 8
A12: Vietnamese | B12: 1
A13: Grand Total | B13: 65

Sheet 2022 Language Read
A4: Row Labels | B4: Sum of Read
A5: Arabic | B5: 2
A6: English | B6: 53
A7: French | B7: 10
A8: Grand Total | B8: 65

Sheet 2022 By Month
A1: Row Labels | B1: Sum of Read
A2: Jan | B2: 2
A3: Feb | B3: 12
A4: Mar | B4: 5
A5: Apr | B5: 4
A6: May | B6: 2
A7: Jun | B7: 12
A8: Jul | B8: 10
A9: Aug | B9: 11
A10: Sep | B10: 7
A11: Grand Total | B11: 65

Sheet 2022 By Birth Country
A1: Finished | B1: (All)
A3: Row Labels | B3: Sum of Read
A4: Australia | B4: 2
A5: Canada | B5: 12
A6: Chile | B6: 1
A7: China | B7: 1
A8: Hungary | B8: 1
A9: Iceland | B9: 1
A10: Iran | B10: 1
A11: Ireland | B11: 3
A12: Italy | B12: 1
A13: Japan | B13: 1
A14: Sweden | B14: 8
A15: UK | B15: 5
... A18: Grand Total | B18: 65

Sheet Data Validation
A1: Source
A2: Home
A3: Library
A4: Borrowed

Sheet FrontBackList
A1: Sum of Read | B1: Column Labels
A2: Row Labels | B2: B | C2: F | D2: Grand Total
A3: Jan | B3: 1 | C3: 1 | D3: 2
A4: Feb | B4: 3 | C4: 9 | D4: 12
A5: Mar | B5: 3 | C5: 2 | D5: 5
A6: Apr | B6: 3 | C6: 1 | D6: 4
A7: May | C7: 2 | D7: 2
A8: Jun | B8: 6 | C8: 6 | D8: 12
A9: Jul | B9: 8 | C9: 2 | D9: 10
A10: Aug | B10: 8 | C10: 3 | D10: 11
A11: Sep | B11: 6 | C11: 1 | D11: 7
A12: Grand Total | B12: 38 | C12: 27 | D12: 65

Sheet LOOKUPS, MATCH, INDEX
A1: book_id | B1: LOOKUP1 | C1: LOOKUP2 | D1: Book Title | E1: Pages | F1: Format | G1: Fiction/ Nonfic | H1: Front/ Back | I1: Genre | J1: Original Language | K1: Language Read | L1: Source | M1: Bookshelf | N1: Pub Date | O1: author_id | P1: Author | Q1: First instance of author | R1: Birth Country | S1: Current Country | T1: Country Details | U1: Gender | V1: BIPOC | W1: LGBT | X1: Disabled/ Neurodiverse | Y1: pub_id | Z1: Publisher | AA1: City | AB1: Country | AC1: imprint_id | AD1: Imprint | AE1: translator_id | AF1: Translator | AG1: readbook_id | AH1: Read | AI1: Started | AJ1: Finished | AK1: Rating
A2: 1 | B2: Memoir | C2: Canada | D2: Life in the City of Dirty Water: A Memoir of Healing | E2: 200 | F2: Audio | G2: N | H2: F | I2: Memoir | J2: English | K2: English | L2: Library | M2: books-from-the-library | N2: 2019-09-04 | O2: 1 | P2: Clayton Thomas-Muller | Q2: =COUNTIF($P$2:$P2,$P2)=1 -> TRUE | R2: Canada | S2: Canada | T2: Cree | U2: M | V2: Yes | W2: No | X2: No | Y2: 1 | Z2: Penguin Random House Canada | AA2: Toronto | AB2: Canada | AC2: 1 | AD2: Allen Lane | AG2: 1 | AH2: 1 | AI2: 44510 | AJ2: 44579 | AK2: 4
A3: 2 | B3: Science | C3: US | D3: Stress and Your Body | E3: 200 | F3: Audio | G3: N | H3: B | I3: Science | J3: English | K3: English | L3: Home | M3: audible | N3: 2010-01-01 | O3: 2 | P3: Robert M. Sapolsky | Q3: =COUNTIF($P$2:$P3,$P3)=1 -> TRUE | R3: US | S3: US | U3: M | V3: No | W3: No | X3: No | Y3: 2 | Z3: The Great Courses | AA3: Chantilly | AB3: US | AG3: 2 | AH3: 1 | AI3: 44591 | AJ3: 44591 | AK3: 4
A4: 3 | B4: Memoir | C4: US | D4: As Long as Grass Grows: The Indigenous Fight for Environmental Justice, from Colonization to Standing Rock | E4: 224 | F4: Audio | G4: N | H4: F | I4: Memoir | J4: English | K4: English | L4: Library | M4: books-from-the-library | N4: 2019-04-02 | O4: 3 | P4: Dina Gilio-Whitaker | Q4: =COUNTIF($P$2:$P4,$P4)=1 -> TRUE | R4: US | S4: US | T4: Colville Confederated Tribes | U4: F | V4: Yes | W4: No | X4: No | Y4: 3 | Z4: Beacon Press | AA4: Boston | AB4: US | AG4: 3 | AH4: 1 | AI4: 44591 | AJ4: 44595 | AK4: 5
A5: 4 | B5: Earth | C5: Australia | D5: Thus Spoke the Plant: A Remarkable Journey of Groundbreaking Scientific Discoveries and Personal Encounters with Plants | E5: 176 | F5: Audio | G5: N | H5: F | I5: Earth | J5: English | K5: English | L5: Library | M5: books-from-the-library | N5: 2018-11-13 | O5: 4 | P5: Monica Gagliano | Q5: =COUNTIF($P$2:$P5,$P5)=1 -> TRUE | R5: Australia | S5: Australia | U5: F | V5: No | W5: No | X5: No | Y5: 5 | Z5: North Atlantic Books | AG5: 4 | AH5: 1 | AI5: 44595 | AJ5: 44597 | AK5: 3
A6: 5 | B6: Mystery | C6: Canada | D6: The Strangers | E6: 337 | F6: Audio | G6: F | H6: F | I6: Mystery | J6: English | K6: English | L6: Home | M6: fiction-adult-2015-present | N6: 2021-09-28 | O6: 5 | P6: Katherena Vermette | Q6: =COUNTIF($P$2:$P6,$P6)=1 -> TRUE | R6: Canada | S6: Canada | T6: Métis | U6: F | V6: Yes | W6: No | X6: No | Y6: 1 | Z6: Penguin Random House Canada | AC6: 2 | AD6: Hamish Hamilton | AG6: 5 | AH6: 1 | AI6: 44597 | AJ6: 44598 | AK6: 4
A7: 6 | B7: Science | C7: US | D7: Secrets of Sleep Science: From Dreams to Disorders | E7: 150 | F7: Audio | G7: N | H7: B | I7: Science | J7: English | K7: English | L7: Home | M7: audible | N7: 2013-07-08 | O7: 6 | P7: H. Craig Heller | Q7: =COUNTIF($P$2:$P7,$P7)=1 -> TRUE | R7: US | S7: US | U7: M | V7: No | W7: No | X7: No | Y7: 2 | Z7: The Great Courses | AG7: 6 | AH7: 1 | AI7: 44595 | AJ7: 44602 | AK7: 4
A8: 7 | B8: Mystery | C8: Iceland | D8: Why Did You Lie? | E8: 384 | F8: Paper | G8: F | H8: B | I8: Mystery | J8: Icelandic | K8: English | L8: Home | M8: fiction-adult-mystery | N8: 2016-08-11 | O8: 7 | P8: Yrsa Sigurðardóttir | Q8: =COUNTIF($P$2:$P8,$P8)=1 -> TRUE | R8: Iceland | S8: Iceland | U8: F | V8: No | W8: No | X8: No | Y8: 6 | Z8: Hachette | AA8: New York | AB8: US | AC8: 3 | AD8: Hodder & Stoughton | AE8: 1 | AF8: Victoria Cribb | AG8: 7 | AH8: 1 | AI8: 44603 | AJ8: 44607 | AK8: 4
A9: 8 | B9: Memoir | C9: Canada | D9: Winterlust: Finding Beauty in the Fiercest Season | E9: 288 | F9: Paper | G9: N | H9: F | I9: Memoir | J9: English | K9: English | L9: Home | M9: sociology | N9: 2019-02-05 | O9: 8 | P9: Bernd Brunner | Q9: =COUNTIF($P$2:$P9,$P9)=1 -> TRUE | R9: Canada | S9: Canada | U9: M | V9: No | W9: No | X9: No | Y9: 7 | Z9: Greystone Books | AA9: Vancouver | AB9: Canada | AG9: 8 | AH9: 1 | AI9: 44563 | AJ9: 44611 | AK9: 3
A10: 9 | B10: Earth | C10: US | D10: Wild Souls: Freedom and Flourishing in the Non-Human World | E10: 352 | F10: Audio | G10: N | H10: F | I10: Earth | J10: English | K10: English | L10: Library | M10: books-from-the-library | N10: 2018-09-04 | O10: 9 | P10: Emma Marris | Q10: =COUNTIF($P$2:$P10,$P10)=1 -> TRUE | R10: US | S10: US | U10: F | V10: No | W10: No | X10: No | Y10: 8 | Z10: Simon & Schuster Canada | AA10: Toronto | AB10: Canada | AC10: 4 | AD10: Atria Books | AG10: 9 | AH10: 1 | AI10: 44602 | AJ10: 44620 | AK10: 4
A11: 10 | B11: Memoir | C11: US | D11: Pure: Inside the Evangelical Movement That Shamed a Generation of Young Women and How I Broke Free | E11: 341 | F11: Audio | G11: N | H11: F | I11: Memoir | J11: English | K11: English | L11: Home | M11: audible | N11: 2021-06-29 | O11: 10 | P11: Linda Kay Klein | Q11: =COUNTIF($P$2:$P11,$P11)=1 -> TRUE | R11: US | S11: US | U11: F | V11: No | W11: No | X11: No | Y11: 9 | Z11: Bloomsbury Publishing | AA11: London | AB11: UK | AG11: 10 | AH11: 1 | AI11: 44615 | AJ11: 44617 | AK11: 5
A12: 11 | B12: Science | C12: US | D12: Biology: The Science of Life | E12: 400 | F12: Audio | G12: N | H12: B | I12: Science | J12: English | K12: English | L12: Home | M12: audible | N12: 2004-01-01 | O12: 11 | P12: Stephen Nowicki | Q12: =COUNTIF($P$2:$P12,$P12)=1 -> TRUE | R12: US | S12: US | U12: M | V12: No | W12: No | X12: No | Y12: 2 | Z12: The Great Courses | AG12: 11 | AH12: 1 | AI12: 44139 | AJ12: 44618 | AK12: 4
A13: 12 | B13: Earth | C13: Vietnam | D13: Zen and the Art of Saving the Planet | E13: 150 | F13: Audio | G13: N | H13: F | I13: Earth | J13: Vietnamese | K13: English | L13: Library | M13: books-from-the-library | N13: 2021-10-05 | O13: 12 | P13: Thich Nhat Hanh | Q13: =COUNTIF($P$2:$P13,$P13)=1 -> TRUE | R13: Vietnam | S13: France | U13: M | V13: Yes | W13: No | X13: No | Y13: 4 | Z13: HarperCollins Canada | AA13: Toronto | AB13: Canada | AC13: 5 | AD13: HarperOne | AG13: 12 | AH13: 1 | AI13: 44547 | AJ13: 44618 | AK13: 5
A14: 13 | B14: History | C14: US | D14: The Daughters of Kobani: A Story of Rebellion, Courage, and Justice | E14: 288 | F14: Audio | G14: N | H14: F | I14: History | J14: English | K14: English | L14: Library | M14: books-from-the-library | N14: 2021-02-16 | O14: 13 | P14: Gayle Tzemach Lemmon | Q14: =COUNTIF($P$2:$P14,$P14)=1 -> TRUE | R14: US | S14: US | U14: F | V14: No | W14: No | X14: No | Y14: 1 | Z14: Penguin Random House Canada | AC14: 6 | AD14: Penguin Press | AG14: 13 | AH14: 1 | AI14: 44553 | AJ14: 44619 | AK14: 5
A15: 14 | B15: History | C15: Canada | D15: The 500 Years of Indigenous Resistance Comic Book: Revised and Expanded | E15: 144 | F15: Paper | G15: N | H15: F | I15: History | J15: English | K15: English | L15: Borrowed | M15: books-borrowed | N15: 2021-10-12 | O15: 14 | P15: Gord Hill | Q15: =COUNTIF($P$2:$P15,$P15)=1 -> TRUE | R15: Canada | S15: Canada | T15: Kwakwaka'wakw | U15: M | V15: Yes | W15: No | X15: No | Y15: 10 | Z15: Arsenal Pulp Press | AA15: Vancouver | AB15: Canada | AG15: 14 | AH15: 1 | AI15: 44527 | AJ15: 44620 | AK15: 4
A16: 15 | B16: Earth | C16: Canada | D16: Plants Have So Much to Give Us, All We Have to Do Is Ask: Anishinaabe Botanical Teachings | E16: 344 | F16: Paper | G16: N | H16: F | I16: Earth | J16: English | K16: English | L16: Home | M16: earth-plants-etc | N16: 2015-06-22 | O16: 15 | P16: Mary Siisip Geniusz | Q16: =COUNTIF($P$2:$P16,$P16)=1 -> TRUE | R16: Canada | S16: Canada | T16: Anishinaabe | U16: F | V16: Yes | W16: No | X16: No | Y16: 11 | Z16: University of Minnesota Press | AA16: Minneapolis | AB16: US | AG16: 15 | AH16: 1 | AI16: 44560 | AJ16: 44625 | AK16: 5
A17: 16 | B17: Mystery | C17: US | D17: These Silent Woods | E17: 288 | F17: Paper | G17: F | H17: F | I17: Mystery | J17: English | K17: English | L17: Home | M17: fiction-adult-2015-present | N17: 2021-05-16 | O17: 16 | P17: Kimi Cunningham Grant | Q17: =COUNTIF($P$2:$P17,$P17)=1 -> TRUE | R17: US | S17: US | U17: F | V17: No | W17: No | X17: No | Y17: 12 | Z17: Minotaur Books | AA17: New York | AB17: US | AG17: 16 | AH17: 1 | AI17: 44619 | AJ17: 44632 | AK17: 4
A18: 17 | B18: Science | C18: US | D18: The Disordered Mind: What Unusual Brains Tell Us about Ourselves | E18: 403 | F18: Audio | G18: N | H18: B | I18: Science | J18: English | K18: English | L18: Library | M18: books-from-the-library | N18: 2018-08-28 | O18: 17 | P18: Eric R. Kandel | Q18: =COUNTIF($P$2:$P18,$P18)=1 -> TRUE | R18: US | S18: US | U18: M | V18: No | W18: No | X18: No | Y18: 13 | Z18: Farrar, Straus and Giroux | AA18: New York | AB18: US | AG18: 1 | AH18: 1 | AI18: 44632 | AJ18: 44634 | AK18: 4
A19: 18 | B19: Science | C19: US | D19: Plant Science: An Introduction to Botany | E19: 300 | F19: Audio | G19: N | H19: B | I19: Science | J19: English | K19: English | L19: Home | M19: audible | N19: 2018-12-05 | O19: 18 | P19: Catherine Kleier | Q19: =COUNTIF($P$2:$P19,$P19)=1 -> TRUE | R19: US | S19: US | U19: F | V19: No | W19: No | X19: No | Y19: 2 | Z19: The Great Courses | AG19: 18 | AH19: 1 | AI19: 44619 | AJ19: 44639 | AK19: 5
A20: 19 | B20: Mystery | C20: China | D20: Death of a Red Heroine (Inspector Chen Cao #1) | E20: 512 | F20: Paper | G20: F | H20: B | I20: Mystery | J20: English | K20: English | L20: Home | M20: fiction-adult-2000-2014 | N20: 2000-01-01 | O20: 19 | P20: Qiu Xiaolong | Q20: =COUNTIF($P$2:$P20,$P20)=1 -> TRUE | R20: China | S20: US | U20: M | V20: Yes | W20: No | X20: No | Y20: 14 | Z20: Soho Crime | AA20: New York | AB20: US | AG20: 19 | AH20: 1 | AI20: 44551 | AJ20: 44641 | AK20: 4
A21: 20 | B21: Lit Fic | C21: Chile | D21: Violeta | E21: 336 | F21: Audio | G21: F | H21: F | I21: Lit Fic | J21: Spanish | K21: English | L21: Library | M21: books-from-the-library | N21: 44586 | O21: 20 | P21: Isabel Allende | Q21: =COUNTIF($P$2:$P21,$P21)=1 -> TRUE | R21: Chile | S21: US | U21: F | V21: Yes | W21: No | X21: No | Z21: Penguin Random House Canada | AA21: Toronto | AB21: Canada | AD21: Ballantine Books | AE21: 2 | AF21: Frances Riddle | AG21: 20 | AH21: 1 | AI21: 44659 | AJ21: 44664 | AK21: 4
A22: 21 | B22: Science | C22: US | D22: Language and the Mind | E22: 187 | F22: Audio | G22: N | H22: B | I22: Science | J22: English | K22: English | L22: Home | M22: audible | N22: 43831 | P22: Spencer Kelly | Q22: =COUNTIF($P$2:$P22,$P22)=1 -> TRUE | R22: US | S22: US | U22: M | V22: No | W22: No | X22: No | Z22: The Great Courses | AG22: 21 | AH22: 1 | AI22: 44659 | AJ22: 44666 | AK22: 4
A23: 22 | B23: Science | C23: Canada | D23: How Digital Technology Shapes Us | E23: 150 | F23: Audio | G23: N | H23: B | I23: Science | J23: English | K23: English | L23: Home | M23: audible | N23: 44085 | P23: Indre Viskontas | Q23: =COUNTIF($P$2:$P23,$P23)=1 -> TRUE | R23: Canada | S23: US | U23: F | V23: Yes | W23: No | X23: No | Z23: The Great Courses | AG23: 22 | AH23: 1 | AI23: 44666 | AJ23: 44674 | AK23: 4
A24: 23 | B24: History | C24: UK | D24: The Greek & Persian Wars | E24: 150 | F24: Audio | G24: N | H24: B | I24: History | J24: English | K24: English | L24: Home | M24: audible | N24: 39448 | P24: John R. Hale | Q24: =COUNTIF($P$2:$P24,$P24)=1 -> TRUE | R24: UK | S24: UK | U24: M | V24: No | W24: No | X24: No | Z24: The Great Courses | AG24: 23 | AH24: 1 | AI24: 44674 | AJ24: 44679 | AK24: 4
A25: 24 | B25: Memoir | C25: Iran | D25: Read Dangerously: The Subversive Power of Literature in Troubled Times | E25: 256 | F25: Paper | G25: N | H25: F | I25: Memoir | J25: English | K25: English | L25: Library | M25: books-from-the-library | N25: 44689 | P25: Azar Nafisi | Q25: =COUNTIF($P$2:$P25,$P25)=1 -> TRUE | R25: Iran | S25: US | U25: F | V25: Yes | W25: No | X25: No | Z25: HarperCollins Canada | AB25: Canada | AD25: Dev Street Books | AG25: 24 | AH25: 1 | AI25: 44661 | AJ25: 44688 | AK25: 4
A26: 25 | B26: Politics | C26: US | D26: Dissent: The Radicalization of the Republican Party and Its Capture of the Court | E26: 496 | F26: Audio | G26: N | H26: F | I26: Politics | J26: English | K26: English | L26: Library | M26: books-from-the-library | N26: 44362 | P26: Jackie Calmes | Q26: =COUNTIF($P$2:$P26,$P26)=1 -> TRUE | R26: US | S26: US | U26: F | V26: No | W26: No | X26: No | Z26: Hachette | AA26: New York | AB26: US | AD26: Twelve Books | AG26: 25 | AH26: 1 | AI26: 44688 | AJ26: 44694 | AK26: 4
A27: 26 | B27: Earth | C27: Japan | D27: Shinrin-Yoku: The Art and Science of Forest Bathing | E27: 320 | F27: Audio | G27: N | H27: F | I27: Earth | J27: English | K27: English | L27: Library | M27: books-from-the-library | N27: 43195 | P27: Qing Li | Q27: =COUNTIF($P$2:$P27,$P27)=1 -> TRUE | R27: Japan | S27: Japan | U27: M | V27: Yes | W27: No | X27: No | Z27: Penguin Random House Canada | AD27: Penguin Life | AG27: 26 | AH27: 1 | AI27: 44711 | AJ27: 44722 | AK27: 4
A28: 27 | B28: Earth | C28: Canada | D28: Honour Earth Mother | E28: 171 | F28: Paper | G28: N | H28: B | I28: Earth | J28: English | K28: English | L28: Home | M28: earth-plants-etc | N28: 37818 | P28: Basil Johnston | Q28: =COUNTIF($P$2:$P28,$P28)=1 -> TRUE | R28: Canada | S28: Canada | T28: Anishinaabe | U28: M | V28: Yes | W28: No | X28: No | Z28: Kegedonce Press | AA28: Neyaashiinigmiing Reserve No. 27, Ontario | AB28: Canada | AG28: 27 | AH28: 1 | AI28: 44627 | AJ28: 44722 | AK28: 4
A29: 28 | B29: Science | C29: US | D29: Divergent Mind: Thriving in a World That Wasn't Designed for You | E29: 244 | F29: Audio | G29: N | H29: F | I29: Science | J29: English | K29: English | L29: Library | M29: books-from-the-library | N29: 43901 | P29: Jenara Nerenberg | Q29: =COUNTIF($P$2:$P29,$P29)=1 -> TRUE | R29: US | S29: US | U29: F | V29: No | W29: No | X29: Yes | Z29: HarperCollins Canada | AB29: Canada | AD29: HarperOne | AG29: 28 | AH29: 1 | AI29: 44722 | AJ29: 44723 | AK29: 3
A30: 29 | B30: Memoir | C30: US | D30: Ten Days in a Mad-House | E30: 92 | F30: Paper | G30: N | H30: B | I30: Memoir | J30: English | K30: English | L30: Library | M30: books-from-the-library | N30: 1887-01-01 | P30: Nellie Bly | Q30: =COUNTIF($P$2:$P30,$P30)=1 -> TRUE | R30: US | S30: US | U30: F | V30: No | W30: No | X30: No | Z30: Norman L. Munro | AA30: New York | AB30: US | AG30: 29 | AH30: 1 | AI30: 44723 | AJ30: 44725 | AK30: 4
A31: 30 | B31: Science | C31: US | D31: Zoology: Understanding the animal world | E31: 150 | F31: Audio | G31: N | H31: B | I31: Science | J31: English | K31: English | L31: Home | M31: audible | N31: 42736 | P31: Donald E. Moore III | Q31: =COUNTIF($P$2:$P31,$P31)=1 -> TRUE | R31: US | S31: US | U31: M | V31: No | W31: No | X31: No | Z31: The Great Courses | AG31: 30 | AH31: 1 | AI31: 44722 | AJ31: 44725 | AK31: 4
A32: 31 | B32: Lit Fic | C32: US | D32: The Silence | E32: 117 | F32: Audio | G32: F | H32: B | I32: Lit Fic | J32: English | K32: English | L32: Library | M32: books-from-the-library | N32: 44124 | P32: Don DeLillo | Q32: =COUNTIF($P$2:$P32,$P32)=1 -> TRUE | R32: US | S32: US | U32: M | V32: No | W32: No | X32: No | Z32: Simon & Schuster Canada | AD32: Scribner | AG32: 31 | AH32: 1 | AI32: 44725 | AJ32: 44725 | AK32: 3
A33: 32 | B33: Plays | C33: Ireland | D33: Malone Dies | E33: 127 | F33: Audio | G33: F | H33: B | I33: Plays | J33: English | K33: English | L33: Library | M33: books-from-the-library | N33: 18629 | P33: Samuel Beckett | Q33: =COUNTIF($P$2:$P33,$P33)=1 -> TRUE | R33: Ireland | S33: France | U33: M | V33: No | W33: No | X33: No | Z33: Grove Atlantic | AD33: Grove Press | AG33: 32 | AH33: 1 | AI33: 44725 | AJ33: 44727 | AK33: 4
A34: 33 | B34: Earth | C34: US | D34: Seeds of Hope: Wisdom and Wonder from the World of Plants | E34: 370 | F34: Audio | G34: N | H34: F | I34: Earth | J34: English | K34: English | L34: Library | M34: books-from-the-library | N34: 41391 | P34: Jane Goodall | Q34: =COUNTIF($P$2:$P34,$P34)=1 -> TRUE | R34: US | S34: US | U34: F | V34: No | W34: No | X34: No | Z34: Grand Central Publishing | AA34: New York | AB34: US | AG34: 33 | AH34: 1 | AI34: 44723 | AJ34: 44740 | AK34: 4
A35: 34 | B35: Science | C35: US | D35: Cultish: The Language of Fanaticism | E35: 320 | F35: Audio | G35: N | H35: F | I35: Science | J35: English | K35: English | L35: Library | M35: books-from-the-library | N35: 44362 | P35: Amanda Montell | Q35: =COUNTIF($P$2:$P35,$P35)=1 -> TRUE | R35: US | S35: US | U35: F | V35: No | W35: No | X35: No | Z35: HarperCollins Canada | AD35: Harper Wave | AG35: 34 | AH35: 1 | AI35: 44740 | AJ35: 44740 | AK35: 5
A36: 35 | B36: Memoir | C36: Australia | D36: Ten Steps to Nanette | E36: 400 | F36: Paper | G36: N | H36: F | I36: Memoir | J36: English | K36: English | L36: Home | M36: biography-memoir | N36: 44649 | P36: Hannah Gadsby | Q36: =COUNTIF($P$2:$P36,$P36)=1 -> TRUE | R36: Australia | S36: Australia | U36: F | V36: No | W36: Yes | X36: Yes | Z36: Allen & Unwin | AB36: Australia | AG36: 35 | AH36: 1 | AI36: 44652 | AJ36: 44741 | AK36: 5
A37: 36 | B37: Science | C37: US | D37: Proust and the Squid: The Story and Science of the Reading Brain | E37: 336 | F37: Audio | G37: N | H37: B | I37: Science | J37: English | K37: English | L37: Home | M37: science-mathematics | N37: 39686 | P37: Maryanne Wolf | Q37: =COUNTIF($P$2:$P37,$P37)=1 -> TRUE | R37: US | S37: US | U37: F | V37: No | W37: No | X37: No | Z37: HarperCollins Canada | AD37: Harper Perennial | AG37: 36 | AH37: 1 | AI37: 44741 | AJ37: 44742 | AK37: 4
A38: 37 | B38: Earth | C38: US | D38: Feasting Wild: In Search of the Last Untamed Food | E38: 336 | F38: Paper | G38: N | H38: F | I38: Earth | J38: English | K38: English | L38: Home | M38: earth-plants-etc | N38: 43952 | P38: Gina Rae La Cerva | Q38: =COUNTIF($P$2:$P38,$P38)=1 -> TRUE | R38: US | S38: US | U38: F | V38: Yes | W38: No | X38: No | Z38: Greystone Books | AG38: 37 | AH38: 1 | AI38: 44761 | AJ38: 44761 | AK38: 3
A39: 38 | B39: Science | C39: Canada | D39: The Power of Kindness: Why Empathy Is Essential in Everyday Life | E39: 320 | F39: Audio | G39: N | H39: B | I39: Science | J39: English | K39: English | L39: Home | M39: science-mathematics | N39: 39359 | P39: Brian Goldman | Q39: =COUNTIF($P$2:$P39,$P39)=1 -> TRUE | R39: Canada | S39: Canada | U39: M | V39: No | W39: No | X39: No | Z39: HarperCollins Canada | AD39: HarperCollins Publishers | AG39: 38 | AH39: 1 | AI39: 44742 | AJ39: 44768 | AK39: 3
A40: 39 | B40: Spirituality | C40: US | D40: Seventy-Eight Degrees of Wisdom: A Book of Tarot | E40: 356 | F40: Audio | G40: N | H40: B | I40: Spirituality | J40: English | K40: English | L40: Library | M40: books-from-the-library | N40: 35751 | P40: Rachel Pollack | Q40: =COUNTIF($P$2:$P40,$P40)=1 -> TRUE | R40: US | S40: US | U40: F | V40: No | W40: No | X40: No | Z40: HarperCollins Canada | AD40: HarperCollins Publishers | AG40: 39 | AH40: 1 | AI40: 44768 | AJ40: 44768 | AK40: 2
A41: 40 | B41: Spirituality | C41: US | D41: Plant Witchery: Discover the Sacred Language, Wisdom, and Magic of 200 Plants | E41: 368 | F41: Audio | G41: N | H41: B | I41: Spirituality | J41: English | K41: English | L41: Home | M41: theology-mythology | N41: 44131 | P41: Juliet Diaz | Q41: =COUNTIF($P$2:$P41,$P41)=1 -> TRUE | R41: US | S41: US | T41: Taino/Caribecu | U41: F | V41: Yes | W41: No | X41: Yes | Z41: Hay House | AG41: 40 | AH41: 1 | AI41: 44768 | AJ41: 44768 | AK41: 4
A42: 41 | B42: Earth | C42: UK | D42: The Well-Gardened Mind: The Restorative Power of Nature | E42: 352 | F42: Audio | G42: N | H42: B | I42: Earth | J42: English | K42: English | L42: Library | M42: books-from-the-library | N42: 44019 | P42: Sue Stuart-Smith | Q42: =COUNTIF($P$2:$P42,$P42)=1 -> TRUE | R42: UK | S42: UK | U42: F | V42: No | W42: No | X42: No | Z42: Simon & Schuster Canada | AD42: Scribner | AG42: 41 | AH42: 1 | AI42: 44768 | AJ42: 44769 | AK42: 4
A43: 42 | B43: Earth | C43: Canada | D43: Edible and Medicinal Plants of the Rockies | E43: 272 | F43: Paper | G43: N | H43: B | I43: Earth | J43: English | K43: English | L43: Home | M43: earth-plants-etc | N43: 42826 | P43: Linda J. Kershaw | Q43: =COUNTIF($P$2:$P43,$P43)=1 -> TRUE | R43: Canada | S43: Canada | U43: F | V43: No | W43: No | X43: No | Z43: Partners Publishing | AB43: Canada | AG43: 42 | AH43: 1 | AI43: 44717 | AJ43: 44771 | AK43: 4
A44: 43 | B44: YA | C44: UK | D44: Harry Potter à l'École des Sorciers | E44: 312 | F44: Audio | G44: F | H44: B | I44: YA | J44: English | K44: French | L44: Home | M44: french-fiction-children-ya | N44: 35607 | P44: J.K. Rowling | Q44: =COUNTIF($P$2:$P44,$P44)=1 -> TRUE | R44: UK | S44: UK | U44: F | V44: No | W44: No | X44: No | Z44: Gallimard Jeunesse | AG44: 43 | AH44: 1 | AI44: 44692 | AJ44: 44772 | AK44: 5
A45: 44 | B45: History | C45: US | D45: Fall of the Pagans and the Origins of Medieval Christianity | E45: 150 | F45: Audio | G45: N | H45: B | I45: History | J45: English | K45: English | L45: Home | M45: audible | N45: 40544 | P45: Kenneth W. Harl | Q45: =COUNTIF($P$2:$P45,$P45)=1 -> TRUE | R45: US | S45: US | U45: M | V45: No | W45: No | X45: No | Z45: The Great Courses | AG45: 44 | AH45: 1 | AI45: 44772 | AJ45: 44772 | AK45: 4
A46: 45 | B46: Science | C46: US | D46: The Bird Way: A New Look at How Birds Talk, Work, Play, Parent, and Think | E46: 368 | F46: Audio | G46: N | H46: F | I46: Science | J46: English | K46: English | L46: Library | M46: books-from-the-library | N46: 43956 | P46: Jennifer Ackerman | Q46: =COUNTIF($P$2:$P46,$P46)=1 -> TRUE | R46: US | S46: US | U46: F | V46: No | W46: No | X46: No | Z46: Penguin Random House Canada | AD46: Penguin Press | AG46: 45 | AH46: 1 | AI46: 44696 | AJ46: 44741 | AK46: 4
A47: 46 | B47: Earth | C47: Ireland | D47: Climate Justice: Hope, Resilience, and the Fight for a Sustainable Future | E47: 176 | F47: Audio | G47: N | H47: F | I47: Earth | J47: English | K47: English | L47: Home | M47: audible | N47: 43347 | P47: Mary Robinson | Q47: =COUNTIF($P$2:$P47,$P47)=1 -> TRUE | R47: Ireland | S47: Ireland | U47: F | V47: No | W47: No | X47: No | Z47: Bloomsbury Publishing | AA47: London | AB47: UK | AG47: 46 | AH47: 1 | AI47: 44773 | AJ47: 44773 | AK47: 5
A48: 47 | B48: Science | C48: Hungary | D48: When the Body Says No: The Cost of Hidden Stress | E48: 320 | F48: Audio | G48: N | H48: B | I48: Science | J48: English | K48: English | L48: Library | M48: books-from-the-library | N48: 38020 | P48: Gabor Maté | Q48: =COUNTIF($P$2:$P48,$P48)=1 -> TRUE | R48: Hungary | S48: Canada | U48: M | V48: No | W48: No | X48: No | Z48: Penguin Random House Canada | AD48: Vintage Canada | AG48: 47 | AH48: 1 | AI48: 44768 | AJ48: 44773 | AK48: 4
A49: 48 | B49: Earth | C49: Italy | D49: The Revolutionary Genius of Plants: A New Understanding of Plant Intelligence and Behavior | E49: 240 | F49: Audio | G49: N | H49: F | I49: Earth | J49: Italian | K49: English | L49: Home | M49: audible | N49: 43340 | P49: Stefano Mancuso | Q49: =COUNTIF($P$2:$P49,$P49)=1 -> TRUE | R49: Italy | S49: Italy | U49: M | V49: No | W49: No | X49: No | Z49: Simon & Schuster Canada | AD49: Atria Books | AG49: 48 | AH49: 1 | AI49: 44773 | AJ49: 44774 | AK49: 4
A50: 49 | B50: Earth | C50: US | D50: Second Nature: A Gardener's Education | E50: 258 | F50: Audio | G50: N | H50: B | I50: Earth | J50: English | K50: English | L50: Home | M50: earth-plants-etc | N50: 37845 | P50: Michael Pollan | Q50: =COUNTIF($P$2:$P50,$P50)=1 -> TRUE | R50: US | S50: US | U50: M | V50: No | W50: No | X50: No | Z50: Grove Atlantic | AD50: Grove Press | AG50: 49 | AH50: 1 | AI50: 44774 | AJ50: 44774 | AK50: 3
A51: 50 | B51: Earth | C51: Canada | D51: Wild Roses Are Worth It: Reimagining the Alberta Advantage | E51: 284 | F51: Paper | G51: N | H51: F | I51: Earth | J51: English | K51: English | L51: Home | M51: earth-plants-etc | N51: 44197 | P51: Kevin Van Tighem | Q51: =COUNTIF($P$2:$P51,$P51)=1 -> TRUE | R51: Canada | S51: Canada | U51: M | V51: No | W51: No | X51: No | Z51: Rocky Mountain Books | AB51: Canada | AG51: 50 | AH51: 1 | AI51: 44710 | AJ51: 44774 | AK51: 4
A52: 51 | B52: Science | C52: Canada | D52: The Wisdom of Your Body: Finding Healing, Wholeness, and Connection Through Embodied Living | E52: 288 | F52: Audio | G52: N | H52: F | I52: Science | J52: English | K52: English | L52: Library | M52: books-from-the-library | N52: 44481 | P52: Hillary L. McBride | Q52: =COUNTIF($P$2:$P52,$P52)=1 -> TRUE | R52: Canada | S52: Canada | U52: F | V52: No | W52: No | X52: No | Z52: Brazos Press | AG52: 51 | AH52: 1 | AI52: 44774 | AJ52: 44775 | AK52: 4
A53: 52 | B53: Earth | C53: Ireland | D53: Ireland's Trees: Myths, Legends and Folklore | E53: 231 | F53: Paper | G53: N | H53: B | I53: Earth | J53: English | K53: English | L53: Library | M53: earth-plants-etc | N53: 37622 | P53: Niall Mac Coitir | Q53: =COUNTIF($P$2:$P53,$P53)=1 -> TRUE | R53: Ireland | S53: Ireland | U53: M | V53: No | W53: No | X53: No | Z53: The Collins Press | AA53: Cork | AB53: Ireland | AG53: 52 | AH53: 1 | AI53: 44776 | AJ53: 44779 | AK53: 4
A54: 52 | B54: Lit Fic | C54: Canada | D54: Medicine Walk | E54: 256 | F54: Audio | G54: F | H54: B | I54: Lit Fic | J54: English | K54: English | L54: Home | M54: fiction-adult-2000-2014 | N54: 42066 | P54: Richard Wagamese | Q54: =COUNTIF($P$2:$P54,$P54)=1 -> TRUE | R54: Canada | S54: Canada | T54: Anishinaabe | U54: M | V54: Yes | W54: No | X54: No | Z54: Penguin Random House Canada | AD54: Emblem Editions | AG54: 53 | AH54: 1 | AI54: 44774 | AJ54: 44780 | AK54: 5
A55: 54 | B55: YA | C55: UK | D55: The Graveyard Book | E55: 327 | F55: Audio | G55: F | H55: B | I55: YA | J55: English | K55: English | L55: Home | M55: fiction-children-ya-fantasy-sci-fi | N55: 39721 | P55: Neil Gaiman | Q55: =COUNTIF($P$2:$P55,$P55)=1 -> TRUE | R55: UK | S55: US | U55: M | V55: No | W55: No | X55: No | Z55: HarperCollins Canada | AG55: 54 | AH55: 1 | AI55: 44780 | AJ55: 44781 | AK55: 5
A56: 55 | B56: Mystery | C56: Sweden | D56: La Fille qui rêvait d'un bidon d'essence et d'une allumette (Millennium #2) | E56: 653 | F56: Audio | G56: F | H56: B | I56: Mystery | J56: Swedish | K56: French | L56: Home | M56: audible | N56: 39013 | P56: Stieg Larsson | Q56: =COUNTIF($P$2:$P56,$P56)=1 -> TRUE | R56: Sweden | S56: Sweden | U56: M | V56: No | W56: No | X56: No | Z56: Éditions Actes Sud | AE56: 3 | AF56: Lena Grumbach | AG56: 55 | AH56: 1 | AI56: 44786 | AJ56: 44788 | AK56: 5
A57: 56 | B57: Mystery | C57: Sweden | D57: La Reine dans le palais des courants d'air (Millennium #3) | E57: 711 | F57: Audio | G57: F | H57: B | I57: Mystery | J57: Swedish | K57: French | L57: Home | M57: audible | N57: 39326 | P57: Stieg Larsson | Q57: =COUNTIF($P$2:$P57,$P57)=1 -> FALSE | R57: Sweden | S57: Sweden | U57: M | V57: No | W57: No | X57: No | Z57: Éditions Actes Sud | AE57: 3 | AF57: Lena Grumbach | AG57: 56 | AH57: 1 | AI57: 44788 | AJ57: 44791 | AK57: 5
A58: 57 | B58: Mystery | C58: Sweden | D58: Ce qui ne me tue pas (Millennium #4) | E58: 481 | F58: Audio | G58: F | H58: B | I58: Mystery | J58: Swedish | K58: French | L58: Home | M58: audible | N58: 42243 | P58: David Lagercrantz | Q58: =COUNTIF($P$2:$P58,$P58)=1 -> TRUE | R58: Sweden | S58: Sweden | U58: M | V58: No | W58: No | X58: No | Z58: Éditions Actes Sud | AE58: 4 | AF58: Hege Roel-Rousson | AG58: 57 | AH58: 1 | AI58: 44791 | AJ58: 44793 | AK58: 3
A59: 58 | B59: Mystery | C59: Sweden | D59: La fille qui rendait coup pour coup (Millennium #5) | E59: 448 | F59: Audio | G59: F | H59: B | I59: Mystery | J59: Swedish | K59: French | L59: Home | M59: audible | N59: 42985 | P59: David Lagercrantz | Q59: =COUNTIF($P$2:$P59,$P59)=1 -> FALSE | R59: Sweden | S59: Sweden | U59: M | V59: No | W59: No | X59: No | Z59: Éditions Actes Sud | AE59: 4 | AF59: Hege Roel-Rousson | AG59: 58 | AH59: 1 | AI59: 44793 | AJ59: 44796 | AK59: 4
A60: 59 | B60: Mystery | C60: Sweden | D60: La fille qui devait mourir (Millennium #6) | E60: 320 | F60: Audio | G60: F | H60: B | I60: Mystery | J60: Swedish | K60: French | L60: Home | M60: audible | N60: 43697 | P60: David Lagercrantz | Q60: =COUNTIF($P$2:$P60,$P60)=1 -> FALSE | R60: Sweden | S60: Sweden | U60: M | V60: No | W60: No | X60: No | Z60: Éditions Actes Sud | AE60: 4 | AF60: Hege Roel-Rousson | AG60: 59 | AH60: 1 | AI60: 44797 | AJ60: 44812 | AK60: 3
A61: 60 | B61: Mystery | C61: Sweden | D61: La Princesse des glaces (Fjällbacka #1) | E61: 381 | F61: Audio | G61: F | H61: B | I61: Mystery | J61: Swedish | K61: French | L61: Home | M61: audible | N61: 39566 | P61: Camilla Läckberg | Q61: =COUNTIF($P$2:$P61,$P61)=1 -> TRUE | R61: Sweden | S61: Sweden | U61: F | V61: No | W61: No | X61: No | Z61: Éditions Actes Sud | AE61: 3 | AF61: Lena Grumbach | AG61: 60 | AH61: 1 | AI61: 44812 | AJ61: 44815 | AK61: 4
A62: 61 | B62: Language | C62: US | D62: Learn Arabic - Absolute Beginner Lessons 1-25 | E62: 150 | F62: Audio | G62: F | H62: B | I62: Language | J62: Arabic | K62: Arabic | L62: Home | M62: audible | N62: 40514 | P62: InnovativeLanguage.com | Q62: =COUNTIF($P$2:$P62,$P62)=1 -> TRUE | R62: US | S62: US | U62: F | V62: Yes | W62: No | X62: No | Z62: InnovativeLanguage.com | AG62: 61 | AH62: 1 | AI62: 44555 | AJ62: 44816 | AK62: 4
A63: 62 | B63: Language | C63: US | D63: Learn Arabic: Word Power 101 | E63: 150 | F63: Audio | G63: F | H63: B | I63: Language | J63: Arabic | K63: Arabic | L63: Home | M63: audible | N63: 40984 | P63: InnovativeLanguage.com | Q63: =COUNTIF($P$2:$P63,$P63)=1 -> FALSE | R63: US | S63: US | U63: F | V63: Yes | W63: No | X63: No | Z63: InnovativeLanguage.com | AG63: 62 | AH63: 1 | AI63: 44783 | AJ63: 44816 | AK63: 3
A64: 63 | B64: Language | C64: UK | D64: Climate Change in Simple French: Learn French the Fun Way with Topics that Matter | E64: 214 | F64: Audio | G64: F | H64: F | I64: Language | J64: French | K64: French | L64: Home | M64: audible | N64: 44578 | P64: Olly Richards | Q64: =COUNTIF($P$2:$P64,$P64)=1 -> TRUE | R64: UK | S64: UK | U64: M | V64: No | W64: No | X64: No | Z64: Teach Yourself | AG64: 63 | AH64: 1 | AI64: 44815 | AJ64: 44819 | AK64: 3
A65: 64 | B65: Mystery | C65: Sweden | D65: Le Prédicateur (Fjällbacka #2) | E65: 374 | F65: Audio | G65: F | H65: B | I65: Mystery | J65: Swedish | K65: French | L65: Home | M65: audible | N65: 39876 | P65: Camilla Läckberg | Q65: =COUNTIF($P$2:$P65,$P65)=1 -> FALSE | R65: Sweden | S65: Sweden | U65: F | V65: No | W65: No | X65: No | Z65: Éditions Actes Sud | AE65: 3 | AF65: Lena Grumbach | AG65: 64 | AH65: 1 | AI65: 44815 | AJ65: 44819 | AK65: 4
A66: 65 | B66: Mystery | C66: Sweden | D66: Le Tailleur de pierre (Fjällbacka #3) | E66: 477 | F66: Audio | G66: F | H66: B | I66: Mystery | J66: Swedish | K66: French | L66: Home | M66: audible | N66: 40093 | P66: Camilla Läckberg | Q66: =COUNTIF($P$2:$P66,$P66)=1 -> FALSE | R66: Sweden | S66: Sweden | U66: F | V66: No | W66: No | X66: No | Z66: Éditions Actes Sud | AE66: 3 | AF66: Lena Grumbach | AG66: 65 | AH66: 1 | AI66: 44819 | AJ66: 44823 | AK66: 3
B69: VLOOKUP | D69: Find book title in the mystery genre: | H69: Reference notes:
D70: =VLOOKUP("Mystery", Table13Lookups[[LOOKUP1]:[Book Title]], 3, FALSE) -> The Strangers
H71: VLOOKUP(value, table, index_number, [range_lookup])
D72: First Canadian author read this year: | H72: XLOOKUP(lookup_value, lookup_array, return_array, [if_not_found], [match_mode], [search_mode])
D73: =VLOOKUP("Canada", C:R, 14, 0) -> Clayton Thomas-Muller
H74: First instance of authors for dropdown list:
D75: Date read of first French book of the year:
D76: =VLOOKUP("French", K:AJ, 26, 0) -> 44772 | H76: =IF(Q2=TRUE, P2, "") -> Clayton Thomas-Muller | I76: Amanda Montell
D77: =VLOOKUP("F"&"*", K:AJ, 26, 0) -> 44772 | H77: =IF(Q3=TRUE, P3, "") -> Robert M. Sapolsky | I77: Azar Nafisi
B78: Wildcard | D78: *2nd uses wild card for language starting with "F" | H78: =IF(Q4=TRUE, P4, "") -> Dina Gilio-Whitaker | I78: Basil Johnston
H79: =IF(Q5=TRUE, P5, "") -> Monica Gagliano | I79: Bernd Brunner
B80: IFNA | D80: Title not found in biography genre (N/A error message): | H80: =IF(Q6=TRUE, P6, "") -> Katherena Vermette | I80: Brian Goldman
D81: =_xlfn.IFNA(VLOOKUP(C81, A:C, 3, 0), "Title not found") -> Title not found | H81: =IF(Q7=TRUE, P7, "") -> H. Craig Heller | I81: Camilla Läckberg
H82: =IF(Q8=TRUE, P8, "") -> Yrsa Sigurðardóttir | I82: Catherine Kleier
B83: VLOOKUP & | D83: Format of the first book in the mystery genre (using MATCH): | H83: =IF(Q9=TRUE, P9, "") -> Bernd Brunner | I83: Clayton Thomas-Muller
B84: MATCH | D84: Format | E84: =VLOOKUP("Mystery",$B:$F,MATCH(D84,$B$1:$F$1,0),0) -> Audio | H84: =IF(Q10=TRUE, P10, "") -> Emma Marris | I84: David Lagercrantz
H85: =IF(Q11=TRUE, P11, "") -> Linda Kay Klein | I85: Dina Gilio-Whitaker
H86: =IF(Q12=TRUE, P12, "") -> Stephen Nowicki | I86: Don DeLillo
B87: Data Validation | D87: Select Author to find Country | E87: Birth Country | H87: =IF(Q13=TRUE, P13, "") -> Thich Nhat Hanh | I87: Donald E. Moore III
D88: Camilla Läckberg | E88: =VLOOKUP(D88, P:R, 3, 0) -> Sweden | H88: =IF(Q14=TRUE, P14, "") -> Gayle Tzemach Lemmon | I88: Emma Marris
H89: =IF(Q15=TRUE, P15, "") -> Gord Hill | I89: Eric R. Kandel
B90: XLOOKUP | D90: Find book title in the mystery genre: | H90: =IF(Q16=TRUE, P16, "") -> Mary Siisip Geniusz | I90: Gabor Maté
D91: =_xlfn.XLOOKUP("Mystery", I:I, D:D) -> The Strangers | H91: =IF(Q17=TRUE, P17, "") -> Kimi Cunningham Grant | I91: Gayle Tzemach Lemmon
D92: without needing to rearrange rows! | H92: =IF(Q18=TRUE, P18, "") -> Eric R. Kandel | I92: Gina Rae La Cerva
H93: =IF(Q19=TRUE, P19, "") -> Catherine Kleier | I93: Gord Hill
H94: =IF(Q20=TRUE, P20, "") -> Qiu Xiaolong | I94: H. Craig Heller
H95: =IF(Q21=TRUE, P21, "") -> Isabel Allende | I95: Hannah Gadsby
H96: =IF(Q22=TRUE, P22, "") -> Spencer Kelly | I96: Hillary L. McBride
H97: =IF(Q23=TRUE, P23, "") -> Indre Viskontas | I97: Indre Viskontas
H98: =IF(Q24=TRUE, P24, "") -> John R. Hale | I98: InnovativeLanguage.com
H99: =IF(Q25=TRUE, P25, "") -> Azar Nafisi | I99: Isabel Allende
H100: =IF(Q26=TRUE, P26, "") -> Jackie Calmes | I100: J.K. Rowling
H101: =IF(Q27=TRUE, P27, "") -> Qing Li | I101: Jackie Calmes
H102: =IF(Q28=TRUE, P28, "") -> Basil Johnston | I102: Jane Goodall
...

Sheet Author country with slicer
A1: Book Title | B1: Author | C1: Finished | D1: Birth Country | E1: First Instance | F1: All Birth Countries | G1: Current Country | H1: Country Details | I1: Original Language | J1: First Instance2 | K1: All Original Languages | L1: Language Read
A2: Life in the City of Dirty Water: A Memoir of Healing | B2: Clayton Thomas-Muller | C2: 44579 | D2: Canada | E2: =COUNTIF($D$2:$D2,$D2)=1 -> TRUE | F2: =IF('Author country with slicer'!E2=TRUE, 'Author country with slicer'!D2, "") -> Canada | G2: Canada | H2: Cree | I2: English | J2: =COUNTIF($I$2:$I2,$I2)=1 -> TRUE | K2: =IF('Author country with slicer'!J2=TRUE, 'Author country with slicer'!I2, "") -> English | L2: English
A3: Stress and Your Body | B3: Robert M. Sapolsky | C3: 44591 | D3: US | E3: =COUNTIF($D$2:$D3,$D3)=1 -> TRUE | F3: =IF('Author country with slicer'!E3=TRUE, 'Author country with slicer'!D3, "") -> US | G3: US | I3: English | J3: =COUNTIF($I$2:$I3,$I3)=1 -> FALSE | K3: =IF('Author country with slicer'!J3=TRUE, 'Author country with slicer'!I3, "") | L3: English
A4: As Long as Grass Grows: The Indigenous Fight for Environmental Justice, from Colonization to Standing Rock | B4: Dina Gilio-Whitaker | C4: 44595 | D4: US | E4: =COUNTIF($D$2:$D4,$D4)=1 -> FALSE | F4: =IF('Author country with slicer'!E4=TRUE, 'Author country with slicer'!D4, "") | G4: US | H4: Colville Confederated Tribes | I4: English | J4: =COUNTIF($I$2:$I4,$I4)=1 -> FALSE | K4: =IF('Author country with slicer'!J4=TRUE, 'Author country with slicer'!I4, "") | L4: English
A5: Thus Spoke the Plant: A Remarkable Journey of Groundbreaking Scientific Discoveries and Personal Encounters with Plants | B5: Monica Gagliano | C5: 44597 | D5: Australia | E5: =COUNTIF($D$2:$D5,$D5)=1 -> TRUE | F5: =IF('Author country with slicer'!E5=TRUE, 'Author country with slicer'!D5, "") -> Australia | G5: Australia | I5: English | J5: =COUNTIF($I$2:$I5,$I5)=1 -> FALSE | K5: =IF('Author country with slicer'!J5=TRUE, 'Author country with slicer'!I5, "") | L5: English
A6: The Strangers | B6: Katherena Vermette | C6: 44598 | D6: Canada | E6: =COUNTIF($D$2:$D6,$D6)=1 -> FALSE | F6: =IF('Author country with slicer'!E6=TRUE, 'Author country with slicer'!D6, "") | G6: Canada | H6: Métis | I6: English | J6: =COUNTIF($I$2:$I6,$I6)=1 -> FALSE | K6: =IF('Author country with slicer'!J6=TRUE, 'Author country with slicer'!I6, "") | L6: English
A7: Secrets of Sleep Science: From Dreams to Disorders | B7: H. Craig Heller | C7: 44602 | D7: US | E7: =COUNTIF($D$2:$D7,$D7)=1 -> FALSE | F7: =IF('Author country with slicer'!E7=TRUE, 'Author country with slicer'!D7, "") | G7: US | I7: English | J7: =COUNTIF($I$2:$I7,$I7)=1 -> FALSE | K7: =IF('Author country with slicer'!J7=TRUE, 'Author country with slicer'!I7, "") | L7: English
A8: Why Did You Lie? | B8: Yrsa Sigurðardóttir | C8: 44607 | D8: Iceland | E8: =COUNTIF($D$2:$D8,$D8)=1 -> TRUE | F8: =IF('Author country with slicer'!E8=TRUE, 'Author country with slicer'!D8, "") -> Iceland | G8: Iceland | I8: Icelandic | J8: =COUNTIF($I$2:$I8,$I8)=1 -> TRUE | K8: =IF('Author country with slicer'!J8=TRUE, 'Author country with slicer'!I8, "") -> Icelandic | L8: English
A9: Winterlust: Finding Beauty in the Fiercest Season | B9: Bernd Brunner | C9: 44611 | D9: Canada | E9: =COUNTIF($D$2:$D9,$D9)=1 -> FALSE | F9: =IF('Author country with slicer'!E9=TRUE, 'Author country with slicer'!D9, "") | G9: Canada | I9: English | J9: =COUNTIF($I$2:$I9,$I9)=1 -> FALSE | K9: =IF('Author country with slicer'!J9=TRUE, 'Author country with slicer'!I9, "") | L9: English
A10: Wild Souls: Freedom and Flourishing in the Non-Human World | B10: Emma Marris | C10: 44620 | D10: US | E10: =COUNTIF($D$2:$D10,$D10)=1 -> FALSE | F10: =IF('Author country with slicer'!E10=TRUE, 'Author country with slicer'!D10, "") | G10: US | I10: English | J10: =COUNTIF($I$2:$I10,$I10)=1 -> FALSE | K10: =IF('Author country with slicer'!J10=TRUE, 'Author country with slicer'!I10, "") | L10: English
A11: Pure: Inside the Evangelical Movement That Shamed a Generation of Young Women and How I Broke Free | B11: Linda Kay Klein | C11: 44617 | D11: US | E11: =COUNTIF($D$2:$D11,$D11)=1 -> FALSE | F11: =IF('Author country with slicer'!E11=TRUE, 'Author country with slicer'!D11, "") | G11: US | I11: English | J11: =COUNTIF($I$2:$I11,$I11)=1 -> FALSE | K11: =IF('Author country with slicer'!J11=TRUE, 'Author country with slicer'!I11, "") | L11: English
A12: Biology: The Science of Life | B12: Stephen Nowicki | C12: 44618 | D12: US | E12: =COUNTIF($D$2:$D12,$D12)=1 -> FALSE | F12: =IF('Author country with slicer'!E12=TRUE, 'Author country with slicer'!D12, "") | G12: US | I12: English | J12: =COUNTIF($I$2:$I12,$I12)=1 -> FALSE | K12: =IF('Author country with slicer'!J12=TRUE, 'Author country with slicer'!I12, "") | L12: English
A13: Zen and the Art of Saving the Planet | B13: Thich Nhat Hanh | C13: 44618 | D13: Vietnam | E13: =COUNTIF($D$2:$D13,$D13)=1 -> TRUE | F13: =IF('Author country with slicer'!E13=TRUE, 'Author country with slicer'!D13, "") -> Vietnam | G13: France | I13: Vietnamese | J13: =COUNTIF($I$2:$I13,$I13)=1 -> TRUE | K13: =IF('Author country with slicer'!J13=TRUE, 'Author country with slicer'!I13, "") -> Vietnamese | L13: English
A14: The Daughters of Kobani: A Story of Rebellion, Courage, and Justice | B14: Gayle Tzemach Lemmon | C14: 44619 | D14: US | E14: =COUNTIF($D$2:$D14,$D14)=1 -> FALSE | F14: =IF('Author country with slicer'!E14=TRUE, 'Author country with slicer'!D14, "") | G14: US | I14: English | J14: =COUNTIF($I$2:$I14,$I14)=1 -> FALSE | K14: =IF('Author country with slicer'!J14=TRUE, 'Author country with slicer'!I14, "") | L14: English
A15: The 500 Years of Indigenous Resistance Comic Book: Revised and Expanded | B15: Gord Hill | C15: 44620 | D15: Canada | E15: =COUNTIF($D$2:$D15,$D15)=1 -> FALSE | F15: =IF('Author country with slicer'!E15=TRUE, 'Author country with slicer'!D15, "") | G15: Canada | H15: Kwakwaka'wakw | I15: English | J15: =COUNTIF($I$2:$I15,$I15)=1 -> FALSE | K15: =IF('Author country with slicer'!J15=TRUE, 'Author country with slicer'!I15, "") | L15: English
A16: Plants Have So Much to Give Us, All We Have to Do Is Ask: Anishinaabe Botanical Teachings | B16: Mary Siisip Geniusz | C16: 44625 | D16: Canada | E16: =COUNTIF($D$2:$D16,$D16)=1 -> FALSE | F16: =IF('Author country with slicer'!E16=TRUE, 'Author country with slicer'!D16, "") | G16: Canada | H16: Anishinaabe | I16: English | J16: =COUNTIF($I$2:$I16,$I16)=1 -> FALSE | K16: =IF('Author country with slicer'!J16=TRUE, 'Author country with slicer'!I16, "") | L16: English
A17: These Silent Woods | B17: Kimi Cunningham Grant | C17: 44632 | D17: US | E17: =COUNTIF($D$2:$D17,$D17)=1 -> FALSE | F17: =IF('Author country with slicer'!E17=TRUE, 'Author country with slicer'!D17, "") | G17: US | I17: English | J17: =COUNTIF($I$2:$I17,$I17)=1 -> FALSE | K17: =IF('Author country with slicer'!J17=TRUE, 'Author country with slicer'!I17, "") | L17: English
A18: The Disordered Mind: What Unusual Brains Tell Us about Ourselves | B18: Eric R. Kandel | C18: 44634 | D18: US | E18: =COUNTIF($D$2:$D18,$D18)=1 -> FALSE | F18: =IF('Author country with slicer'!E18=TRUE, 'Author country with slicer'!D18, "") | G18: US | I18: English | J18: =COUNTIF($I$2:$I18,$I18)=1 -> FALSE | K18: =IF('Author country with slicer'!J18=TRUE, 'Author country with slicer'!I18, "") | L18: English
A19: Plant Science: An Introduction to Botany | B19: Catherine Kleier | C19: 44639 | D19: US | E19: =COUNTIF($D$2:$D19,$D19)=1 -> FALSE | F19: =IF('Author country with slicer'!E19=TRUE, 'Author country with slicer'!D19, "") | G19: US | I19: English | J19: =COUNTIF($I$2:$I19,$I19)=1 -> FALSE | K19: =IF('Author country with slicer'!J19=TRUE, 'Author country with slicer'!I19, "") | L19: English
A20: Death of a Red Heroine (Inspector Chen Cao #1) | B20: Qiu Xiaolong | C20: 44641 | D20: China | E20: =COUNTIF($D$2:$D20,$D20)=1 -> TRUE | F20: =IF('Author country with slicer'!E20=TRUE, 'Author country with slicer'!D20, "") -> China | G20: US | I20: English | J20: =COUNTIF($I$2:$I20,$I20)=1 -> FALSE | K20: =IF('Author country with slicer'!J20=TRUE, 'Author country with slicer'!I20, "") | L20: English
A21: Violeta | B21: Isabel Allende | C21: 44664 | D21: Chile | E21: =COUNTIF($D$2:$D21,$D21)=1 -> TRUE | F21: =IF('Author country with slicer'!E21=TRUE, 'Author country with slicer'!D21, "") -> Chile | G21: US | I21: Spanish | J21: =COUNTIF($I$2:$I21,$I21)=1 -> TRUE | K21: =IF('Author country with slicer'!J21=TRUE, 'Author country with slicer'!I21, "") -> Spanish | L21: English
A22: Language and the Mind | B22: Spencer Kelly | C22: 44666 | D22: US | E22: =COUNTIF($D$2:$D22,$D22)=1 -> FALSE | F22: =IF('Author country with slicer'!E22=TRUE, 'Author country with slicer'!D22, "") | G22: US | I22: English | J22: =COUNTIF($I$2:$I22,$I22)=1 -> FALSE | K22: =IF('Author country with slicer'!J22=TRUE, 'Author country with slicer'!I22, "") | L22: English
A23: How Digital Technology Shapes Us | B23: Indre Viskontas | C23: 44674 | D23: Canada | E23: =COUNTIF($D$2:$D23,$D23)=1 -> FALSE | F23: =IF('Author country with slicer'!E23=TRUE, 'Author country with slicer'!D23, "") | G23: US | I23: English | J23: =COUNTIF($I$2:$I23,$I23)=1 -> FALSE | K23: =IF('Author country with slicer'!J23=TRUE, 'Author country with slicer'!I23, "") | L23: English
A24: The Greek & Persian Wars | B24: John R. Hale | C24: 44679 | D24: UK | E24: =COUNTIF($D$2:$D24,$D24)=1 -> TRUE | F24: =IF('Author country with slicer'!E24=TRUE, 'Author country with slicer'!D24, "") -> UK | G24: UK | I24: English | J24: =COUNTIF($I$2:$I24,$I24)=1 -> FALSE | K24: =IF('Author country with slicer'!J24=TRUE, 'Author country with slicer'!I24, "") | L24: English
A25: Read Dangerously: The Subversive Power of Literature in Troubled Times | B25: Azar Nafisi | C25: 44688 | D25: Iran | E25: =COUNTIF($D$2:$D25,$D25)=1 -> TRUE | F25: =IF('Author country with slicer'!E25=TRUE, 'Author country with slicer'!D25, "") -> Iran | G25: US | I25: English | J25: =COUNTIF($I$2:$I25,$I25)=1 -> FALSE | K25: =IF('Author country with slicer'!J25=TRUE, 'Author country with slicer'!I25, "") | L25: English
A26: Dissent: The Radicalization of the Republican Party and Its Capture of the Court | B26: Jackie Calmes | C26: 44694 | D26: US | E26: =COUNTIF($D$2:$D26,$D26)=1 -> FALSE | F26: =IF('Author country with slicer'!E26=TRUE, 'Author country with slicer'!D26, "") | G26: US | I26: English | J26: =COUNTIF($I$2:$I26,$I26)=1 -> FALSE | K26: =IF('Author country with slicer'!J26=TRUE, 'Author country with slicer'!I26, "") | L26: English
A27: Shinrin-Yoku: The Art and Science of Forest Bathing | B27: Qing Li | C27: 44722 | D27: Japan | E27: =COUNTIF($D$2:$D27,$D27)=1 -> TRUE | F27: =IF('Author country with slicer'!E27=TRUE, 'Author country with slicer'!D27, "") -> Japan | G27: Japan | I27: English | J27: =COUNTIF($I$2:$I27,$I27)=1 -> FALSE | K27: =IF('Author country with slicer'!J27=TRUE, 'Author country with slicer'!I27, "") | L27: English
A28: Honour Earth Mother | B28: Basil Johnston | C28: 44722 | D28: Canada | E28: =COUNTIF($D$2:$D28,$D28)=1 -> FALSE | F28: =IF('Author country with slicer'!E28=TRUE, 'Author country with slicer'!D28, "") | G28: Canada | H28: Anishinaabe | I28: English | J28: =COUNTIF($I$2:$I28,$I28)=1 -> FALSE | K28: =IF('Author country with slicer'!J28=TRUE, 'Author country with slicer'!I28, "") | L28: English
A29: Divergent Mind: Thriving in a World That Wasn't Designed for You | B29: Jenara Nerenberg | C29: 44723 | D29: US | E29: =COUNTIF($D$2:$D29,$D29)=1 -> FALSE | F29: =IF('Author country with slicer'!E29=TRUE, 'Author country with slicer'!D29, "") | G29: US | I29: English | J29: =COUNTIF($I$2:$I29,$I29)=1 -> FALSE | K29: =IF('Author country with slicer'!J29=TRUE, 'Author country with slicer'!I29, "") | L29: English
A30: Ten Days in a Mad-House | B30: Nellie Bly | C30: 44725 | D30: US | E30: =COUNTIF($D$2:$D30,$D30)=1 -> FALSE | F30: =IF('Author country with slicer'!E30=TRUE, 'Author country with slicer'!D30, "") | G30: US | I30: English | J30: =COUNTIF($I$2:$I30,$I30)=1 -> FALSE | K30: =IF('Author country with slicer'!J30=TRUE, 'Author country with slicer'!I30, "") | L30: English
A31: Zoology: Understanding the animal world | B31: Donald E. Moore III | C31: 44725 | D31: US | E31: =COUNTIF($D$2:$D31,$D31)=1 -> FALSE | F31: =IF('Author country with slicer'!E31=TRUE, 'Author country with slicer'!D31, "") | G31: US | I31: English | J31: =COUNTIF($I$2:$I31,$I31)=1 -> FALSE | K31: =IF('Author country with slicer'!J31=TRUE, 'Author country with slicer'!I31, "") | L31: English
A32: The Silence | B32: Don DeLillo | C32: 44725 | D32: US | E32: =COUNTIF($D$2:$D32,$D32)=1 -> FALSE | F32: =IF('Author country with slicer'!E32=TRUE, 'Author country with slicer'!D32, "") | G32: US | I32: English | J32: =COUNTIF($I$2:$I32,$I32)=1 -> FALSE | K32: =IF('Author country with slicer'!J32=TRUE, 'Author country with slicer'!I32, "") | L32: English
A33: Malone Dies | B33: Samuel Beckett | C33: 44727 | D33: Ireland | E33: =COUNTIF($D$2:$D33,$D33)=1 -> TRUE | F33: =IF('Author country with slicer'!E33=TRUE, 'Author country with slicer'!D33, "") -> Ireland | G33: France | I33: English | J33: =COUNTIF($I$2:$I33,$I33)=1 -> FALSE | K33: =IF('Author country with slicer'!J33=TRUE, 'Author country with slicer'!I33, "") | L33: English
A34: Seeds of Hope: Wisdom and Wonder from the World of Plants | B34: Jane Goodall | C34: 44740 | D34: US | E34: =COUNTIF($D$2:$D34,$D34)=1 -> FALSE | F34: =IF('Author country with slicer'!E34=TRUE, 'Author country with slicer'!D34, "") | G34: US | I34: English | J34: =COUNTIF($I$2:$I34,$I34)=1 -> FALSE | K34: =IF('Author country with slicer'!J34=TRUE, 'Author country with slicer'!I34, "") | L34: English
A35: Cultish: The Language of Fanaticism | B35: Amanda Montell | C35: 44740 | D35: US | E35: =COUNTIF($D$2:$D35,$D35)=1 -> FALSE | F35: =IF('Author country with slicer'!E35=TRUE, 'Author country with slicer'!D35, "") | G35: US | I35: English | J35: =COUNTIF($I$2:$I35,$I35)=1 -> FALSE | K35: =IF('Author country with slicer'!J35=TRUE, 'Author country with slicer'!I35, "") | L35: English
A36: Ten Steps to Nanette | B36: Hannah Gadsby | C36: 44741 | D36: Australia | E36: =COUNTIF($D$2:$D36,$D36)=1 -> FALSE | F36: =IF('Author country with slicer'!E36=TRUE, 'Author country with slicer'!D36, "") | G36: Australia | I36: English | J36: =COUNTIF($I$2:$I36,$I36)=1 -> FALSE | K36: =IF('Author country with slicer'!J36=TRUE, 'Author country with slicer'!I36, "") | L36: English
A37: Proust and the Squid: The Story and Science of the Reading Brain | B37: Maryanne Wolf | C37: 44742 | D37: US | E37: =COUNTIF($D$2:$D37,$D37)=1 -> FALSE | F37: =IF('Author country with slicer'!E37=TRUE, 'Author country with slicer'!D37, "") | G37: US | I37: English | J37: =COUNTIF($I$2:$I37,$I37)=1 -> FALSE | K37: =IF('Author country with slicer'!J37=TRUE, 'Author country with slicer'!I37, "") | L37: English
A38: Feasting Wild: In Search of the Last Untamed Food | B38: Gina Rae La Cerva | C38: 44761 | D38: US | E38: =COUNTIF($D$2:$D38,$D38)=1 -> FALSE | F38: =IF('Author country with slicer'!E38=TRUE, 'Author country with slicer'!D38, "") | G38: US | I38: English | J38: =COUNTIF($I$2:$I38,$I38)=1 -> FALSE | K38: =IF('Author country with slicer'!J38=TRUE, 'Author country with slicer'!I38, "") | L38: English
A39: The Power of Kindness: Why Empathy Is Essential in Everyday Life | B39: Brian Goldman | C39: 44768 | D39: Canada | E39: =COUNTIF($D$2:$D39,$D39)=1 -> FALSE | F39: =IF('Author country with slicer'!E39=TRUE, 'Author country with slicer'!D39, "") | G39: Canada | I39: English | J39: =COUNTIF($I$2:$I39,$I39)=1 -> FALSE | K39: =IF('Author country with slicer'!J39=TRUE, 'Author country with slicer'!I39, "") | L39: English
A40: Seventy-Eight Degrees of Wisdom: A Book of Tarot | B40: Rachel Pollack | C40: 44768 | D40: US | E40: =COUNTIF($D$2:$D40,$D40)=1 -> FALSE | F40: =IF('Author country with slicer'!E40=TRUE, 'Author country with slicer'!D40, "") | G40: US | I40: English | J40: =COUNTIF($I$2:$I40,$I40)=1 -> FALSE | K40: =IF('Author country with slicer'!J40=TRUE, 'Author country with slicer'!I40, "") | L40: English
A41: Plant Witchery: Discover the Sacred Language, Wisdom, and Magic of 200 Plants | B41: Juliet Diaz | C41: 44768 | D41: US | E41: =COUNTIF($D$2:$D41,$D41)=1 -> FALSE | F41: =IF('Author country with slicer'!E41=TRUE, 'Author country with slicer'!D41, "") | G41: US | H41: Taino/Caribecu | I41: English | J41: =COUNTIF($I$2:$I41,$I41)=1 -> FALSE | K41: =IF('Author country with slicer'!J41=TRUE, 'Author country with slicer'!I41, "") | L41: English
A42: The Well-Gardened Mind: The Restorative Power of Nature | B42: Sue Stuart-Smith | C42: 44769 | D42: UK | E42: =COUNTIF($D$2:$D42,$D42)=1 -> FALSE | F42: =IF('Author country with slicer'!E42=TRUE, 'Author country with slicer'!D42, "") | G42: UK | I42: English | J42: =COUNTIF($I$2:$I42,$I42)=1 -> FALSE | K42: =IF('Author country with slicer'!J42=TRUE, 'Author country with slicer'!I42, "") | L42: English
A43: Edible and Medicinal Plants of the Rockies | B43: Linda J. Kershaw | C43: 44771 | D43: Canada | E43: =COUNTIF($D$2:$D43,$D43)=1 -> FALSE | F43: =IF('Author country with slicer'!E43=TRUE, 'Author country with slicer'!D43, "") | G43: Canada | I43: English | J43: =COUNTIF($I$2:$I43,$I43)=1 -> FALSE | K43: =IF('Author country with slicer'!J43=TRUE, 'Author country with slicer'!I43, "") | L43: English
A44: Harry Potter à l'École des Sorciers | B44: J.K. Rowling | C44: 44772 | D44: UK | E44: =COUNTIF($D$2:$D44,$D44)=1 -> FALSE | F44: =IF('Author country with slicer'!E44=TRUE, 'Author country with slicer'!D44, "") | G44: UK | I44: English | J44: =COUNTIF($I$2:$I44,$I44)=1 -> FALSE | K44: =IF('Author country with slicer'!J44=TRUE, 'Author country with slicer'!I44, "") | L44: French
A45: Fall of the Pagans and the Origins of Medieval Christianity | B45: Kenneth W. Harl | C45: 44772 | D45: US | E45: =COUNTIF($D$2:$D45,$D45)=1 -> FALSE | F45: =IF('Author country with slicer'!E45=TRUE, 'Author country with slicer'!D45, "") | G45: US | I45: English | J45: =COUNTIF($I$2:$I45,$I45)=1 -> FALSE | K45: =IF('Author country with slicer'!J45=TRUE, 'Author country with slicer'!I45, "") | L45: English
A46: The Bird Way: A New Look at How Birds Talk, Work, Play, Parent, and Think | B46: Jennifer Ackerman | C46: 44741 | D46: US | E46: =COUNTIF($D$2:$D46,$D46)=1 -> FALSE | F46: =IF('Author country with slicer'!E46=TRUE, 'Author country with slicer'!D46, "") | G46: US | I46: English | J46: =COUNTIF($I$2:$I46,$I46)=1 -> FALSE | K46: =IF('Author country with slicer'!J46=TRUE, 'Author country with slicer'!I46, "") | L46: English
A47: Climate Justice: Hope, Resilience, and the Fight for a Sustainable Future | B47: Mary Robinson | C47: 44773 | D47: Ireland | E47: =COUNTIF($D$2:$D47,$D47)=1 -> FALSE | F47: =IF('Author country with slicer'!E47=TRUE, 'Author country with slicer'!D47, "") | G47: Ireland | I47: English | J47: =COUNTIF($I$2:$I47,$I47)=1 -> FALSE | K47: =IF('Author country with slicer'!J47=TRUE, 'Author country with slicer'!I47, "") | L47: English
A48: When the Body Says No: The Cost of Hidden Stress | B48: Gabor Maté | C48: 44773 | D48: Hungary | E48: =COUNTIF($D$2:$D48,$D48)=1 -> TRUE | F48: =IF('Author country with slicer'!E48=TRUE, 'Author country with slicer'!D48, "") -> Hungary | G48: Canada | I48: English | J48: =COUNTIF($I$2:$I48,$I48)=1 -> FALSE | K48: =IF('Author country with slicer'!J48=TRUE, 'Author country with slicer'!I48, "") | L48: English
A49: The Revolutionary Genius of Plants: A New Understanding of Plant Intelligence and Behavior | B49: Stefano Mancuso | C49: 44774 | D49: Italy | E49: =COUNTIF($D$2:$D49,$D49)=1 -> TRUE | F49: =IF('Author country with slicer'!E49=TRUE, 'Author country with slicer'!D49, "") -> Italy | G49: Italy | I49: Italian | J49: =COUNTIF($I$2:$I49,$I49)=1 -> TRUE | K49: =IF('Author country with slicer'!J49=TRUE, 'Author country with slicer'!I49, "") -> Italian | L49: English
A50: Second Nature: A Gardener's Education | B50: Michael Pollan | C50: 44774 | D50: US | E50: =COUNTIF($D$2:$D50,$D50)=1 -> FALSE | F50: =IF('Author country with slicer'!E50=TRUE, 'Author country with slicer'!D50, "") | G50: US | I50: English | J50: =COUNTIF($I$2:$I50,$I50)=1 -> FALSE | K50: =IF('Author country with slicer'!J50=TRUE, 'Author country with slicer'!I50, "") | L50: English
A51: Wild Roses Are Worth It: Reimagining the Alberta Advantage | B51: Kevin Van Tighem | C51: 44774 | D51: Canada | E51: =COUNTIF($D$2:$D51,$D51)=1 -> FALSE | F51: =IF('Author country with slicer'!E51=TRUE, 'Author country with slicer'!D51, "") | G51: Canada | I51: English | J51: =COUNTIF($I$2:$I51,$I51)=1 -> FALSE | K51: =IF('Author country with slicer'!J51=TRUE, 'Author country with slicer'!I51, "") | L51: English
A52: The Wisdom of Your Body: Finding Healing, Wholeness, and Connection Through Embodied Living | B52: Hillary L. McBride | C52: 44775 | D52: Canada | E52: =COUNTIF($D$2:$D52,$D52)=1 -> FALSE | F52: =IF('Author country with slicer'!E52=TRUE, 'Author country with slicer'!D52, "") | G52: Canada | I52: English | J52: =COUNTIF($I$2:$I52,$I52)=1 -> FALSE | K52: =IF('Author country with slicer'!J52=TRUE, 'Author country with slicer'!I52, "") | L52: English
A53: Ireland's Trees: Myths, Legends and Folklore | B53: Niall Mac Coitir | C53: 44779 | D53: Ireland | E53: =COUNTIF($D$2:$D53,$D53)=1 -> FALSE | F53: =IF('Author country with slicer'!E53=TRUE, 'Author country with slicer'!D53, "") | G53: Ireland | I53: English | J53: =COUNTIF($I$2:$I53,$I53)=1 -> FALSE | K53: =IF('Author country with slicer'!J53=TRUE, 'Author country with slicer'!I53, "") | L53: English
A54: Medicine Walk | B54: Richard Wagamese | C54: 44780 | D54: Canada | E54: =COUNTIF($D$2:$D54,$D54)=1 -> FALSE | F54: =IF('Author country with slicer'!E54=TRUE, 'Author country with slicer'!D54, "") | G54: Canada | H54: Anishinaabe | I54: English | J54: =COUNTIF($I$2:$I54,$I54)=1 -> FALSE | K54: =IF('Author country with slicer'!J54=TRUE, 'Author country with slicer'!I54, "") | L54: English
A55: The Graveyard Book | B55: Neil Gaiman | C55: 44781 | D55: UK | E55: =COUNTIF($D$2:$D55,$D55)=1 -> FALSE | F55: =IF('Author country with slicer'!E55=TRUE, 'Author country with slicer'!D55, "") | G55: US | I55: English | J55: =COUNTIF($I$2:$I55,$I55)=1 -> FALSE | K55: =IF('Author country with slicer'!J55=TRUE, 'Author country with slicer'!I55, "") | L55: English
A56: La Fille qui rêvait d'un bidon d'essence et d'une allumette (Millennium #2) | B56: Stieg Larsson | C56: 44788 | D56: Sweden | E56: =COUNTIF($D$2:$D56,$D56)=1 -> TRUE | F56: =IF('Author country with slicer'!E56=TRUE, 'Author country with slicer'!D56, "") -> Sweden | G56: Sweden | I56: Swedish | J56: =COUNTIF($I$2:$I56,$I56)=1 -> TRUE | K56: =IF('Author country with slicer'!J56=TRUE, 'Author country with slicer'!I56, "") -> Swedish | L56: French
A57: La Reine dans le palais des courants d'air (Millennium #3) | B57: Stieg Larsson | C57: 44791 | D57: Sweden | E57: =COUNTIF($D$2:$D57,$D57)=1 -> FALSE | F57: =IF('Author country with slicer'!E57=TRUE, 'Author country with slicer'!D57, "") | G57: Sweden | I57: Swedish | J57: =COUNTIF($I$2:$I57,$I57)=1 -> FALSE | K57: =IF('Author country with slicer'!J57=TRUE, 'Author country with slicer'!I57, "") | L57: French
A58: Ce qui ne me tue pas (Millennium #4) | B58: David Lagercrantz | C58: 44793 | D58: Sweden | E58: =COUNTIF($D$2:$D58,$D58)=1 -> FALSE | F58: =IF('Author country with slicer'!E58=TRUE, 'Author country with slicer'!D58, "") | G58: Sweden | I58: Swedish | J58: =COUNTIF($I$2:$I58,$I58)=1 -> FALSE | K58: =IF('Author country with slicer'!J58=TRUE, 'Author country with slicer'!I58, "") | L58: French
A59: La fille qui rendait coup pour coup (Millennium #5) | B59: David Lagercrantz | C59: 44796 | D59: Sweden | E59: =COUNTIF($D$2:$D59,$D59)=1 -> FALSE | F59: =IF('Author country with slicer'!E59=TRUE, 'Author country with slicer'!D59, "") | G59: Sweden | I59: Swedish | J59: =COUNTIF($I$2:$I59,$I59)=1 -> FALSE | K59: =IF('Author country with slicer'!J59=TRUE, 'Author country with slicer'!I59, "") | L59: French
A60: La fille qui devait mourir (Millennium #6) | B60: David Lagercrantz | C60: 44812 | D60: Sweden | E60: =COUNTIF($D$2:$D60,$D60)=1 -> FALSE | F60: =IF('Author country with slicer'!E60=TRUE, 'Author country with slicer'!D60, "") | G60: Sweden | I60: Swedish | J60: =COUNTIF($I$2:$I60,$I60)=1 -> FALSE | K60: =IF('Author country with slicer'!J60=TRUE, 'Author country with slicer'!I60, "") | L60: French
A61: La Princesse des glaces (Fjällbacka #1) | B61: Camilla Läckberg | C61: 44815 | D61: Sweden | E61: =COUNTIF($D$2:$D61,$D61)=1 -> FALSE | F61: =IF('Author country with slicer'!E61=TRUE, 'Author country with slicer'!D61, "") | G61: Sweden | I61: Swedish | J61: =COUNTIF($I$2:$I61,$I61)=1 -> FALSE | K61: =IF('Author country with slicer'!J61=TRUE, 'Author country with slicer'!I61, "") | L61: French
A62: Learn Arabic - Absolute Beginner Lessons 1-25 | B62: InnovativeLanguage.com | C62: 44816 | D62: US | E62: =COUNTIF($D$2:$D62,$D62)=1 -> FALSE | F62: =IF('Author country with slicer'!E62=TRUE, 'Author country with slicer'!D62, "") | G62: US | I62: Arabic | J62: =COUNTIF($I$2:$I62,$I62)=1 -> TRUE | K62: =IF('Author country with slicer'!J62=TRUE, 'Author country with slicer'!I62, "") -> Arabic | L62: Arabic
A63: Learn Arabic: Word Power 101 | B63: InnovativeLanguage.com | C63: 44816 | D63: US | E63: =COUNTIF($D$2:$D63,$D63)=1 -> FALSE | F63: =IF('Author country with slicer'!E63=TRUE, 'Author country with slicer'!D63, "") | G63: US | I63: Arabic | J63: =COUNTIF($I$2:$I63,$I63)=1 -> FALSE | K63: =IF('Author country with slicer'!J63=TRUE, 'Author country with slicer'!I63, "") | L63: Arabic
A64: Climate Change in Simple French: Learn French the Fun Way with Topics that Matter | B64: Olly Richards | C64: 44819 | D64: UK | E64: =COUNTIF($D$2:$D64,$D64)=1 -> FALSE | F64: =IF('Author country with slicer'!E64=TRUE, 'Author country with slicer'!D64, "") | G64: UK | I64: French | J64: =COUNTIF($I$2:$I64,$I64)=1 -> TRUE | K64: =IF('Author country with slicer'!J64=TRUE, 'Author country with slicer'!I64, "") -> French | L64: French
A65: Le Prédicateur (Fjällbacka #2) | B65: Camilla Läckberg | C65: 44819 | D65: Sweden | E65: =COUNTIF($D$2:$D65,$D65)=1 -> FALSE | F65: =IF('Author country with slicer'!E65=TRUE, 'Author country with slicer'!D65, "") | G65: Sweden | I65: Swedish | J65: =COUNTIF($I$2:$I65,$I65)=1 -> FALSE | K65: =IF('Author country with slicer'!J65=TRUE, 'Author country with slicer'!I65, "") | L65: French
A66: Le Tailleur de pierre (Fjällbacka #3) | B66: Camilla Läckberg | C66: 44823 | D66: Sweden | E66: =COUNTIF($D$2:$D66,$D66)=1 -> FALSE | F66: =IF('Author country with slicer'!E66=TRUE, 'Author country with slicer'!D66, "") | G66: Sweden | I66: Swedish | J66: =COUNTIF($I$2:$I66,$I66)=1 -> FALSE | K66: =IF('Author country with slicer'!J66=TRUE, 'Author country with slicer'!I66, "") | L66: French
... A74: The Undesired | B74: Yrsa Sigurðardóttir | C74: 44206 | D74: Iceland | E74: =COUNTIF($D$2:$D74,$D74)=1 -> FALSE | F74: =IF('Author country with slicer'!E74=TRUE, 'Author country with slicer'!D74, "") | G74: Iceland | I74: Icelandic | J74: =COUNTIF($I$2:$I74,$I74)=1 -> FALSE | K74: =IF('Author country with slicer'!J74=TRUE, 'Author country with slicer'!I74, "") | L74: English
A75: The Art of Leaving | B75: Ayelet Tsabari | C75: 44206 | D75: Israel | E75: =COUNTIF($D$2:$D75,$D75)=1 -> TRUE | F75: =IF('Author country with slicer'!E75=TRUE, 'Author country with slicer'!D75, "") -> Israel | G75: Canada | H75: Yemeni Jewish | I75: English | J75: =COUNTIF($I$2:$I75,$I75)=1 -> FALSE | K75: =IF('Author country with slicer'!J75=TRUE, 'Author country with slicer'!I75, "") | L75: English
A76: Flight Against Time | B76: Emily Nesrallah | C76: 44208 | D76: Lebanon | E76: =COUNTIF($D$2:$D76,$D76)=1 -> TRUE | F76: =IF('Author country with slicer'!E76=TRUE, 'Author country with slicer'!D76, "") -> Lebanon | G76: Lebanon | I76: Arabic | J76: =COUNTIF($I$2:$I76,$I76)=1 -> FALSE | K76: =IF('Author country with slicer'!J76=TRUE, 'Author country with slicer'!I76, "") | L76: English
A77: Last Rituals (Þóra Guðmundsdóttir #1) | B77: Yrsa Sigurðardóttir | C77: 44213 | D77: Iceland | E77: =COUNTIF($D$2:$D77,$D77)=1 -> FALSE | F77: =IF('Author country with slicer'!E77=TRUE, 'Author country with slicer'!D77, "") | G77: Iceland | I77: Icelandic | J77: =COUNTIF($I$2:$I77,$I77)=1 -> FALSE | K77: =IF('Author country with slicer'!J77=TRUE, 'Author country with slicer'!I77, "") | L77: English
A78: My Soul to Take (Þóra Guðmundsdóttir #2) | B78: Yrsa Sigurðardóttir | C78: 44216 | D78: Iceland | E78: =COUNTIF($D$2:$D78,$D78)=1 -> FALSE | F78: =IF('Author country with slicer'!E78=TRUE, 'Author country with slicer'!D78, "") | G78: Iceland | I78: Icelandic | J78: =COUNTIF($I$2:$I78,$I78)=1 -> FALSE | K78: =IF('Author country with slicer'!J78=TRUE, 'Author country with slicer'!I78, "") | L78: English
A79: The Ghost Bride | B79: Yangsze Choo | C79: 44219 | D79: Malaysia | E79: =COUNTIF($D$2:$D79,$D79)=1 -> TRUE | F79: =IF('Author country with slicer'!E79=TRUE, 'Author country with slicer'!D79, "") -> Malaysia | G79: US | H79: Malaysian Chinese | I79: English | J79: =COUNTIF($I$2:$I79,$I79)=1 -> FALSE | K79: =IF('Author country with slicer'!J79=TRUE, 'Author country with slicer'!I79, "") | L79: English
A80: The Day is Dark (Þóra Guðmundsdóttir #4) | B80: Yrsa Sigurðardóttir | C80: 44228 | D80: Iceland | E80: =COUNTIF($D$2:$D80,$D80)=1 -> FALSE | F80: =IF('Author country with slicer'!E80=TRUE, 'Author country with slicer'!D80, "") | G80: Iceland | I80: Icelandic | J80: =COUNTIF($I$2:$I80,$I80)=1 -> FALSE | K80: =IF('Author country with slicer'!J80=TRUE, 'Author country with slicer'!I80, "") | L80: English
A81: Someone to Watch Over Me (Þóra Guðmundsdóttir #5) | B81: Yrsa Sigurðardóttir | C81: 44234 | D81: Iceland | E81: =COUNTIF($D$2:$D81,$D81)=1 -> FALSE | F81: =IF('Author country with slicer'!E81=TRUE, 'Author country with slicer'!D81, "") | G81: Iceland | I81: Icelandic | J81: =COUNTIF($I$2:$I81,$I81)=1 -> FALSE | K81: =IF('Author country with slicer'!J81=TRUE, 'Author country with slicer'!I81, "") | L81: English
A82: The Northwest is Our Mother: The Story of Louis Riel's People, the Métis Nation | B82: Jean Teillet | C82: 44240 | D82: Canada | E82: =COUNTIF($D$2:$D82,$D82)=1 -> FALSE | F82: =IF('Author country with slicer'!E82=TRUE, 'Author country with slicer'!D82, "") | G82: Canada | H82: Métis | I82: English | J82: =COUNTIF($I$2:$I82,$I82)=1 -> FALSE | K82: =IF('Author country with slicer'!J82=TRUE, 'Author country with slicer'!I82, "") | L82: English
A83: Aphrodite: A Memoir of the Sense | B83: Isabel Allende | C83: 44240 | D83: Chile | E83: =COUNTIF($D$2:$D83,$D83)=1 -> FALSE | F83: =IF('Author country with slicer'!E83=TRUE, 'Author country with slicer'!D83, "") | G83: US | I83: Spanish | J83: =COUNTIF($I$2:$I83,$I83)=1 -> FALSE | K83: =IF('Author country with slicer'!J83=TRUE, 'Author country with slicer'!I83, "") | L83: English
A84: Em | B84: Kim Thúy | C84: 44240 | D84: Vietnam | E84: =COUNTIF($D$2:$D84,$D84)=1 -> FALSE | F84: =IF('Author country with slicer'!E84=TRUE, 'Author country with slicer'!D84, "") | G84: Canada | I84: French | J84: =COUNTIF($I$2:$I84,$I84)=1 -> FALSE | K84: =IF('Author country with slicer'!J84=TRUE, 'Author country with slicer'!I84, "") | L84: French
A85: The Reason I Jump | B85: Naoki Higashida | C85: 44241 | D85: Japan | E85: =COUNTIF($D$2:$D85,$D85)=1 -> FALSE | F85: =IF('Author country with slicer'!E85=TRUE, 'Author country with slicer'!D85, "") | G85: Japan | H85: Autistic | I85: Japanese | J85: =COUNTIF($I$2:$I85,$I85)=1 -> TRUE | K85: =IF('Author country with slicer'!J85=TRUE, 'Author country with slicer'!I85, "") -> Japanese | L85: English
A86: Conditional Citizens | B86: Laila Lalami | C86: 44245 | D86: Morocco | E86: =COUNTIF($D$2:$D86,$D86)=1 -> FALSE | F86: =IF('Author country with slicer'!E86=TRUE, 'Author country with slicer'!D86, "") | G86: US | I86: English | J86: =COUNTIF($I$2:$I86,$I86)=1 -> FALSE | K86: =IF('Author country with slicer'!J86=TRUE, 'Author country with slicer'!I86, "") | L86: English
A87: La mystérieuse bibliothécaire (Mademoiselle C #2) | B87: Dominique Demers | C87: 44246 | D87: Canada | E87: =COUNTIF($D$2:$D87,$D87)=1 -> FALSE | F87: =IF('Author country with slicer'!E87=TRUE, 'Author country with slicer'!D87, "") | G87: Canada | I87: French | J87: =COUNTIF($I$2:$I87,$I87)=1 -> FALSE | K87: =IF('Author country with slicer'!J87=TRUE, 'Author country with slicer'!I87, "") | L87: French
A88: Le racisme expliqué à ma fille | B88: Tahar Ben Jelloun | C88: 44246 | D88: Morocco | E88: =COUNTIF($D$2:$D88,$D88)=1 -> FALSE | F88: =IF('Author country with slicer'!E88=TRUE, 'Author country with slicer'!D88, "") | G88: France | I88: French | J88: =COUNTIF($I$2:$I88,$I88)=1 -> FALSE | K88: =IF('Author country with slicer'!J88=TRUE, 'Author country with slicer'!I88, "") | L88: English
A89: Braiding Sweetgrass: Indigenous Wisdom, Scientific Knowledge, and the Teachings of Plants | B89: Robin Wall Kimmerer | C89: 44256 | D89: US | E89: =COUNTIF($D$2:$D89,$D89)=1 -> FALSE | F89: =IF('Author country with slicer'!E89=TRUE, 'Author country with slicer'!D89, "") | G89: US | H89: Potawatomi | I89: English | J89: =COUNTIF($I$2:$I89,$I89)=1 -> FALSE | K89: =IF('Author country with slicer'!J89=TRUE, 'Author country with slicer'!I89, "") | L89: English
A90: The Republic of Imagination: America in Three Books | B90: Azar Nafisi | C90: 44248 | D90: Iran | E90: =COUNTIF($D$2:$D90,$D90)=1 -> FALSE | F90: =IF('Author country with slicer'!E90=TRUE, 'Author country with slicer'!D90, "") | G90: US | I90: English | J90: =COUNTIF($I$2:$I90,$I90)=1 -> FALSE | K90: =IF('Author country with slicer'!J90=TRUE, 'Author country with slicer'!I90, "") | L90: English
A91: Warchild (Monstress, Vol. 5) | B91: Marjorie M. Liu, Sana Takeda | C91: 44248 | D91: US | E91: =COUNTIF($D$2:$D91,$D91)=1 -> FALSE | F91: =IF('Author country with slicer'!E91=TRUE, 'Author country with slicer'!D91, "") | G91: US | I91: English | J91: =COUNTIF($I$2:$I91,$I91)=1 -> FALSE | K91: =IF('Author country with slicer'!J91=TRUE, 'Author country with slicer'!I91, "") | L91: English
A92: I Am A Girl from Africa | B92: Elizabeth Nyamayaro | C92: 44261 | D92: Zimbabwe | E92: =COUNTIF($D$2:$D92,$D92)=1 -> TRUE | F92: =IF('Author country with slicer'!E92=TRUE, 'Author country with slicer'!D92, "") -> Zimbabwe | G92: US | I92: English | J92: =COUNTIF($I$2:$I92,$I92)=1 -> FALSE | K92: =IF('Author country with slicer'!J92=TRUE, 'Author country with slicer'!I92, "") | L92: English
A93: Amal Unbound | B93: Aisha Saeed | C93: 44263 | D93: US | E93: =COUNTIF($D$2:$D93,$D93)=1 -> FALSE | F93: =IF('Author country with slicer'!E93=TRUE, 'Author country with slicer'!D93, "") | G93: US | I93: English | J93: =COUNTIF($I$2:$I93,$I93)=1 -> FALSE | K93: =IF('Author country with slicer'!J93=TRUE, 'Author country with slicer'!I93, "") | L93: English
A94: Burial Rites | B94: Hannah Kent | C94: 44263 | D94: Australia | E94: =COUNTIF($D$2:$D94,$D94)=1 -> FALSE | F94: =IF('Author country with slicer'!E94=TRUE, 'Author country with slicer'!D94, "") | G94: Australia | I94: English | J94: =COUNTIF($I$2:$I94,$I94)=1 -> FALSE | K94: =IF('Author country with slicer'!J94=TRUE, 'Author country with slicer'!I94, "") | L94: English
A95: The Soul of a Woman | B95: Isabel Allende | C95: 44264 | D95: Chile | E95: =COUNTIF($D$2:$D95,$D95)=1 -> FALSE | F95: =IF('Author country with slicer'!E95=TRUE, 'Author country with slicer'!D95, "") | G95: US | I95: Spanish | J95: =COUNTIF($I$2:$I95,$I95)=1 -> FALSE | K95: =IF('Author country with slicer'!J95=TRUE, 'Author country with slicer'!I95, "") | L95: English
A96: Three Daughters of Eve | B96: Elif Shafak | C96: 44265 | D96: Turkey | E96: =COUNTIF($D$2:$D96,$D96)=1 -> TRUE | F96: =IF('Author country with slicer'!E96=TRUE, 'Author country with slicer'!D96, "") -> Turkey | G96: Turkey | I96: Turkish | J96: =COUNTIF($I$2:$I96,$I96)=1 -> TRUE | K96: =IF('Author country with slicer'!J96=TRUE, 'Author country with slicer'!I96, "") -> Turkish | L96: English
A97: The Shadow of the Crescent Moon | B97: Fatima Bhutto | C97: 44266 | D97: Pakistan | E97: =COUNTIF($D$2:$D97,$D97)=1 -> TRUE | F97: =IF('Author country with slicer'!E97=TRUE, 'Author country with slicer'!D97, "") -> Pakistan | G97: Pakistan | I97: English | J97: =COUNTIF($I$2:$I97,$I97)=1 -> FALSE | K97: =IF('Author country with slicer'!J97=TRUE, 'Author country with slicer'!I97, "") | L97: English
A98: Daughters of Smoke and Fire | B98: Ava Homa | C98: 44271 | D98: Iraq | E98: =COUNTIF($D$2:$D98,$D98)=1 -> TRUE | F98: =IF('Author country with slicer'!E98=TRUE, 'Author country with slicer'!D98, "") -> Iraq | G98: Canada | H98: Kurdish | I98: English | J98: =COUNTIF($I$2:$I98,$I98)=1 -> FALSE | K98: =IF('Author country with slicer'!J98=TRUE, 'Author country with slicer'!I98, "") | L98: English
A99: Ashes to Dust (Þóra Guðmundsdóttir #3) | B99: Yrsa Sigurðardóttir | C99: 44278 | D99: Iceland | E99: =COUNTIF($D$2:$D99,$D99)=1 -> FALSE | F99: =IF('Author country with slicer'!E99=TRUE, 'Author country with slicer'!D99, "") | G99: Iceland | I99: Icelandic | J99: =COUNTIF($I$2:$I99,$I99)=1 -> FALSE | K99: =IF('Author country with slicer'!J99=TRUE, 'Author country with slicer'!I99, "") | L99: English
A100: La respiration essentielle | B100: Thich Nhat Hanh | C100: 44279 | D100: Vietnam | E100: =COUNTIF($D$2:$D100,$D100)=1 -> FALSE | F100: =IF('Author country with slicer'!E100=TRUE, 'Author country with slicer'!D100, "") | G100: France | I100: French | J100: =COUNTIF($I$2:$I100,$I100)=1 -> FALSE | K100: =IF('Author country with slicer'!J100=TRUE, 'Author country with slicer'!I100, "") | L100: English
A101: Women Without Men: A Novel of Modern Iran | B101: Shahrnush Parsipur | C101: 44283 | D101: Iran | E101: =COUNTIF($D$2:$D101,$D101)=1 -> FALSE | F101: =IF('Author country with slicer'!E101=TRUE, 'Author country with slicer'!D101, "") | G101: US | I101: Farsi | J101: =COUNTIF($I$2:$I101,$I101)=1 -> TRUE | K101: =IF('Author country with slicer'!J101=TRUE, 'Author country with slicer'!I101, "") -> Farsi | L101: English
A102: Nerdy, Shy, and Socially Inappropriate | B102: Cynthia Kim | C102: 44295 | D102: US | E102: =COUNTIF($D$2:$D102,$D102)=1 -> FALSE | F102: =IF('Author country with slicer'!E102=TRUE, 'Author country with slicer'!D102, "") | G102: US | H102: Autistic | I102: English | J102: =COUNTIF($I$2:$I102,$I102)=1 -> FALSE | K102: =IF('Author country with slicer'!J102=TRUE, 'Author country with slicer'!I102, "") | L102: English
A103: The Black Friend: On Being a Better White Person | B103: Frederick Joseph | C103: 44284 | D103: Canada | E103: =COUNTIF($D$2:$D103,$D103)=1 -> FALSE | F103: =IF('Author country with slicer'!E103=TRUE, 'Author country with slicer'!D103, "") | G103: US | I103: English | J103: =COUNTIF($I$2:$I103,$I103)=1 -> FALSE | K103: =IF('Author country with slicer'!J103=TRUE, 'Author country with slicer'!I103, "") | L103: English
A104: The Hakawati | B104: Rabih Alameddine | C104: 44285 | D104: Lebanon | E104: =COUNTIF($D$2:$D104,$D104)=1 -> FALSE | F104: =IF('Author country with slicer'!E104=TRUE, 'Author country with slicer'!D104, "") | G104: US | I104: Arabic | J104: =COUNTIF($I$2:$I104,$I104)=1 -> FALSE | K104: =IF('Author country with slicer'!J104=TRUE, 'Author country with slicer'!I104, "") | L104: English
A105: Frankenstein in Baghdad | B105: Ahmed Saadawi | C105: 44315 | D105: Iraq | E105: =COUNTIF($D$2:$D105,$D105)=1 -> FALSE | F105: =IF('Author country with slicer'!E105=TRUE, 'Author country with slicer'!D105, "") | G105: Iraq | I105: Arabic | J105: =COUNTIF($I$2:$I105,$I105)=1 -> FALSE | K105: =IF('Author country with slicer'!J105=TRUE, 'Author country with slicer'!I105, "") | L105: English
A106: Arabic Stories for Language Learners: Traditional Middle Eastern Tales In Arabic and English | B106: Hezi Brosh | C106: 44334 | D106: Israel | E106: =COUNTIF($D$2:$D106,$D106)=1 -> FALSE | F106: =IF('Author country with slicer'!E106=TRUE, 'Author country with slicer'!D106, "") | G106: US | I106: Arabic | J106: =COUNTIF($I$2:$I106,$I106)=1 -> FALSE | K106: =IF('Author country with slicer'!J106=TRUE, 'Author country with slicer'!I106, "") | L106: Arabic
A107: Fall Down Seven Times, Get Up Eight | B107: Naoki Higashida | C107: 44334 | D107: Japan | E107: =COUNTIF($D$2:$D107,$D107)=1 -> FALSE | F107: =IF('Author country with slicer'!E107=TRUE, 'Author country with slicer'!D107, "") | G107: Japan | H107: Autistic | I107: Japanese | J107: =COUNTIF($I$2:$I107,$I107)=1 -> FALSE | K107: =IF('Author country with slicer'!J107=TRUE, 'Author country with slicer'!I107, "") | L107: English
...

Sheet Map
A1: Countries | B1: Continents
A2: #VALUE! | B2: Asia
A3: #VALUE! | B3: Africa
A4: #VALUE! | B4: Caribbean
A5: #VALUE! | B5: South America
A6: #VALUE! | B6: Oceania
A7: #VALUE! | B7: Europe
A8: #VALUE! | B8: Europe
A9: #VALUE! | B9: Africa
A10: #VALUE! | B10: North America
A11: #VALUE! | B11: South America
A12: #VALUE! | B12: Asia
A13: #VALUE! | B13: Africa
... A75: #VALUE! | B75: Africa

Sheet pre-2016
A1: book_id | B1: Title | C1: Pages | D1: Format | E1: Fiction/ Nonfic | F1: Front/ Back | G1: Original Language | H1: Language Read | I1: Source | J1: Bookshelf | K1: Pub Date | L1: author_id | M1: Author | N1: Birth Country | O1: Current Country | P1: Country Details | Q1: Gender | R1: BIPOC | S1: LGBT | T1: Disabled/ Neurodiverse | U1: pub_id | V1: Publisher | W1: City | X1: Country | Y1: imprint_id | Z1: Imprint | AA1: translator_id | AB1: Translator | AC1: readbook_id | AD1: Read | AE1: Started | AF1: Finished | AG1: Rating
AF2: <2016
AF3: <2016
AF4: <2016
AF5: <2016
