Workbook

Sheet Prep
A1: COMPANY: | E1: PRODUCTION:
A2: FOR WEEK OF: | B2: 44626
A3: ARTIST: | H3: NOTES: | I3: "For week of" date, use format 2022-12-27
I4: Use 0:00-23:59 format for start and end times
A5: Date | B5: Activity | C5: Start | D5: End | E5: Work Hours | F5: Code | G5: 1/2 Hours | H5: Amount | I5: ASMs - use Monday as prep week start date
A6: Monday | E6: =IF(OR(C6=0,D6=0),,HOUR(D6-C6+"24:00")+CEILING(MINUTE(D6-C6+"24:00")/60,0.25)) -> 0 | H6: =IF(F6="D", G6*Rates!$C$3, IF(F6="W", G6*Rates!$C$4, IF(F6="M", G6*Rates!$C$5, IF(F6="N", G6*Rates!$C$6, 0)))) -> 0 | I6: Only fill in the details (company, week of) for prep week and only fill in the white columns (activity, start, end, code, 1/2 hrs).
A7: =B2 -> 44626 | E7: =IF(OR(C7=0,D7=0),,HOUR(D7-C7+"24:00")+CEILING(MINUTE(D7-C7+"24:00")/60,0.25)) -> 0 | H7: =IF(F7="D", G7*Rates!$C$3, IF(F7="W", G7*Rates!$C$4, IF(F7="M", G7*Rates!$C$5, IF(F7="N", G7*Rates!$C$6, 0)))) -> 0 | I7: Everything else should be auto-calculated, including the OT at the end
A8: Total hours | E8: =IF(OR(C8=0,D8=0),,HOUR(D8-C8+"24:00")+CEILING(MINUTE(D8-C8+"24:00")/60,0.25)) -> 0 | H8: =IF(F8="D", G8*Rates!$C$3, IF(F8="W", G8*Rates!$C$4, IF(F8="M", G8*Rates!$C$5, IF(F8="N", G8*Rates!$C$6, 0)))) -> 0
A9: =SUM(E6:E13) -> 0 | E9: =IF(OR(C9=0,D9=0),,HOUR(D9-C9+"24:00")+CEILING(MINUTE(D9-C9+"24:00")/60,0.25)) -> 0 | H9: =IF(F9="D", G9*Rates!$C$3, IF(F9="W", G9*Rates!$C$4, IF(F9="M", G9*Rates!$C$5, IF(F9="N", G9*Rates!$C$6, 0)))) -> 0
E10: =IF(OR(C10=0,D10=0),,HOUR(D10-C10+"24:00")+CEILING(MINUTE(D10-C10+"24:00")/60,0.25)) -> 0 | H10: =IF(F10="D", G10*Rates!$C$3, IF(F10="W", G10*Rates!$C$4, IF(F10="M", G10*Rates!$C$5, IF(F10="N", G10*Rates!$C$6, 0)))) -> 0
E11: =IF(OR(C11=0,D11=0),,HOUR(D11-C11+"24:00")+CEILING(MINUTE(D11-C11+"24:00")/60,0.25)) -> 0 | H11: =IF(F11="D", G11*Rates!$C$3, IF(F11="W", G11*Rates!$C$4, IF(F11="M", G11*Rates!$C$5, IF(F11="N", G11*Rates!$C$6, 0)))) -> 0
E12: =IF(OR(C12=0,D12=0),,HOUR(D12-C12+"24:00")+CEILING(MINUTE(D12-C12+"24:00")/60,0.25)) -> 0 | H12: =IF(F12="D", G12*Rates!$C$3, IF(F12="W", G12*Rates!$C$4, IF(F12="M", G12*Rates!$C$5, IF(F12="N", G12*Rates!$C$6, 0)))) -> 0
E13: =IF(OR(C13=0,D13=0),,HOUR(D13-C13+"24:00")+CEILING(MINUTE(D13-C13+"24:00")/60,0.25)) -> 0 | H13: =IF(F13="D", G13*Rates!$C$3, IF(F13="W", G13*Rates!$C$4, IF(F13="M", G13*Rates!$C$5, IF(F13="N", G13*Rates!$C$6, 0)))) -> 0
A14: Tuesday | E14: =IF(OR(C14=0,D14=0),,HOUR(D14-C14+"24:00")+CEILING(MINUTE(D14-C14+"24:00")/60,0.25)) -> 0 | H14: =IF(F14="D", G14*Rates!$C$3, IF(F14="W", G14*Rates!$C$4, IF(F14="M", G14*Rates!$C$5, IF(F14="N", G14*Rates!$C$6, 0)))) -> 0
A15: =IF(A7="","",A7+1) -> 44627 | E15: =IF(OR(C15=0,D15=0),,HOUR(D15-C15+"24:00")+CEILING(MINUTE(D15-C15+"24:00")/60,0.25)) -> 0 | H15: =IF(F15="D", G15*Rates!$C$3, IF(F15="W", G15*Rates!$C$4, IF(F15="M", G15*Rates!$C$5, IF(F15="N", G15*Rates!$C$6, 0)))) -> 0
A16: Total hours | E16: =IF(OR(C16=0,D16=0),,HOUR(D16-C16+"24:00")+CEILING(MINUTE(D16-C16+"24:00")/60,0.25)) -> 0 | H16: =IF(F16="D", G16*Rates!$C$3, IF(F16="W", G16*Rates!$C$4, IF(F16="M", G16*Rates!$C$5, IF(F16="N", G16*Rates!$C$6, 0)))) -> 0
A17: =SUM(E14:E21) -> 0 | E17: =IF(OR(C17=0,D17=0),,HOUR(D17-C17+"24:00")+CEILING(MINUTE(D17-C17+"24:00")/60,0.25)) -> 0 | H17: =IF(F17="D", G17*Rates!$C$3, IF(F17="W", G17*Rates!$C$4, IF(F17="M", G17*Rates!$C$5, IF(F17="N", G17*Rates!$C$6, 0)))) -> 0
E18: =IF(OR(C18=0,D18=0),,HOUR(D18-C18+"24:00")+CEILING(MINUTE(D18-C18+"24:00")/60,0.25)) -> 0 | H18: =IF(F18="D", G18*Rates!$C$3, IF(F18="W", G18*Rates!$C$4, IF(F18="M", G18*Rates!$C$5, IF(F18="N", G18*Rates!$C$6, 0)))) -> 0
E19: =IF(OR(C19=0,D19=0),,HOUR(D19-C19+"24:00")+CEILING(MINUTE(D19-C19+"24:00")/60,0.25)) -> 0 | H19: =IF(F19="D", G19*Rates!$C$3, IF(F19="W", G19*Rates!$C$4, IF(F19="M", G19*Rates!$C$5, IF(F19="N", G19*Rates!$C$6, 0)))) -> 0
E20: =IF(OR(C20=0,D20=0),,HOUR(D20-C20+"24:00")+CEILING(MINUTE(D20-C20+"24:00")/60,0.25)) -> 0 | H20: =IF(F20="D", G20*Rates!$C$3, IF(F20="W", G20*Rates!$C$4, IF(F20="M", G20*Rates!$C$5, IF(F20="N", G20*Rates!$C$6, 0)))) -> 0
E21: =IF(OR(C21=0,D21=0),,HOUR(D21-C21+"24:00")+CEILING(MINUTE(D21-C21+"24:00")/60,0.25)) -> 0 | H21: =IF(F21="D", G21*Rates!$C$3, IF(F21="W", G21*Rates!$C$4, IF(F21="M", G21*Rates!$C$5, IF(F21="N", G21*Rates!$C$6, 0)))) -> 0
A22: Wednesday | E22: =IF(OR(C22=0,D22=0),,HOUR(D22-C22+"24:00")+CEILING(MINUTE(D22-C22+"24:00")/60,0.25)) -> 0 | H22: =IF(F22="D", G22*Rates!$C$3, IF(F22="W", G22*Rates!$C$4, IF(F22="M", G22*Rates!$C$5, IF(F22="N", G22*Rates!$C$6, 0)))) -> 0
A23: =IF(A15="","",A15+1) -> 44628 | E23: =IF(OR(C23=0,D23=0),,HOUR(D23-C23+"24:00")+CEILING(MINUTE(D23-C23+"24:00")/60,0.25)) -> 0 | H23: =IF(F23="D", G23*Rates!$C$3, IF(F23="W", G23*Rates!$C$4, IF(F23="M", G23*Rates!$C$5, IF(F23="N", G23*Rates!$C$6, 0)))) -> 0
A24: Total hours | E24: =IF(OR(C24=0,D24=0),,HOUR(D24-C24+"24:00")+CEILING(MINUTE(D24-C24+"24:00")/60,0.25)) -> 0 | H24: =IF(F24="D", G24*Rates!$C$3, IF(F24="W", G24*Rates!$C$4, IF(F24="M", G24*Rates!$C$5, IF(F24="N", G24*Rates!$C$6, 0)))) -> 0
A25: =SUM(E22:E29) -> 0 | E25: =IF(OR(C25=0,D25=0),,HOUR(D25-C25+"24:00")+CEILING(MINUTE(D25-C25+"24:00")/60,0.25)) -> 0 | H25: =IF(F25="D", G25*Rates!$C$3, IF(F25="W", G25*Rates!$C$4, IF(F25="M", G25*Rates!$C$5, IF(F25="N", G25*Rates!$C$6, 0)))) -> 0
E26: =IF(OR(C26=0,D26=0),,HOUR(D26-C26+"24:00")+CEILING(MINUTE(D26-C26+"24:00")/60,0.25)) -> 0 | H26: =IF(F26="D", G26*Rates!$C$3, IF(F26="W", G26*Rates!$C$4, IF(F26="M", G26*Rates!$C$5, IF(F26="N", G26*Rates!$C$6, 0)))) -> 0
E27: =IF(OR(C27=0,D27=0),,HOUR(D27-C27+"24:00")+CEILING(MINUTE(D27-C27+"24:00")/60,0.25)) -> 0 | H27: =IF(F27="D", G27*Rates!$C$3, IF(F27="W", G27*Rates!$C$4, IF(F27="M", G27*Rates!$C$5, IF(F27="N", G27*Rates!$C$6, 0)))) -> 0
E28: =IF(OR(C28=0,D28=0),,HOUR(D28-C28+"24:00")+CEILING(MINUTE(D28-C28+"24:00")/60,0.25)) -> 0 | H28: =IF(F28="D", G28*Rates!$C$3, IF(F28="W", G28*Rates!$C$4, IF(F28="M", G28*Rates!$C$5, IF(F28="N", G28*Rates!$C$6, 0)))) -> 0
E29: =IF(OR(C29=0,D29=0),,HOUR(D29-C29+"24:00")+CEILING(MINUTE(D29-C29+"24:00")/60,0.25)) -> 0 | H29: =IF(F29="D", G29*Rates!$C$3, IF(F29="W", G29*Rates!$C$4, IF(F29="M", G29*Rates!$C$5, IF(F29="N", G29*Rates!$C$6, 0)))) -> 0
A30: Thursday | E30: =IF(OR(C30=0,D30=0),,HOUR(D30-C30+"24:00")+CEILING(MINUTE(D30-C30+"24:00")/60,0.25)) -> 0 | H30: =IF(F30="D", G30*Rates!$C$3, IF(F30="W", G30*Rates!$C$4, IF(F30="M", G30*Rates!$C$5, IF(F30="N", G30*Rates!$C$6, 0)))) -> 0
A31: =IF(A23="","",A23+1) -> 44629 | E31: =IF(OR(C31=0,D31=0),,HOUR(D31-C31+"24:00")+CEILING(MINUTE(D31-C31+"24:00")/60,0.25)) -> 0 | H31: =IF(F31="D", G31*Rates!$C$3, IF(F31="W", G31*Rates!$C$4, IF(F31="M", G31*Rates!$C$5, IF(F31="N", G31*Rates!$C$6, 0)))) -> 0
A32: Total hours | E32: =IF(OR(C32=0,D32=0),,HOUR(D32-C32+"24:00")+CEILING(MINUTE(D32-C32+"24:00")/60,0.25)) -> 0 | H32: =IF(F32="D", G32*Rates!$C$3, IF(F32="W", G32*Rates!$C$4, IF(F32="M", G32*Rates!$C$5, IF(F32="N", G32*Rates!$C$6, 0)))) -> 0
A33: =SUM(E30:E37) -> 0 | E33: =IF(OR(C33=0,D33=0),,HOUR(D33-C33+"24:00")+CEILING(MINUTE(D33-C33+"24:00")/60,0.25)) -> 0 | H33: =IF(F33="D", G33*Rates!$C$3, IF(F33="W", G33*Rates!$C$4, IF(F33="M", G33*Rates!$C$5, IF(F33="N", G33*Rates!$C$6, 0)))) -> 0
E34: =IF(OR(C34=0,D34=0),,HOUR(D34-C34+"24:00")+CEILING(MINUTE(D34-C34+"24:00")/60,0.25)) -> 0 | H34: =IF(F34="D", G34*Rates!$C$3, IF(F34="W", G34*Rates!$C$4, IF(F34="M", G34*Rates!$C$5, IF(F34="N", G34*Rates!$C$6, 0)))) -> 0
E35: =IF(OR(C35=0,D35=0),,HOUR(D35-C35+"24:00")+CEILING(MINUTE(D35-C35+"24:00")/60,0.25)) -> 0 | H35: =IF(F35="D", G35*Rates!$C$3, IF(F35="W", G35*Rates!$C$4, IF(F35="M", G35*Rates!$C$5, IF(F35="N", G35*Rates!$C$6, 0)))) -> 0
E36: =IF(OR(C36=0,D36=0),,HOUR(D36-C36+"24:00")+CEILING(MINUTE(D36-C36+"24:00")/60,0.25)) -> 0 | H36: =IF(F36="D", G36*Rates!$C$3, IF(F36="W", G36*Rates!$C$4, IF(F36="M", G36*Rates!$C$5, IF(F36="N", G36*Rates!$C$6, 0)))) -> 0
E37: =IF(OR(C37=0,D37=0),,HOUR(D37-C37+"24:00")+CEILING(MINUTE(D37-C37+"24:00")/60,0.25)) -> 0 | H37: =IF(F37="D", G37*Rates!$C$3, IF(F37="W", G37*Rates!$C$4, IF(F37="M", G37*Rates!$C$5, IF(F37="N", G37*Rates!$C$6, 0)))) -> 0
A38: Friday | E38: =IF(OR(C38=0,D38=0),,HOUR(D38-C38+"24:00")+CEILING(MINUTE(D38-C38+"24:00")/60,0.25)) -> 0 | H38: =IF(F38="D", G38*Rates!$C$3, IF(F38="W", G38*Rates!$C$4, IF(F38="M", G38*Rates!$C$5, IF(F38="N", G38*Rates!$C$6, 0)))) -> 0
A39: =IF(A31="","",A31+1) -> 44630 | E39: =IF(OR(C39=0,D39=0),,HOUR(D39-C39+"24:00")+CEILING(MINUTE(D39-C39+"24:00")/60,0.25)) -> 0 | H39: =IF(F39="D", G39*Rates!$C$3, IF(F39="W", G39*Rates!$C$4, IF(F39="M", G39*Rates!$C$5, IF(F39="N", G39*Rates!$C$6, 0)))) -> 0
A40: Total hours | E40: =IF(OR(C40=0,D40=0),,HOUR(D40-C40+"24:00")+CEILING(MINUTE(D40-C40+"24:00")/60,0.25)) -> 0 | H40: =IF(F40="D", G40*Rates!$C$3, IF(F40="W", G40*Rates!$C$4, IF(F40="M", G40*Rates!$C$5, IF(F40="N", G40*Rates!$C$6, 0)))) -> 0
...

Sheet Week 1
A1: COMPANY: | B1: =Prep!B1 -> 0 | D1: PRODUCTION: | F1: =Prep!F1 -> 0
A2: FOR WEEK OF: | B2: =Prep!B2+7 -> 44633
A3: ARTIST: | B3: =Prep!B3 -> 0
A5: Date | B5: Activity | C5: Start | D5: End | E5: Work Hours | F5: Code | G5: 1/2 Hours | H5: Amount
A6: Monday | E6: =IF(OR(C6=0,D6=0),,HOUR(D6-C6+"24:00")+CEILING(MINUTE(D6-C6+"24:00")/60,0.25)) -> 0 | H6: =IF(F6="D", G6*Rates!$C$3, IF(F6="W", G6*Rates!$C$4, IF(F6="M", G6*Rates!$C$5, IF(F6="N", G6*Rates!$C$6, 0)))) -> 0
A7: =B2 -> 44633 | E7: =IF(OR(C7=0,D7=0),,HOUR(D7-C7+"24:00")+CEILING(MINUTE(D7-C7+"24:00")/60,0.25)) -> 0 | H7: =IF(F7="D", G7*Rates!$C$3, IF(F7="W", G7*Rates!$C$4, IF(F7="M", G7*Rates!$C$5, IF(F7="N", G7*Rates!$C$6, 0)))) -> 0
A8: Total hours | E8: =IF(OR(C8=0,D8=0),,HOUR(D8-C8+"24:00")+CEILING(MINUTE(D8-C8+"24:00")/60,0.25)) -> 0 | H8: =IF(F8="D", G8*Rates!$C$3, IF(F8="W", G8*Rates!$C$4, IF(F8="M", G8*Rates!$C$5, IF(F8="N", G8*Rates!$C$6, 0)))) -> 0
A9: =SUM(E6:E13) -> 0 | E9: =IF(OR(C9=0,D9=0),,HOUR(D9-C9+"24:00")+CEILING(MINUTE(D9-C9+"24:00")/60,0.25)) -> 0 | H9: =IF(F9="D", G9*Rates!$C$3, IF(F9="W", G9*Rates!$C$4, IF(F9="M", G9*Rates!$C$5, IF(F9="N", G9*Rates!$C$6, 0)))) -> 0
E10: =IF(OR(C10=0,D10=0),,HOUR(D10-C10+"24:00")+CEILING(MINUTE(D10-C10+"24:00")/60,0.25)) -> 0 | H10: =IF(F10="D", G10*Rates!$C$3, IF(F10="W", G10*Rates!$C$4, IF(F10="M", G10*Rates!$C$5, IF(F10="N", G10*Rates!$C$6, 0)))) -> 0
E11: =IF(OR(C11=0,D11=0),,HOUR(D11-C11+"24:00")+CEILING(MINUTE(D11-C11+"24:00")/60,0.25)) -> 0 | H11: =IF(F11="D", G11*Rates!$C$3, IF(F11="W", G11*Rates!$C$4, IF(F11="M", G11*Rates!$C$5, IF(F11="N", G11*Rates!$C$6, 0)))) -> 0
E12: =IF(OR(C12=0,D12=0),,HOUR(D12-C12+"24:00")+CEILING(MINUTE(D12-C12+"24:00")/60,0.25)) -> 0 | H12: =IF(F12="D", G12*Rates!$C$3, IF(F12="W", G12*Rates!$C$4, IF(F12="M", G12*Rates!$C$5, IF(F12="N", G12*Rates!$C$6, 0)))) -> 0
E13: =IF(OR(C13=0,D13=0),,HOUR(D13-C13+"24:00")+CEILING(MINUTE(D13-C13+"24:00")/60,0.25)) -> 0 | H13: =IF(F13="D", G13*Rates!$C$3, IF(F13="W", G13*Rates!$C$4, IF(F13="M", G13*Rates!$C$5, IF(F13="N", G13*Rates!$C$6, 0)))) -> 0
A14: Tuesday | E14: =IF(OR(C14=0,D14=0),,HOUR(D14-C14+"24:00")+CEILING(MINUTE(D14-C14+"24:00")/60,0.25)) -> 0 | H14: =IF(F14="D", G14*Rates!$C$3, IF(F14="W", G14*Rates!$C$4, IF(F14="M", G14*Rates!$C$5, IF(F14="N", G14*Rates!$C$6, 0)))) -> 0
A15: =IF(A7="","",A7+1) -> 44634 | E15: =IF(OR(C15=0,D15=0),,HOUR(D15-C15+"24:00")+CEILING(MINUTE(D15-C15+"24:00")/60,0.25)) -> 0 | H15: =IF(F15="D", G15*Rates!$C$3, IF(F15="W", G15*Rates!$C$4, IF(F15="M", G15*Rates!$C$5, IF(F15="N", G15*Rates!$C$6, 0)))) -> 0
A16: Total hours | E16: =IF(OR(C16=0,D16=0),,HOUR(D16-C16+"24:00")+CEILING(MINUTE(D16-C16+"24:00")/60,0.25)) -> 0 | H16: =IF(F16="D", G16*Rates!$C$3, IF(F16="W", G16*Rates!$C$4, IF(F16="M", G16*Rates!$C$5, IF(F16="N", G16*Rates!$C$6, 0)))) -> 0
A17: =SUM(E14:E21) -> 0 | E17: =IF(OR(C17=0,D17=0),,HOUR(D17-C17+"24:00")+CEILING(MINUTE(D17-C17+"24:00")/60,0.25)) -> 0 | H17: =IF(F17="D", G17*Rates!$C$3, IF(F17="W", G17*Rates!$C$4, IF(F17="M", G17*Rates!$C$5, IF(F17="N", G17*Rates!$C$6, 0)))) -> 0
E18: =IF(OR(C18=0,D18=0),,HOUR(D18-C18+"24:00")+CEILING(MINUTE(D18-C18+"24:00")/60,0.25)) -> 0 | H18: =IF(F18="D", G18*Rates!$C$3, IF(F18="W", G18*Rates!$C$4, IF(F18="M", G18*Rates!$C$5, IF(F18="N", G18*Rates!$C$6, 0)))) -> 0
E19: =IF(OR(C19=0,D19=0),,HOUR(D19-C19+"24:00")+CEILING(MINUTE(D19-C19+"24:00")/60,0.25)) -> 0 | H19: =IF(F19="D", G19*Rates!$C$3, IF(F19="W", G19*Rates!$C$4, IF(F19="M", G19*Rates!$C$5, IF(F19="N", G19*Rates!$C$6, 0)))) -> 0
E20: =IF(OR(C20=0,D20=0),,HOUR(D20-C20+"24:00")+CEILING(MINUTE(D20-C20+"24:00")/60,0.25)) -> 0 | H20: =IF(F20="D", G20*Rates!$C$3, IF(F20="W", G20*Rates!$C$4, IF(F20="M", G20*Rates!$C$5, IF(F20="N", G20*Rates!$C$6, 0)))) -> 0
E21: =IF(OR(C21=0,D21=0),,HOUR(D21-C21+"24:00")+CEILING(MINUTE(D21-C21+"24:00")/60,0.25)) -> 0 | H21: =IF(F21="D", G21*Rates!$C$3, IF(F21="W", G21*Rates!$C$4, IF(F21="M", G21*Rates!$C$5, IF(F21="N", G21*Rates!$C$6, 0)))) -> 0
A22: Wednesday | E22: =IF(OR(C22=0,D22=0),,HOUR(D22-C22+"24:00")+CEILING(MINUTE(D22-C22+"24:00")/60,0.25)) -> 0 | H22: =IF(F22="D", G22*Rates!$C$3, IF(F22="W", G22*Rates!$C$4, IF(F22="M", G22*Rates!$C$5, IF(F22="N", G22*Rates!$C$6, 0)))) -> 0
A23: =IF(A15="","",A15+1) -> 44635 | E23: =IF(OR(C23=0,D23=0),,HOUR(D23-C23+"24:00")+CEILING(MINUTE(D23-C23+"24:00")/60,0.25)) -> 0 | H23: =IF(F23="D", G23*Rates!$C$3, IF(F23="W", G23*Rates!$C$4, IF(F23="M", G23*Rates!$C$5, IF(F23="N", G23*Rates!$C$6, 0)))) -> 0
A24: Total hours | E24: =IF(OR(C24=0,D24=0),,HOUR(D24-C24+"24:00")+CEILING(MINUTE(D24-C24+"24:00")/60,0.25)) -> 0 | H24: =IF(F24="D", G24*Rates!$C$3, IF(F24="W", G24*Rates!$C$4, IF(F24="M", G24*Rates!$C$5, IF(F24="N", G24*Rates!$C$6, 0)))) -> 0
A25: =SUM(E22:E29) -> 0 | E25: =IF(OR(C25=0,D25=0),,HOUR(D25-C25+"24:00")+CEILING(MINUTE(D25-C25+"24:00")/60,0.25)) -> 0 | H25: =IF(F25="D", G25*Rates!$C$3, IF(F25="W", G25*Rates!$C$4, IF(F25="M", G25*Rates!$C$5, IF(F25="N", G25*Rates!$C$6, 0)))) -> 0
E26: =IF(OR(C26=0,D26=0),,HOUR(D26-C26+"24:00")+CEILING(MINUTE(D26-C26+"24:00")/60,0.25)) -> 0 | H26: =IF(F26="D", G26*Rates!$C$3, IF(F26="W", G26*Rates!$C$4, IF(F26="M", G26*Rates!$C$5, IF(F26="N", G26*Rates!$C$6, 0)))) -> 0
E27: =IF(OR(C27=0,D27=0),,HOUR(D27-C27+"24:00")+CEILING(MINUTE(D27-C27+"24:00")/60,0.25)) -> 0 | H27: =IF(F27="D", G27*Rates!$C$3, IF(F27="W", G27*Rates!$C$4, IF(F27="M", G27*Rates!$C$5, IF(F27="N", G27*Rates!$C$6, 0)))) -> 0
E28: =IF(OR(C28=0,D28=0),,HOUR(D28-C28+"24:00")+CEILING(MINUTE(D28-C28+"24:00")/60,0.25)) -> 0 | H28: =IF(F28="D", G28*Rates!$C$3, IF(F28="W", G28*Rates!$C$4, IF(F28="M", G28*Rates!$C$5, IF(F28="N", G28*Rates!$C$6, 0)))) -> 0
E29: =IF(OR(C29=0,D29=0),,HOUR(D29-C29+"24:00")+CEILING(MINUTE(D29-C29+"24:00")/60,0.25)) -> 0 | H29: =IF(F29="D", G29*Rates!$C$3, IF(F29="W", G29*Rates!$C$4, IF(F29="M", G29*Rates!$C$5, IF(F29="N", G29*Rates!$C$6, 0)))) -> 0
A30: Thursday | E30: =IF(OR(C30=0,D30=0),,HOUR(D30-C30+"24:00")+CEILING(MINUTE(D30-C30+"24:00")/60,0.25)) -> 0 | H30: =IF(F30="D", G30*Rates!$C$3, IF(F30="W", G30*Rates!$C$4, IF(F30="M", G30*Rates!$C$5, IF(F30="N", G30*Rates!$C$6, 0)))) -> 0
A31: =IF(A23="","",A23+1) -> 44636 | E31: =IF(OR(C31=0,D31=0),,HOUR(D31-C31+"24:00")+CEILING(MINUTE(D31-C31+"24:00")/60,0.25)) -> 0 | H31: =IF(F31="D", G31*Rates!$C$3, IF(F31="W", G31*Rates!$C$4, IF(F31="M", G31*Rates!$C$5, IF(F31="N", G31*Rates!$C$6, 0)))) -> 0
A32: Total hours | E32: =IF(OR(C32=0,D32=0),,HOUR(D32-C32+"24:00")+CEILING(MINUTE(D32-C32+"24:00")/60,0.25)) -> 0 | H32: =IF(F32="D", G32*Rates!$C$3, IF(F32="W", G32*Rates!$C$4, IF(F32="M", G32*Rates!$C$5, IF(F32="N", G32*Rates!$C$6, 0)))) -> 0
A33: =SUM(E30:E37) -> 0 | E33: =IF(OR(C33=0,D33=0),,HOUR(D33-C33+"24:00")+CEILING(MINUTE(D33-C33+"24:00")/60,0.25)) -> 0 | H33: =IF(F33="D", G33*Rates!$C$3, IF(F33="W", G33*Rates!$C$4, IF(F33="M", G33*Rates!$C$5, IF(F33="N", G33*Rates!$C$6, 0)))) -> 0
E34: =IF(OR(C34=0,D34=0),,HOUR(D34-C34+"24:00")+CEILING(MINUTE(D34-C34+"24:00")/60,0.25)) -> 0 | H34: =IF(F34="D", G34*Rates!$C$3, IF(F34="W", G34*Rates!$C$4, IF(F34="M", G34*Rates!$C$5, IF(F34="N", G34*Rates!$C$6, 0)))) -> 0
E35: =IF(OR(C35=0,D35=0),,HOUR(D35-C35+"24:00")+CEILING(MINUTE(D35-C35+"24:00")/60,0.25)) -> 0 | H35: =IF(F35="D", G35*Rates!$C$3, IF(F35="W", G35*Rates!$C$4, IF(F35="M", G35*Rates!$C$5, IF(F35="N", G35*Rates!$C$6, 0)))) -> 0
E36: =IF(OR(C36=0,D36=0),,HOUR(D36-C36+"24:00")+CEILING(MINUTE(D36-C36+"24:00")/60,0.25)) -> 0 | H36: =IF(F36="D", G36*Rates!$C$3, IF(F36="W", G36*Rates!$C$4, IF(F36="M", G36*Rates!$C$5, IF(F36="N", G36*Rates!$C$6, 0)))) -> 0
E37: =IF(OR(C37=0,D37=0),,HOUR(D37-C37+"24:00")+CEILING(MINUTE(D37-C37+"24:00")/60,0.25)) -> 0 | H37: =IF(F37="D", G37*Rates!$C$3, IF(F37="W", G37*Rates!$C$4, IF(F37="M", G37*Rates!$C$5, IF(F37="N", G37*Rates!$C$6, 0)))) -> 0
A38: Friday | E38: =IF(OR(C38=0,D38=0),,HOUR(D38-C38+"24:00")+CEILING(MINUTE(D38-C38+"24:00")/60,0.25)) -> 0 | H38: =IF(F38="D", G38*Rates!$C$3, IF(F38="W", G38*Rates!$C$4, IF(F38="M", G38*Rates!$C$5, IF(F38="N", G38*Rates!$C$6, 0)))) -> 0
A39: =IF(A31="","",A31+1) -> 44637 | E39: =IF(OR(C39=0,D39=0),,HOUR(D39-C39+"24:00")+CEILING(MINUTE(D39-C39+"24:00")/60,0.25)) -> 0 | H39: =IF(F39="D", G39*Rates!$C$3, IF(F39="W", G39*Rates!$C$4, IF(F39="M", G39*Rates!$C$5, IF(F39="N", G39*Rates!$C$6, 0)))) -> 0
A40: Total hours | E40: =IF(OR(C40=0,D40=0),,HOUR(D40-C40+"24:00")+CEILING(MINUTE(D40-C40+"24:00")/60,0.25)) -> 0 | H40: =IF(F40="D", G40*Rates!$C$3, IF(F40="W", G40*Rates!$C$4, IF(F40="M", G40*Rates!$C$5, IF(F40="N", G40*Rates!$C$6, 0)))) -> 0
A41: =SUM(E38:E45) -> 0 | E41: =IF(OR(C41=0,D41=0),,HOUR(D41-C41+"24:00")+CEILING(MINUTE(D41-C41+"24:00")/60,0.25)) -> 0 | H41: =IF(F41="D", G41*Rates!$C$3, IF(F41="W", G41*Rates!$C$4, IF(F41="M", G41*Rates!$C$5, IF(F41="N", G41*Rates!$C$6, 0)))) -> 0
...

Sheet Week 2
A1: COMPANY: | B1: =Prep!B1 -> 0 | D1: PRODUCTION: | F1: =Prep!F1 -> 0
A2: FOR WEEK OF: | B2: =Prep!B2+7 -> 44633
A3: ARTIST: | B3: =Prep!B3 -> 0
A5: Date | B5: Activity | C5: Start | D5: End | E5: Work Hours | F5: Code | G5: 1/2 Hours | H5: Amount
A6: Monday | E6: =IF(OR(C6=0,D6=0),,HOUR(D6-C6+"24:00")+CEILING(MINUTE(D6-C6+"24:00")/60,0.25)) -> 0 | H6: =IF(F6="D", G6*Rates!$C$3, IF(F6="W", G6*Rates!$C$4, IF(F6="M", G6*Rates!$C$5, IF(F6="N", G6*Rates!$C$6, 0)))) -> 0
A7: =B2 -> 44633 | E7: =IF(OR(C7=0,D7=0),,HOUR(D7-C7+"24:00")+CEILING(MINUTE(D7-C7+"24:00")/60,0.25)) -> 0 | H7: =IF(F7="D", G7*Rates!$C$3, IF(F7="W", G7*Rates!$C$4, IF(F7="M", G7*Rates!$C$5, IF(F7="N", G7*Rates!$C$6, 0)))) -> 0
A8: Total hours | E8: =IF(OR(C8=0,D8=0),,HOUR(D8-C8+"24:00")+CEILING(MINUTE(D8-C8+"24:00")/60,0.25)) -> 0 | H8: =IF(F8="D", G8*Rates!$C$3, IF(F8="W", G8*Rates!$C$4, IF(F8="M", G8*Rates!$C$5, IF(F8="N", G8*Rates!$C$6, 0)))) -> 0
A9: =SUM(E6:E13) -> 0 | E9: =IF(OR(C9=0,D9=0),,HOUR(D9-C9+"24:00")+CEILING(MINUTE(D9-C9+"24:00")/60,0.25)) -> 0 | H9: =IF(F9="D", G9*Rates!$C$3, IF(F9="W", G9*Rates!$C$4, IF(F9="M", G9*Rates!$C$5, IF(F9="N", G9*Rates!$C$6, 0)))) -> 0
E10: =IF(OR(C10=0,D10=0),,HOUR(D10-C10+"24:00")+CEILING(MINUTE(D10-C10+"24:00")/60,0.25)) -> 0 | H10: =IF(F10="D", G10*Rates!$C$3, IF(F10="W", G10*Rates!$C$4, IF(F10="M", G10*Rates!$C$5, IF(F10="N", G10*Rates!$C$6, 0)))) -> 0
E11: =IF(OR(C11=0,D11=0),,HOUR(D11-C11+"24:00")+CEILING(MINUTE(D11-C11+"24:00")/60,0.25)) -> 0 | H11: =IF(F11="D", G11*Rates!$C$3, IF(F11="W", G11*Rates!$C$4, IF(F11="M", G11*Rates!$C$5, IF(F11="N", G11*Rates!$C$6, 0)))) -> 0
E12: =IF(OR(C12=0,D12=0),,HOUR(D12-C12+"24:00")+CEILING(MINUTE(D12-C12+"24:00")/60,0.25)) -> 0 | H12: =IF(F12="D", G12*Rates!$C$3, IF(F12="W", G12*Rates!$C$4, IF(F12="M", G12*Rates!$C$5, IF(F12="N", G12*Rates!$C$6, 0)))) -> 0
E13: =IF(OR(C13=0,D13=0),,HOUR(D13-C13+"24:00")+CEILING(MINUTE(D13-C13+"24:00")/60,0.25)) -> 0 | H13: =IF(F13="D", G13*Rates!$C$3, IF(F13="W", G13*Rates!$C$4, IF(F13="M", G13*Rates!$C$5, IF(F13="N", G13*Rates!$C$6, 0)))) -> 0
A14: Tuesday | E14: =IF(OR(C14=0,D14=0),,HOUR(D14-C14+"24:00")+CEILING(MINUTE(D14-C14+"24:00")/60,0.25)) -> 0 | H14: =IF(F14="D", G14*Rates!$C$3, IF(F14="W", G14*Rates!$C$4, IF(F14="M", G14*Rates!$C$5, IF(F14="N", G14*Rates!$C$6, 0)))) -> 0
A15: =IF(A7="","",A7+1) -> 44634 | E15: =IF(OR(C15=0,D15=0),,HOUR(D15-C15+"24:00")+CEILING(MINUTE(D15-C15+"24:00")/60,0.25)) -> 0 | H15: =IF(F15="D", G15*Rates!$C$3, IF(F15="W", G15*Rates!$C$4, IF(F15="M", G15*Rates!$C$5, IF(F15="N", G15*Rates!$C$6, 0)))) -> 0
A16: Total hours | E16: =IF(OR(C16=0,D16=0),,HOUR(D16-C16+"24:00")+CEILING(MINUTE(D16-C16+"24:00")/60,0.25)) -> 0 | H16: =IF(F16="D", G16*Rates!$C$3, IF(F16="W", G16*Rates!$C$4, IF(F16="M", G16*Rates!$C$5, IF(F16="N", G16*Rates!$C$6, 0)))) -> 0
A17: =SUM(E14:E21) -> 0 | E17: =IF(OR(C17=0,D17=0),,HOUR(D17-C17+"24:00")+CEILING(MINUTE(D17-C17+"24:00")/60,0.25)) -> 0 | H17: =IF(F17="D", G17*Rates!$C$3, IF(F17="W", G17*Rates!$C$4, IF(F17="M", G17*Rates!$C$5, IF(F17="N", G17*Rates!$C$6, 0)))) -> 0
E18: =IF(OR(C18=0,D18=0),,HOUR(D18-C18+"24:00")+CEILING(MINUTE(D18-C18+"24:00")/60,0.25)) -> 0 | H18: =IF(F18="D", G18*Rates!$C$3, IF(F18="W", G18*Rates!$C$4, IF(F18="M", G18*Rates!$C$5, IF(F18="N", G18*Rates!$C$6, 0)))) -> 0
E19: =IF(OR(C19=0,D19=0),,HOUR(D19-C19+"24:00")+CEILING(MINUTE(D19-C19+"24:00")/60,0.25)) -> 0 | H19: =IF(F19="D", G19*Rates!$C$3, IF(F19="W", G19*Rates!$C$4, IF(F19="M", G19*Rates!$C$5, IF(F19="N", G19*Rates!$C$6, 0)))) -> 0
E20: =IF(OR(C20=0,D20=0),,HOUR(D20-C20+"24:00")+CEILING(MINUTE(D20-C20+"24:00")/60,0.25)) -> 0 | H20: =IF(F20="D", G20*Rates!$C$3, IF(F20="W", G20*Rates!$C$4, IF(F20="M", G20*Rates!$C$5, IF(F20="N", G20*Rates!$C$6, 0)))) -> 0
E21: =IF(OR(C21=0,D21=0),,HOUR(D21-C21+"24:00")+CEILING(MINUTE(D21-C21+"24:00")/60,0.25)) -> 0 | H21: =IF(F21="D", G21*Rates!$C$3, IF(F21="W", G21*Rates!$C$4, IF(F21="M", G21*Rates!$C$5, IF(F21="N", G21*Rates!$C$6, 0)))) -> 0
A22: Wednesday | E22: =IF(OR(C22=0,D22=0),,HOUR(D22-C22+"24:00")+CEILING(MINUTE(D22-C22+"24:00")/60,0.25)) -> 0 | H22: =IF(F22="D", G22*Rates!$C$3, IF(F22="W", G22*Rates!$C$4, IF(F22="M", G22*Rates!$C$5, IF(F22="N", G22*Rates!$C$6, 0)))) -> 0
A23: =IF(A15="","",A15+1) -> 44635 | E23: =IF(OR(C23=0,D23=0),,HOUR(D23-C23+"24:00")+CEILING(MINUTE(D23-C23+"24:00")/60,0.25)) -> 0 | H23: =IF(F23="D", G23*Rates!$C$3, IF(F23="W", G23*Rates!$C$4, IF(F23="M", G23*Rates!$C$5, IF(F23="N", G23*Rates!$C$6, 0)))) -> 0
A24: Total hours | E24: =IF(OR(C24=0,D24=0),,HOUR(D24-C24+"24:00")+CEILING(MINUTE(D24-C24+"24:00")/60,0.25)) -> 0 | H24: =IF(F24="D", G24*Rates!$C$3, IF(F24="W", G24*Rates!$C$4, IF(F24="M", G24*Rates!$C$5, IF(F24="N", G24*Rates!$C$6, 0)))) -> 0
A25: =SUM(E22:E29) -> 0 | E25: =IF(OR(C25=0,D25=0),,HOUR(D25-C25+"24:00")+CEILING(MINUTE(D25-C25+"24:00")/60,0.25)) -> 0 | H25: =IF(F25="D", G25*Rates!$C$3, IF(F25="W", G25*Rates!$C$4, IF(F25="M", G25*Rates!$C$5, IF(F25="N", G25*Rates!$C$6, 0)))) -> 0
E26: =IF(OR(C26=0,D26=0),,HOUR(D26-C26+"24:00")+CEILING(MINUTE(D26-C26+"24:00")/60,0.25)) -> 0 | H26: =IF(F26="D", G26*Rates!$C$3, IF(F26="W", G26*Rates!$C$4, IF(F26="M", G26*Rates!$C$5, IF(F26="N", G26*Rates!$C$6, 0)))) -> 0
E27: =IF(OR(C27=0,D27=0),,HOUR(D27-C27+"24:00")+CEILING(MINUTE(D27-C27+"24:00")/60,0.25)) -> 0 | H27: =IF(F27="D", G27*Rates!$C$3, IF(F27="W", G27*Rates!$C$4, IF(F27="M", G27*Rates!$C$5, IF(F27="N", G27*Rates!$C$6, 0)))) -> 0
E28: =IF(OR(C28=0,D28=0),,HOUR(D28-C28+"24:00")+CEILING(MINUTE(D28-C28+"24:00")/60,0.25)) -> 0 | H28: =IF(F28="D", G28*Rates!$C$3, IF(F28="W", G28*Rates!$C$4, IF(F28="M", G28*Rates!$C$5, IF(F28="N", G28*Rates!$C$6, 0)))) -> 0
E29: =IF(OR(C29=0,D29=0),,HOUR(D29-C29+"24:00")+CEILING(MINUTE(D29-C29+"24:00")/60,0.25)) -> 0 | H29: =IF(F29="D", G29*Rates!$C$3, IF(F29="W", G29*Rates!$C$4, IF(F29="M", G29*Rates!$C$5, IF(F29="N", G29*Rates!$C$6, 0)))) -> 0
A30: Thursday | E30: =IF(OR(C30=0,D30=0),,HOUR(D30-C30+"24:00")+CEILING(MINUTE(D30-C30+"24:00")/60,0.25)) -> 0 | H30: =IF(F30="D", G30*Rates!$C$3, IF(F30="W", G30*Rates!$C$4, IF(F30="M", G30*Rates!$C$5, IF(F30="N", G30*Rates!$C$6, 0)))) -> 0
A31: =IF(A23="","",A23+1) -> 44636 | E31: =IF(OR(C31=0,D31=0),,HOUR(D31-C31+"24:00")+CEILING(MINUTE(D31-C31+"24:00")/60,0.25)) -> 0 | H31: =IF(F31="D", G31*Rates!$C$3, IF(F31="W", G31*Rates!$C$4, IF(F31="M", G31*Rates!$C$5, IF(F31="N", G31*Rates!$C$6, 0)))) -> 0
A32: Total hours | E32: =IF(OR(C32=0,D32=0),,HOUR(D32-C32+"24:00")+CEILING(MINUTE(D32-C32+"24:00")/60,0.25)) -> 0 | H32: =IF(F32="D", G32*Rates!$C$3, IF(F32="W", G32*Rates!$C$4, IF(F32="M", G32*Rates!$C$5, IF(F32="N", G32*Rates!$C$6, 0)))) -> 0
A33: =SUM(E30:E37) -> 0 | E33: =IF(OR(C33=0,D33=0),,HOUR(D33-C33+"24:00")+CEILING(MINUTE(D33-C33+"24:00")/60,0.25)) -> 0 | H33: =IF(F33="D", G33*Rates!$C$3, IF(F33="W", G33*Rates!$C$4, IF(F33="M", G33*Rates!$C$5, IF(F33="N", G33*Rates!$C$6, 0)))) -> 0
E34: =IF(OR(C34=0,D34=0),,HOUR(D34-C34+"24:00")+CEILING(MINUTE(D34-C34+"24:00")/60,0.25)) -> 0 | H34: =IF(F34="D", G34*Rates!$C$3, IF(F34="W", G34*Rates!$C$4, IF(F34="M", G34*Rates!$C$5, IF(F34="N", G34*Rates!$C$6, 0)))) -> 0
E35: =IF(OR(C35=0,D35=0),,HOUR(D35-C35+"24:00")+CEILING(MINUTE(D35-C35+"24:00")/60,0.25)) -> 0 | H35: =IF(F35="D", G35*Rates!$C$3, IF(F35="W", G35*Rates!$C$4, IF(F35="M", G35*Rates!$C$5, IF(F35="N", G35*Rates!$C$6, 0)))) -> 0
E36: =IF(OR(C36=0,D36=0),,HOUR(D36-C36+"24:00")+CEILING(MINUTE(D36-C36+"24:00")/60,0.25)) -> 0 | H36: =IF(F36="D", G36*Rates!$C$3, IF(F36="W", G36*Rates!$C$4, IF(F36="M", G36*Rates!$C$5, IF(F36="N", G36*Rates!$C$6, 0)))) -> 0
E37: =IF(OR(C37=0,D37=0),,HOUR(D37-C37+"24:00")+CEILING(MINUTE(D37-C37+"24:00")/60,0.25)) -> 0 | H37: =IF(F37="D", G37*Rates!$C$3, IF(F37="W", G37*Rates!$C$4, IF(F37="M", G37*Rates!$C$5, IF(F37="N", G37*Rates!$C$6, 0)))) -> 0
A38: Friday | E38: =IF(OR(C38=0,D38=0),,HOUR(D38-C38+"24:00")+CEILING(MINUTE(D38-C38+"24:00")/60,0.25)) -> 0 | H38: =IF(F38="D", G38*Rates!$C$3, IF(F38="W", G38*Rates!$C$4, IF(F38="M", G38*Rates!$C$5, IF(F38="N", G38*Rates!$C$6, 0)))) -> 0
A39: =IF(A31="","",A31+1) -> 44637 | E39: =IF(OR(C39=0,D39=0),,HOUR(D39-C39+"24:00")+CEILING(MINUTE(D39-C39+"24:00")/60,0.25)) -> 0 | H39: =IF(F39="D", G39*Rates!$C$3, IF(F39="W", G39*Rates!$C$4, IF(F39="M", G39*Rates!$C$5, IF(F39="N", G39*Rates!$C$6, 0)))) -> 0
A40: Total hours | E40: =IF(OR(C40=0,D40=0),,HOUR(D40-C40+"24:00")+CEILING(MINUTE(D40-C40+"24:00")/60,0.25)) -> 0 | H40: =IF(F40="D", G40*Rates!$C$3, IF(F40="W", G40*Rates!$C$4, IF(F40="M", G40*Rates!$C$5, IF(F40="N", G40*Rates!$C$6, 0)))) -> 0
A41: =SUM(E38:E45) -> 0 | E41: =IF(OR(C41=0,D41=0),,HOUR(D41-C41+"24:00")+CEILING(MINUTE(D41-C41+"24:00")/60,0.25)) -> 0 | H41: =IF(F41="D", G41*Rates!$C$3, IF(F41="W", G41*Rates!$C$4, IF(F41="M", G41*Rates!$C$5, IF(F41="N", G41*Rates!$C$6, 0)))) -> 0
...

Sheet Week 3
A1: COMPANY: | B1: =Prep!B1 -> 0 | D1: PRODUCTION: | F1: =Prep!F1 -> 0
A2: FOR WEEK OF: | B2: ='Week 2'!B2+7 -> 44640
A3: ARTIST: | B3: =Prep!B3 -> 0
A5: Date | B5: Activity | C5: Start | D5: End | E5: Work Hours | F5: Code | G5: 1/2 Hours | H5: Amount
A6: Monday | E6: =IF(OR(C6=0,D6=0),,HOUR(D6-C6+"24:00")+CEILING(MINUTE(D6-C6+"24:00")/60,0.25)) -> 0 | H6: =IF(F6="D", G6*Rates!$C$3, IF(F6="W", G6*Rates!$C$4, IF(F6="M", G6*Rates!$C$5, IF(F6="N", G6*Rates!$C$6, 0)))) -> 0
A7: 44578 | E7: =IF(OR(C7=0,D7=0),,HOUR(D7-C7+"24:00")+CEILING(MINUTE(D7-C7+"24:00")/60,0.25)) -> 0 | H7: =IF(F7="D", G7*Rates!$C$3, IF(F7="W", G7*Rates!$C$4, IF(F7="M", G7*Rates!$C$5, IF(F7="N", G7*Rates!$C$6, 0)))) -> 0
A8: Total hours | E8: =IF(OR(C8=0,D8=0),,HOUR(D8-C8+"24:00")+CEILING(MINUTE(D8-C8+"24:00")/60,0.25)) -> 0 | H8: =IF(F8="D", G8*Rates!$C$3, IF(F8="W", G8*Rates!$C$4, IF(F8="M", G8*Rates!$C$5, IF(F8="N", G8*Rates!$C$6, 0)))) -> 0
A9: =SUM(E6:E13) -> 0 | E9: =IF(OR(C9=0,D9=0),,HOUR(D9-C9+"24:00")+CEILING(MINUTE(D9-C9+"24:00")/60,0.25)) -> 0 | H9: =IF(F9="D", G9*Rates!$C$3, IF(F9="W", G9*Rates!$C$4, IF(F9="M", G9*Rates!$C$5, IF(F9="N", G9*Rates!$C$6, 0)))) -> 0
E10: =IF(OR(C10=0,D10=0),,HOUR(D10-C10+"24:00")+CEILING(MINUTE(D10-C10+"24:00")/60,0.25)) -> 0 | H10: =IF(F10="D", G10*Rates!$C$3, IF(F10="W", G10*Rates!$C$4, IF(F10="M", G10*Rates!$C$5, IF(F10="N", G10*Rates!$C$6, 0)))) -> 0
E11: =IF(OR(C11=0,D11=0),,HOUR(D11-C11+"24:00")+CEILING(MINUTE(D11-C11+"24:00")/60,0.25)) -> 0 | H11: =IF(F11="D", G11*Rates!$C$3, IF(F11="W", G11*Rates!$C$4, IF(F11="M", G11*Rates!$C$5, IF(F11="N", G11*Rates!$C$6, 0)))) -> 0
E12: =IF(OR(C12=0,D12=0),,HOUR(D12-C12+"24:00")+CEILING(MINUTE(D12-C12+"24:00")/60,0.25)) -> 0 | H12: =IF(F12="D", G12*Rates!$C$3, IF(F12="W", G12*Rates!$C$4, IF(F12="M", G12*Rates!$C$5, IF(F12="N", G12*Rates!$C$6, 0)))) -> 0
E13: =IF(OR(C13=0,D13=0),,HOUR(D13-C13+"24:00")+CEILING(MINUTE(D13-C13+"24:00")/60,0.25)) -> 0 | H13: =IF(F13="D", G13*Rates!$C$3, IF(F13="W", G13*Rates!$C$4, IF(F13="M", G13*Rates!$C$5, IF(F13="N", G13*Rates!$C$6, 0)))) -> 0
A14: Tuesday | E14: =IF(OR(C14=0,D14=0),,HOUR(D14-C14+"24:00")+CEILING(MINUTE(D14-C14+"24:00")/60,0.25)) -> 0 | H14: =IF(F14="D", G14*Rates!$C$3, IF(F14="W", G14*Rates!$C$4, IF(F14="M", G14*Rates!$C$5, IF(F14="N", G14*Rates!$C$6, 0)))) -> 0
A15: =IF(A7="","",A7+1) -> 44579 | E15: =IF(OR(C15=0,D15=0),,HOUR(D15-C15+"24:00")+CEILING(MINUTE(D15-C15+"24:00")/60,0.25)) -> 0 | H15: =IF(F15="D", G15*Rates!$C$3, IF(F15="W", G15*Rates!$C$4, IF(F15="M", G15*Rates!$C$5, IF(F15="N", G15*Rates!$C$6, 0)))) -> 0
A16: Total hours | E16: =IF(OR(C16=0,D16=0),,HOUR(D16-C16+"24:00")+CEILING(MINUTE(D16-C16+"24:00")/60,0.25)) -> 0 | H16: =IF(F16="D", G16*Rates!$C$3, IF(F16="W", G16*Rates!$C$4, IF(F16="M", G16*Rates!$C$5, IF(F16="N", G16*Rates!$C$6, 0)))) -> 0
A17: =SUM(E14:E21) -> 0 | E17: =IF(OR(C17=0,D17=0),,HOUR(D17-C17+"24:00")+CEILING(MINUTE(D17-C17+"24:00")/60,0.25)) -> 0 | H17: =IF(F17="D", G17*Rates!$C$3, IF(F17="W", G17*Rates!$C$4, IF(F17="M", G17*Rates!$C$5, IF(F17="N", G17*Rates!$C$6, 0)))) -> 0
E18: =IF(OR(C18=0,D18=0),,HOUR(D18-C18+"24:00")+CEILING(MINUTE(D18-C18+"24:00")/60,0.25)) -> 0 | H18: =IF(F18="D", G18*Rates!$C$3, IF(F18="W", G18*Rates!$C$4, IF(F18="M", G18*Rates!$C$5, IF(F18="N", G18*Rates!$C$6, 0)))) -> 0
E19: =IF(OR(C19=0,D19=0),,HOUR(D19-C19+"24:00")+CEILING(MINUTE(D19-C19+"24:00")/60,0.25)) -> 0 | H19: =IF(F19="D", G19*Rates!$C$3, IF(F19="W", G19*Rates!$C$4, IF(F19="M", G19*Rates!$C$5, IF(F19="N", G19*Rates!$C$6, 0)))) -> 0
E20: =IF(OR(C20=0,D20=0),,HOUR(D20-C20+"24:00")+CEILING(MINUTE(D20-C20+"24:00")/60,0.25)) -> 0 | H20: =IF(F20="D", G20*Rates!$C$3, IF(F20="W", G20*Rates!$C$4, IF(F20="M", G20*Rates!$C$5, IF(F20="N", G20*Rates!$C$6, 0)))) -> 0
E21: =IF(OR(C21=0,D21=0),,HOUR(D21-C21+"24:00")+CEILING(MINUTE(D21-C21+"24:00")/60,0.25)) -> 0 | H21: =IF(F21="D", G21*Rates!$C$3, IF(F21="W", G21*Rates!$C$4, IF(F21="M", G21*Rates!$C$5, IF(F21="N", G21*Rates!$C$6, 0)))) -> 0
A22: Wednesday | E22: =IF(OR(C22=0,D22=0),,HOUR(D22-C22+"24:00")+CEILING(MINUTE(D22-C22+"24:00")/60,0.25)) -> 0 | H22: =IF(F22="D", G22*Rates!$C$3, IF(F22="W", G22*Rates!$C$4, IF(F22="M", G22*Rates!$C$5, IF(F22="N", G22*Rates!$C$6, 0)))) -> 0
A23: =IF(A15="","",A15+1) -> 44580 | E23: =IF(OR(C23=0,D23=0),,HOUR(D23-C23+"24:00")+CEILING(MINUTE(D23-C23+"24:00")/60,0.25)) -> 0 | H23: =IF(F23="D", G23*Rates!$C$3, IF(F23="W", G23*Rates!$C$4, IF(F23="M", G23*Rates!$C$5, IF(F23="N", G23*Rates!$C$6, 0)))) -> 0
A24: Total hours | E24: =IF(OR(C24=0,D24=0),,HOUR(D24-C24+"24:00")+CEILING(MINUTE(D24-C24+"24:00")/60,0.25)) -> 0 | H24: =IF(F24="D", G24*Rates!$C$3, IF(F24="W", G24*Rates!$C$4, IF(F24="M", G24*Rates!$C$5, IF(F24="N", G24*Rates!$C$6, 0)))) -> 0
A25: =SUM(E22:E29) -> 0 | E25: =IF(OR(C25=0,D25=0),,HOUR(D25-C25+"24:00")+CEILING(MINUTE(D25-C25+"24:00")/60,0.25)) -> 0 | H25: =IF(F25="D", G25*Rates!$C$3, IF(F25="W", G25*Rates!$C$4, IF(F25="M", G25*Rates!$C$5, IF(F25="N", G25*Rates!$C$6, 0)))) -> 0
E26: =IF(OR(C26=0,D26=0),,HOUR(D26-C26+"24:00")+CEILING(MINUTE(D26-C26+"24:00")/60,0.25)) -> 0 | H26: =IF(F26="D", G26*Rates!$C$3, IF(F26="W", G26*Rates!$C$4, IF(F26="M", G26*Rates!$C$5, IF(F26="N", G26*Rates!$C$6, 0)))) -> 0
E27: =IF(OR(C27=0,D27=0),,HOUR(D27-C27+"24:00")+CEILING(MINUTE(D27-C27+"24:00")/60,0.25)) -> 0 | H27: =IF(F27="D", G27*Rates!$C$3, IF(F27="W", G27*Rates!$C$4, IF(F27="M", G27*Rates!$C$5, IF(F27="N", G27*Rates!$C$6, 0)))) -> 0
E28: =IF(OR(C28=0,D28=0),,HOUR(D28-C28+"24:00")+CEILING(MINUTE(D28-C28+"24:00")/60,0.25)) -> 0 | H28: =IF(F28="D", G28*Rates!$C$3, IF(F28="W", G28*Rates!$C$4, IF(F28="M", G28*Rates!$C$5, IF(F28="N", G28*Rates!$C$6, 0)))) -> 0
E29: =IF(OR(C29=0,D29=0),,HOUR(D29-C29+"24:00")+CEILING(MINUTE(D29-C29+"24:00")/60,0.25)) -> 0 | H29: =IF(F29="D", G29*Rates!$C$3, IF(F29="W", G29*Rates!$C$4, IF(F29="M", G29*Rates!$C$5, IF(F29="N", G29*Rates!$C$6, 0)))) -> 0
A30: Thursday | E30: =IF(OR(C30=0,D30=0),,HOUR(D30-C30+"24:00")+CEILING(MINUTE(D30-C30+"24:00")/60,0.25)) -> 0 | H30: =IF(F30="D", G30*Rates!$C$3, IF(F30="W", G30*Rates!$C$4, IF(F30="M", G30*Rates!$C$5, IF(F30="N", G30*Rates!$C$6, 0)))) -> 0
A31: =IF(A23="","",A23+1) -> 44581 | E31: =IF(OR(C31=0,D31=0),,HOUR(D31-C31+"24:00")+CEILING(MINUTE(D31-C31+"24:00")/60,0.25)) -> 0 | H31: =IF(F31="D", G31*Rates!$C$3, IF(F31="W", G31*Rates!$C$4, IF(F31="M", G31*Rates!$C$5, IF(F31="N", G31*Rates!$C$6, 0)))) -> 0
A32: Total hours | E32: =IF(OR(C32=0,D32=0),,HOUR(D32-C32+"24:00")+CEILING(MINUTE(D32-C32+"24:00")/60,0.25)) -> 0 | H32: =IF(F32="D", G32*Rates!$C$3, IF(F32="W", G32*Rates!$C$4, IF(F32="M", G32*Rates!$C$5, IF(F32="N", G32*Rates!$C$6, 0)))) -> 0
A33: =SUM(E30:E37) -> 0 | E33: =IF(OR(C33=0,D33=0),,HOUR(D33-C33+"24:00")+CEILING(MINUTE(D33-C33+"24:00")/60,0.25)) -> 0 | H33: =IF(F33="D", G33*Rates!$C$3, IF(F33="W", G33*Rates!$C$4, IF(F33="M", G33*Rates!$C$5, IF(F33="N", G33*Rates!$C$6, 0)))) -> 0
E34: =IF(OR(C34=0,D34=0),,HOUR(D34-C34+"24:00")+CEILING(MINUTE(D34-C34+"24:00")/60,0.25)) -> 0 | H34: =IF(F34="D", G34*Rates!$C$3, IF(F34="W", G34*Rates!$C$4, IF(F34="M", G34*Rates!$C$5, IF(F34="N", G34*Rates!$C$6, 0)))) -> 0
E35: =IF(OR(C35=0,D35=0),,HOUR(D35-C35+"24:00")+CEILING(MINUTE(D35-C35+"24:00")/60,0.25)) -> 0 | H35: =IF(F35="D", G35*Rates!$C$3, IF(F35="W", G35*Rates!$C$4, IF(F35="M", G35*Rates!$C$5, IF(F35="N", G35*Rates!$C$6, 0)))) -> 0
E36: =IF(OR(C36=0,D36=0),,HOUR(D36-C36+"24:00")+CEILING(MINUTE(D36-C36+"24:00")/60,0.25)) -> 0 | H36: =IF(F36="D", G36*Rates!$C$3, IF(F36="W", G36*Rates!$C$4, IF(F36="M", G36*Rates!$C$5, IF(F36="N", G36*Rates!$C$6, 0)))) -> 0
E37: =IF(OR(C37=0,D37=0),,HOUR(D37-C37+"24:00")+CEILING(MINUTE(D37-C37+"24:00")/60,0.25)) -> 0 | H37: =IF(F37="D", G37*Rates!$C$3, IF(F37="W", G37*Rates!$C$4, IF(F37="M", G37*Rates!$C$5, IF(F37="N", G37*Rates!$C$6, 0)))) -> 0
A38: Friday | E38: =IF(OR(C38=0,D38=0),,HOUR(D38-C38+"24:00")+CEILING(MINUTE(D38-C38+"24:00")/60,0.25)) -> 0 | H38: =IF(F38="D", G38*Rates!$C$3, IF(F38="W", G38*Rates!$C$4, IF(F38="M", G38*Rates!$C$5, IF(F38="N", G38*Rates!$C$6, 0)))) -> 0
A39: =IF(A31="","",A31+1) -> 44582 | E39: =IF(OR(C39=0,D39=0),,HOUR(D39-C39+"24:00")+CEILING(MINUTE(D39-C39+"24:00")/60,0.25)) -> 0 | H39: =IF(F39="D", G39*Rates!$C$3, IF(F39="W", G39*Rates!$C$4, IF(F39="M", G39*Rates!$C$5, IF(F39="N", G39*Rates!$C$6, 0)))) -> 0
A40: Total hours | E40: =IF(OR(C40=0,D40=0),,HOUR(D40-C40+"24:00")+CEILING(MINUTE(D40-C40+"24:00")/60,0.25)) -> 0 | H40: =IF(F40="D", G40*Rates!$C$3, IF(F40="W", G40*Rates!$C$4, IF(F40="M", G40*Rates!$C$5, IF(F40="N", G40*Rates!$C$6, 0)))) -> 0
A41: =SUM(E38:E45) -> 0 | E41: =IF(OR(C41=0,D41=0),,HOUR(D41-C41+"24:00")+CEILING(MINUTE(D41-C41+"24:00")/60,0.25)) -> 0 | H41: =IF(F41="D", G41*Rates!$C$3, IF(F41="W", G41*Rates!$C$4, IF(F41="M", G41*Rates!$C$5, IF(F41="N", G41*Rates!$C$6, 0)))) -> 0
...

Sheet Week 4
A1: COMPANY: | B1: =Prep!B1 -> 0 | D1: PRODUCTION: | F1: =Prep!F1 -> 0
A2: FOR WEEK OF: | B2: ='Week 3'!B2+7 -> 44647
A3: ARTIST: | B3: =Prep!B3 -> 0
A5: Date | B5: Activity | C5: Start | D5: End | E5: Work Hours | F5: Code | G5: 1/2 Hours | H5: Amount
A6: Monday | E6: =IF(OR(C6=0,D6=0),,HOUR(D6-C6+"24:00")+CEILING(MINUTE(D6-C6+"24:00")/60,0.25)) -> 0 | H6: =IF(F6="D", G6*Rates!$C$3, IF(F6="W", G6*Rates!$C$4, IF(F6="M", G6*Rates!$C$5, IF(F6="N", G6*Rates!$C$6, 0)))) -> 0
A7: =B2 -> 44647 | E7: =IF(OR(C7=0,D7=0),,HOUR(D7-C7+"24:00")+CEILING(MINUTE(D7-C7+"24:00")/60,0.25)) -> 0 | H7: =IF(F7="D", G7*Rates!$C$3, IF(F7="W", G7*Rates!$C$4, IF(F7="M", G7*Rates!$C$5, IF(F7="N", G7*Rates!$C$6, 0)))) -> 0
A8: Total hours | E8: =IF(OR(C8=0,D8=0),,HOUR(D8-C8+"24:00")+CEILING(MINUTE(D8-C8+"24:00")/60,0.25)) -> 0 | H8: =IF(F8="D", G8*Rates!$C$3, IF(F8="W", G8*Rates!$C$4, IF(F8="M", G8*Rates!$C$5, IF(F8="N", G8*Rates!$C$6, 0)))) -> 0
A9: =SUM(E6:E13) -> 0 | E9: =IF(OR(C9=0,D9=0),,HOUR(D9-C9+"24:00")+CEILING(MINUTE(D9-C9+"24:00")/60,0.25)) -> 0 | H9: =IF(F9="D", G9*Rates!$C$3, IF(F9="W", G9*Rates!$C$4, IF(F9="M", G9*Rates!$C$5, IF(F9="N", G9*Rates!$C$6, 0)))) -> 0
E10: =IF(OR(C10=0,D10=0),,HOUR(D10-C10+"24:00")+CEILING(MINUTE(D10-C10+"24:00")/60,0.25)) -> 0 | H10: =IF(F10="D", G10*Rates!$C$3, IF(F10="W", G10*Rates!$C$4, IF(F10="M", G10*Rates!$C$5, IF(F10="N", G10*Rates!$C$6, 0)))) -> 0
E11: =IF(OR(C11=0,D11=0),,HOUR(D11-C11+"24:00")+CEILING(MINUTE(D11-C11+"24:00")/60,0.25)) -> 0 | H11: =IF(F11="D", G11*Rates!$C$3, IF(F11="W", G11*Rates!$C$4, IF(F11="M", G11*Rates!$C$5, IF(F11="N", G11*Rates!$C$6, 0)))) -> 0
E12: =IF(OR(C12=0,D12=0),,HOUR(D12-C12+"24:00")+CEILING(MINUTE(D12-C12+"24:00")/60,0.25)) -> 0 | H12: =IF(F12="D", G12*Rates!$C$3, IF(F12="W", G12*Rates!$C$4, IF(F12="M", G12*Rates!$C$5, IF(F12="N", G12*Rates!$C$6, 0)))) -> 0
E13: =IF(OR(C13=0,D13=0),,HOUR(D13-C13+"24:00")+CEILING(MINUTE(D13-C13+"24:00")/60,0.25)) -> 0 | H13: =IF(F13="D", G13*Rates!$C$3, IF(F13="W", G13*Rates!$C$4, IF(F13="M", G13*Rates!$C$5, IF(F13="N", G13*Rates!$C$6, 0)))) -> 0
A14: Tuesday | E14: =IF(OR(C14=0,D14=0),,HOUR(D14-C14+"24:00")+CEILING(MINUTE(D14-C14+"24:00")/60,0.25)) -> 0 | H14: =IF(F14="D", G14*Rates!$C$3, IF(F14="W", G14*Rates!$C$4, IF(F14="M", G14*Rates!$C$5, IF(F14="N", G14*Rates!$C$6, 0)))) -> 0
A15: =IF(A7="","",A7+1) -> 44648 | E15: =IF(OR(C15=0,D15=0),,HOUR(D15-C15+"24:00")+CEILING(MINUTE(D15-C15+"24:00")/60,0.25)) -> 0 | H15: =IF(F15="D", G15*Rates!$C$3, IF(F15="W", G15*Rates!$C$4, IF(F15="M", G15*Rates!$C$5, IF(F15="N", G15*Rates!$C$6, 0)))) -> 0
A16: Total hours | E16: =IF(OR(C16=0,D16=0),,HOUR(D16-C16+"24:00")+CEILING(MINUTE(D16-C16+"24:00")/60,0.25)) -> 0 | H16: =IF(F16="D", G16*Rates!$C$3, IF(F16="W", G16*Rates!$C$4, IF(F16="M", G16*Rates!$C$5, IF(F16="N", G16*Rates!$C$6, 0)))) -> 0
A17: =SUM(E14:E21) -> 0 | E17: =IF(OR(C17=0,D17=0),,HOUR(D17-C17+"24:00")+CEILING(MINUTE(D17-C17+"24:00")/60,0.25)) -> 0 | H17: =IF(F17="D", G17*Rates!$C$3, IF(F17="W", G17*Rates!$C$4, IF(F17="M", G17*Rates!$C$5, IF(F17="N", G17*Rates!$C$6, 0)))) -> 0
E18: =IF(OR(C18=0,D18=0),,HOUR(D18-C18+"24:00")+CEILING(MINUTE(D18-C18+"24:00")/60,0.25)) -> 0 | H18: =IF(F18="D", G18*Rates!$C$3, IF(F18="W", G18*Rates!$C$4, IF(F18="M", G18*Rates!$C$5, IF(F18="N", G18*Rates!$C$6, 0)))) -> 0
E19: =IF(OR(C19=0,D19=0),,HOUR(D19-C19+"24:00")+CEILING(MINUTE(D19-C19+"24:00")/60,0.25)) -> 0 | H19: =IF(F19="D", G19*Rates!$C$3, IF(F19="W", G19*Rates!$C$4, IF(F19="M", G19*Rates!$C$5, IF(F19="N", G19*Rates!$C$6, 0)))) -> 0
E20: =IF(OR(C20=0,D20=0),,HOUR(D20-C20+"24:00")+CEILING(MINUTE(D20-C20+"24:00")/60,0.25)) -> 0 | H20: =IF(F20="D", G20*Rates!$C$3, IF(F20="W", G20*Rates!$C$4, IF(F20="M", G20*Rates!$C$5, IF(F20="N", G20*Rates!$C$6, 0)))) -> 0
E21: =IF(OR(C21=0,D21=0),,HOUR(D21-C21+"24:00")+CEILING(MINUTE(D21-C21+"24:00")/60,0.25)) -> 0 | H21: =IF(F21="D", G21*Rates!$C$3, IF(F21="W", G21*Rates!$C$4, IF(F21="M", G21*Rates!$C$5, IF(F21="N", G21*Rates!$C$6, 0)))) -> 0
A22: Wednesday | E22: =IF(OR(C22=0,D22=0),,HOUR(D22-C22+"24:00")+CEILING(MINUTE(D22-C22+"24:00")/60,0.25)) -> 0 | H22: =IF(F22="D", G22*Rates!$C$3, IF(F22="W", G22*Rates!$C$4, IF(F22="M", G22*Rates!$C$5, IF(F22="N", G22*Rates!$C$6, 0)))) -> 0
A23: =IF(A15="","",A15+1) -> 44649 | E23: =IF(OR(C23=0,D23=0),,HOUR(D23-C23+"24:00")+CEILING(MINUTE(D23-C23+"24:00")/60,0.25)) -> 0 | H23: =IF(F23="D", G23*Rates!$C$3, IF(F23="W", G23*Rates!$C$4, IF(F23="M", G23*Rates!$C$5, IF(F23="N", G23*Rates!$C$6, 0)))) -> 0
A24: Total hours | E24: =IF(OR(C24=0,D24=0),,HOUR(D24-C24+"24:00")+CEILING(MINUTE(D24-C24+"24:00")/60,0.25)) -> 0 | H24: =IF(F24="D", G24*Rates!$C$3, IF(F24="W", G24*Rates!$C$4, IF(F24="M", G24*Rates!$C$5, IF(F24="N", G24*Rates!$C$6, 0)))) -> 0
A25: =SUM(E22:E29) -> 0 | E25: =IF(OR(C25=0,D25=0),,HOUR(D25-C25+"24:00")+CEILING(MINUTE(D25-C25+"24:00")/60,0.25)) -> 0 | H25: =IF(F25="D", G25*Rates!$C$3, IF(F25="W", G25*Rates!$C$4, IF(F25="M", G25*Rates!$C$5, IF(F25="N", G25*Rates!$C$6, 0)))) -> 0
E26: =IF(OR(C26=0,D26=0),,HOUR(D26-C26+"24:00")+CEILING(MINUTE(D26-C26+"24:00")/60,0.25)) -> 0 | H26: =IF(F26="D", G26*Rates!$C$3, IF(F26="W", G26*Rates!$C$4, IF(F26="M", G26*Rates!$C$5, IF(F26="N", G26*Rates!$C$6, 0)))) -> 0
E27: =IF(OR(C27=0,D27=0),,HOUR(D27-C27+"24:00")+CEILING(MINUTE(D27-C27+"24:00")/60,0.25)) -> 0 | H27: =IF(F27="D", G27*Rates!$C$3, IF(F27="W", G27*Rates!$C$4, IF(F27="M", G27*Rates!$C$5, IF(F27="N", G27*Rates!$C$6, 0)))) -> 0
E28: =IF(OR(C28=0,D28=0),,HOUR(D28-C28+"24:00")+CEILING(MINUTE(D28-C28+"24:00")/60,0.25)) -> 0 | H28: =IF(F28="D", G28*Rates!$C$3, IF(F28="W", G28*Rates!$C$4, IF(F28="M", G28*Rates!$C$5, IF(F28="N", G28*Rates!$C$6, 0)))) -> 0
E29: =IF(OR(C29=0,D29=0),,HOUR(D29-C29+"24:00")+CEILING(MINUTE(D29-C29+"24:00")/60,0.25)) -> 0 | H29: =IF(F29="D", G29*Rates!$C$3, IF(F29="W", G29*Rates!$C$4, IF(F29="M", G29*Rates!$C$5, IF(F29="N", G29*Rates!$C$6, 0)))) -> 0
A30: Thursday | E30: =IF(OR(C30=0,D30=0),,HOUR(D30-C30+"24:00")+CEILING(MINUTE(D30-C30+"24:00")/60,0.25)) -> 0 | H30: =IF(F30="D", G30*Rates!$C$3, IF(F30="W", G30*Rates!$C$4, IF(F30="M", G30*Rates!$C$5, IF(F30="N", G30*Rates!$C$6, 0)))) -> 0
A31: =IF(A23="","",A23+1) -> 44650 | E31: =IF(OR(C31=0,D31=0),,HOUR(D31-C31+"24:00")+CEILING(MINUTE(D31-C31+"24:00")/60,0.25)) -> 0 | H31: =IF(F31="D", G31*Rates!$C$3, IF(F31="W", G31*Rates!$C$4, IF(F31="M", G31*Rates!$C$5, IF(F31="N", G31*Rates!$C$6, 0)))) -> 0
A32: Total hours | E32: =IF(OR(C32=0,D32=0),,HOUR(D32-C32+"24:00")+CEILING(MINUTE(D32-C32+"24:00")/60,0.25)) -> 0 | H32: =IF(F32="D", G32*Rates!$C$3, IF(F32="W", G32*Rates!$C$4, IF(F32="M", G32*Rates!$C$5, IF(F32="N", G32*Rates!$C$6, 0)))) -> 0
A33: =SUM(E30:E37) -> 0 | E33: =IF(OR(C33=0,D33=0),,HOUR(D33-C33+"24:00")+CEILING(MINUTE(D33-C33+"24:00")/60,0.25)) -> 0 | H33: =IF(F33="D", G33*Rates!$C$3, IF(F33="W", G33*Rates!$C$4, IF(F33="M", G33*Rates!$C$5, IF(F33="N", G33*Rates!$C$6, 0)))) -> 0
E34: =IF(OR(C34=0,D34=0),,HOUR(D34-C34+"24:00")+CEILING(MINUTE(D34-C34+"24:00")/60,0.25)) -> 0 | H34: =IF(F34="D", G34*Rates!$C$3, IF(F34="W", G34*Rates!$C$4, IF(F34="M", G34*Rates!$C$5, IF(F34="N", G34*Rates!$C$6, 0)))) -> 0
E35: =IF(OR(C35=0,D35=0),,HOUR(D35-C35+"24:00")+CEILING(MINUTE(D35-C35+"24:00")/60,0.25)) -> 0 | H35: =IF(F35="D", G35*Rates!$C$3, IF(F35="W", G35*Rates!$C$4, IF(F35="M", G35*Rates!$C$5, IF(F35="N", G35*Rates!$C$6, 0)))) -> 0
E36: =IF(OR(C36=0,D36=0),,HOUR(D36-C36+"24:00")+CEILING(MINUTE(D36-C36+"24:00")/60,0.25)) -> 0 | H36: =IF(F36="D", G36*Rates!$C$3, IF(F36="W", G36*Rates!$C$4, IF(F36="M", G36*Rates!$C$5, IF(F36="N", G36*Rates!$C$6, 0)))) -> 0
E37: =IF(OR(C37=0,D37=0),,HOUR(D37-C37+"24:00")+CEILING(MINUTE(D37-C37+"24:00")/60,0.25)) -> 0 | H37: =IF(F37="D", G37*Rates!$C$3, IF(F37="W", G37*Rates!$C$4, IF(F37="M", G37*Rates!$C$5, IF(F37="N", G37*Rates!$C$6, 0)))) -> 0
A38: Friday | E38: =IF(OR(C38=0,D38=0),,HOUR(D38-C38+"24:00")+CEILING(MINUTE(D38-C38+"24:00")/60,0.25)) -> 0 | H38: =IF(F38="D", G38*Rates!$C$3, IF(F38="W", G38*Rates!$C$4, IF(F38="M", G38*Rates!$C$5, IF(F38="N", G38*Rates!$C$6, 0)))) -> 0
A39: =IF(A31="","",A31+1) -> 44651 | E39: =IF(OR(C39=0,D39=0),,HOUR(D39-C39+"24:00")+CEILING(MINUTE(D39-C39+"24:00")/60,0.25)) -> 0 | H39: =IF(F39="D", G39*Rates!$C$3, IF(F39="W", G39*Rates!$C$4, IF(F39="M", G39*Rates!$C$5, IF(F39="N", G39*Rates!$C$6, 0)))) -> 0
A40: Total hours | E40: =IF(OR(C40=0,D40=0),,HOUR(D40-C40+"24:00")+CEILING(MINUTE(D40-C40+"24:00")/60,0.25)) -> 0 | H40: =IF(F40="D", G40*Rates!$C$3, IF(F40="W", G40*Rates!$C$4, IF(F40="M", G40*Rates!$C$5, IF(F40="N", G40*Rates!$C$6, 0)))) -> 0
A41: =SUM(E38:E45) -> 0 | E41: =IF(OR(C41=0,D41=0),,HOUR(D41-C41+"24:00")+CEILING(MINUTE(D41-C41+"24:00")/60,0.25)) -> 0 | H41: =IF(F41="D", G41*Rates!$C$3, IF(F41="W", G41*Rates!$C$4, IF(F41="M", G41*Rates!$C$5, IF(F41="N", G41*Rates!$C$6, 0)))) -> 0
...

Sheet Week 5
A1: COMPANY: | B1: =Prep!B1 -> 0 | D1: PRODUCTION: | F1: =Prep!F1 -> 0
A2: FOR WEEK OF: | B2: ='Week 4'!B2+7 -> 44654
A3: ARTIST: | B3: =Prep!B3 -> 0
A5: Date | B5: Activity | C5: Start | D5: End | E5: Work Hours | F5: Code | G5: 1/2 Hours | H5: Amount
A6: Monday | E6: =IF(OR(C6=0,D6=0),,HOUR(D6-C6+"24:00")+CEILING(MINUTE(D6-C6+"24:00")/60,0.25)) -> 0 | H6: =IF(F6="D", G6*Rates!$C$3, IF(F6="W", G6*Rates!$C$4, IF(F6="M", G6*Rates!$C$5, IF(F6="N", G6*Rates!$C$6, 0)))) -> 0
A7: =B2 -> 44654 | E7: =IF(OR(C7=0,D7=0),,HOUR(D7-C7+"24:00")+CEILING(MINUTE(D7-C7+"24:00")/60,0.25)) -> 0 | H7: =IF(F7="D", G7*Rates!$C$3, IF(F7="W", G7*Rates!$C$4, IF(F7="M", G7*Rates!$C$5, IF(F7="N", G7*Rates!$C$6, 0)))) -> 0
A8: Total hours | E8: =IF(OR(C8=0,D8=0),,HOUR(D8-C8+"24:00")+CEILING(MINUTE(D8-C8+"24:00")/60,0.25)) -> 0 | H8: =IF(F8="D", G8*Rates!$C$3, IF(F8="W", G8*Rates!$C$4, IF(F8="M", G8*Rates!$C$5, IF(F8="N", G8*Rates!$C$6, 0)))) -> 0
A9: =SUM(E6:E13) -> 0 | E9: =IF(OR(C9=0,D9=0),,HOUR(D9-C9+"24:00")+CEILING(MINUTE(D9-C9+"24:00")/60,0.25)) -> 0 | H9: =IF(F9="D", G9*Rates!$C$3, IF(F9="W", G9*Rates!$C$4, IF(F9="M", G9*Rates!$C$5, IF(F9="N", G9*Rates!$C$6, 0)))) -> 0
E10: =IF(OR(C10=0,D10=0),,HOUR(D10-C10+"24:00")+CEILING(MINUTE(D10-C10+"24:00")/60,0.25)) -> 0 | H10: =IF(F10="D", G10*Rates!$C$3, IF(F10="W", G10*Rates!$C$4, IF(F10="M", G10*Rates!$C$5, IF(F10="N", G10*Rates!$C$6, 0)))) -> 0
E11: =IF(OR(C11=0,D11=0),,HOUR(D11-C11+"24:00")+CEILING(MINUTE(D11-C11+"24:00")/60,0.25)) -> 0 | H11: =IF(F11="D", G11*Rates!$C$3, IF(F11="W", G11*Rates!$C$4, IF(F11="M", G11*Rates!$C$5, IF(F11="N", G11*Rates!$C$6, 0)))) -> 0
E12: =IF(OR(C12=0,D12=0),,HOUR(D12-C12+"24:00")+CEILING(MINUTE(D12-C12+"24:00")/60,0.25)) -> 0 | H12: =IF(F12="D", G12*Rates!$C$3, IF(F12="W", G12*Rates!$C$4, IF(F12="M", G12*Rates!$C$5, IF(F12="N", G12*Rates!$C$6, 0)))) -> 0
E13: =IF(OR(C13=0,D13=0),,HOUR(D13-C13+"24:00")+CEILING(MINUTE(D13-C13+"24:00")/60,0.25)) -> 0 | H13: =IF(F13="D", G13*Rates!$C$3, IF(F13="W", G13*Rates!$C$4, IF(F13="M", G13*Rates!$C$5, IF(F13="N", G13*Rates!$C$6, 0)))) -> 0
A14: Tuesday | E14: =IF(OR(C14=0,D14=0),,HOUR(D14-C14+"24:00")+CEILING(MINUTE(D14-C14+"24:00")/60,0.25)) -> 0 | H14: =IF(F14="D", G14*Rates!$C$3, IF(F14="W", G14*Rates!$C$4, IF(F14="M", G14*Rates!$C$5, IF(F14="N", G14*Rates!$C$6, 0)))) -> 0
A15: =IF(A7="","",A7+1) -> 44655 | E15: =IF(OR(C15=0,D15=0),,HOUR(D15-C15+"24:00")+CEILING(MINUTE(D15-C15+"24:00")/60,0.25)) -> 0 | H15: =IF(F15="D", G15*Rates!$C$3, IF(F15="W", G15*Rates!$C$4, IF(F15="M", G15*Rates!$C$5, IF(F15="N", G15*Rates!$C$6, 0)))) -> 0
A16: Total hours | E16: =IF(OR(C16=0,D16=0),,HOUR(D16-C16+"24:00")+CEILING(MINUTE(D16-C16+"24:00")/60,0.25)) -> 0 | H16: =IF(F16="D", G16*Rates!$C$3, IF(F16="W", G16*Rates!$C$4, IF(F16="M", G16*Rates!$C$5, IF(F16="N", G16*Rates!$C$6, 0)))) -> 0
A17: =SUM(E14:E21) -> 0 | E17: =IF(OR(C17=0,D17=0),,HOUR(D17-C17+"24:00")+CEILING(MINUTE(D17-C17+"24:00")/60,0.25)) -> 0 | H17: =IF(F17="D", G17*Rates!$C$3, IF(F17="W", G17*Rates!$C$4, IF(F17="M", G17*Rates!$C$5, IF(F17="N", G17*Rates!$C$6, 0)))) -> 0
E18: =IF(OR(C18=0,D18=0),,HOUR(D18-C18+"24:00")+CEILING(MINUTE(D18-C18+"24:00")/60,0.25)) -> 0 | H18: =IF(F18="D", G18*Rates!$C$3, IF(F18="W", G18*Rates!$C$4, IF(F18="M", G18*Rates!$C$5, IF(F18="N", G18*Rates!$C$6, 0)))) -> 0
E19: =IF(OR(C19=0,D19=0),,HOUR(D19-C19+"24:00")+CEILING(MINUTE(D19-C19+"24:00")/60,0.25)) -> 0 | H19: =IF(F19="D", G19*Rates!$C$3, IF(F19="W", G19*Rates!$C$4, IF(F19="M", G19*Rates!$C$5, IF(F19="N", G19*Rates!$C$6, 0)))) -> 0
E20: =IF(OR(C20=0,D20=0),,HOUR(D20-C20+"24:00")+CEILING(MINUTE(D20-C20+"24:00")/60,0.25)) -> 0 | H20: =IF(F20="D", G20*Rates!$C$3, IF(F20="W", G20*Rates!$C$4, IF(F20="M", G20*Rates!$C$5, IF(F20="N", G20*Rates!$C$6, 0)))) -> 0
E21: =IF(OR(C21=0,D21=0),,HOUR(D21-C21+"24:00")+CEILING(MINUTE(D21-C21+"24:00")/60,0.25)) -> 0 | H21: =IF(F21="D", G21*Rates!$C$3, IF(F21="W", G21*Rates!$C$4, IF(F21="M", G21*Rates!$C$5, IF(F21="N", G21*Rates!$C$6, 0)))) -> 0
A22: Wednesday | E22: =IF(OR(C22=0,D22=0),,HOUR(D22-C22+"24:00")+CEILING(MINUTE(D22-C22+"24:00")/60,0.25)) -> 0 | H22: =IF(F22="D", G22*Rates!$C$3, IF(F22="W", G22*Rates!$C$4, IF(F22="M", G22*Rates!$C$5, IF(F22="N", G22*Rates!$C$6, 0)))) -> 0
A23: =IF(A15="","",A15+1) -> 44656 | E23: =IF(OR(C23=0,D23=0),,HOUR(D23-C23+"24:00")+CEILING(MINUTE(D23-C23+"24:00")/60,0.25)) -> 0 | H23: =IF(F23="D", G23*Rates!$C$3, IF(F23="W", G23*Rates!$C$4, IF(F23="M", G23*Rates!$C$5, IF(F23="N", G23*Rates!$C$6, 0)))) -> 0
A24: Total hours | E24: =IF(OR(C24=0,D24=0),,HOUR(D24-C24+"24:00")+CEILING(MINUTE(D24-C24+"24:00")/60,0.25)) -> 0 | H24: =IF(F24="D", G24*Rates!$C$3, IF(F24="W", G24*Rates!$C$4, IF(F24="M", G24*Rates!$C$5, IF(F24="N", G24*Rates!$C$6, 0)))) -> 0
A25: =SUM(E22:E29) -> 0 | E25: =IF(OR(C25=0,D25=0),,HOUR(D25-C25+"24:00")+CEILING(MINUTE(D25-C25+"24:00")/60,0.25)) -> 0 | H25: =IF(F25="D", G25*Rates!$C$3, IF(F25="W", G25*Rates!$C$4, IF(F25="M", G25*Rates!$C$5, IF(F25="N", G25*Rates!$C$6, 0)))) -> 0
E26: =IF(OR(C26=0,D26=0),,HOUR(D26-C26+"24:00")+CEILING(MINUTE(D26-C26+"24:00")/60,0.25)) -> 0 | H26: =IF(F26="D", G26*Rates!$C$3, IF(F26="W", G26*Rates!$C$4, IF(F26="M", G26*Rates!$C$5, IF(F26="N", G26*Rates!$C$6, 0)))) -> 0
E27: =IF(OR(C27=0,D27=0),,HOUR(D27-C27+"24:00")+CEILING(MINUTE(D27-C27+"24:00")/60,0.25)) -> 0 | H27: =IF(F27="D", G27*Rates!$C$3, IF(F27="W", G27*Rates!$C$4, IF(F27="M", G27*Rates!$C$5, IF(F27="N", G27*Rates!$C$6, 0)))) -> 0
E28: =IF(OR(C28=0,D28=0),,HOUR(D28-C28+"24:00")+CEILING(MINUTE(D28-C28+"24:00")/60,0.25)) -> 0 | H28: =IF(F28="D", G28*Rates!$C$3, IF(F28="W", G28*Rates!$C$4, IF(F28="M", G28*Rates!$C$5, IF(F28="N", G28*Rates!$C$6, 0)))) -> 0
E29: =IF(OR(C29=0,D29=0),,HOUR(D29-C29+"24:00")+CEILING(MINUTE(D29-C29+"24:00")/60,0.25)) -> 0 | H29: =IF(F29="D", G29*Rates!$C$3, IF(F29="W", G29*Rates!$C$4, IF(F29="M", G29*Rates!$C$5, IF(F29="N", G29*Rates!$C$6, 0)))) -> 0
A30: Thursday | E30: =IF(OR(C30=0,D30=0),,HOUR(D30-C30+"24:00")+CEILING(MINUTE(D30-C30+"24:00")/60,0.25)) -> 0 | H30: =IF(F30="D", G30*Rates!$C$3, IF(F30="W", G30*Rates!$C$4, IF(F30="M", G30*Rates!$C$5, IF(F30="N", G30*Rates!$C$6, 0)))) -> 0
A31: =IF(A23="","",A23+1) -> 44657 | E31: =IF(OR(C31=0,D31=0),,HOUR(D31-C31+"24:00")+CEILING(MINUTE(D31-C31+"24:00")/60,0.25)) -> 0 | H31: =IF(F31="D", G31*Rates!$C$3, IF(F31="W", G31*Rates!$C$4, IF(F31="M", G31*Rates!$C$5, IF(F31="N", G31*Rates!$C$6, 0)))) -> 0
A32: Total hours | E32: =IF(OR(C32=0,D32=0),,HOUR(D32-C32+"24:00")+CEILING(MINUTE(D32-C32+"24:00")/60,0.25)) -> 0 | H32: =IF(F32="D", G32*Rates!$C$3, IF(F32="W", G32*Rates!$C$4, IF(F32="M", G32*Rates!$C$5, IF(F32="N", G32*Rates!$C$6, 0)))) -> 0
A33: =SUM(E30:E37) -> 0 | E33: =IF(OR(C33=0,D33=0),,HOUR(D33-C33+"24:00")+CEILING(MINUTE(D33-C33+"24:00")/60,0.25)) -> 0 | H33: =IF(F33="D", G33*Rates!$C$3, IF(F33="W", G33*Rates!$C$4, IF(F33="M", G33*Rates!$C$5, IF(F33="N", G33*Rates!$C$6, 0)))) -> 0
E34: =IF(OR(C34=0,D34=0),,HOUR(D34-C34+"24:00")+CEILING(MINUTE(D34-C34+"24:00")/60,0.25)) -> 0 | H34: =IF(F34="D", G34*Rates!$C$3, IF(F34="W", G34*Rates!$C$4, IF(F34="M", G34*Rates!$C$5, IF(F34="N", G34*Rates!$C$6, 0)))) -> 0
E35: =IF(OR(C35=0,D35=0),,HOUR(D35-C35+"24:00")+CEILING(MINUTE(D35-C35+"24:00")/60,0.25)) -> 0 | H35: =IF(F35="D", G35*Rates!$C$3, IF(F35="W", G35*Rates!$C$4, IF(F35="M", G35*Rates!$C$5, IF(F35="N", G35*Rates!$C$6, 0)))) -> 0
E36: =IF(OR(C36=0,D36=0),,HOUR(D36-C36+"24:00")+CEILING(MINUTE(D36-C36+"24:00")/60,0.25)) -> 0 | H36: =IF(F36="D", G36*Rates!$C$3, IF(F36="W", G36*Rates!$C$4, IF(F36="M", G36*Rates!$C$5, IF(F36="N", G36*Rates!$C$6, 0)))) -> 0
E37: =IF(OR(C37=0,D37=0),,HOUR(D37-C37+"24:00")+CEILING(MINUTE(D37-C37+"24:00")/60,0.25)) -> 0 | H37: =IF(F37="D", G37*Rates!$C$3, IF(F37="W", G37*Rates!$C$4, IF(F37="M", G37*Rates!$C$5, IF(F37="N", G37*Rates!$C$6, 0)))) -> 0
A38: Friday | E38: =IF(OR(C38=0,D38=0),,HOUR(D38-C38+"24:00")+CEILING(MINUTE(D38-C38+"24:00")/60,0.25)) -> 0 | H38: =IF(F38="D", G38*Rates!$C$3, IF(F38="W", G38*Rates!$C$4, IF(F38="M", G38*Rates!$C$5, IF(F38="N", G38*Rates!$C$6, 0)))) -> 0
A39: =IF(A31="","",A31+1) -> 44658 | E39: =IF(OR(C39=0,D39=0),,HOUR(D39-C39+"24:00")+CEILING(MINUTE(D39-C39+"24:00")/60,0.25)) -> 0 | H39: =IF(F39="D", G39*Rates!$C$3, IF(F39="W", G39*Rates!$C$4, IF(F39="M", G39*Rates!$C$5, IF(F39="N", G39*Rates!$C$6, 0)))) -> 0
A40: Total hours | E40: =IF(OR(C40=0,D40=0),,HOUR(D40-C40+"24:00")+CEILING(MINUTE(D40-C40+"24:00")/60,0.25)) -> 0 | H40: =IF(F40="D", G40*Rates!$C$3, IF(F40="W", G40*Rates!$C$4, IF(F40="M", G40*Rates!$C$5, IF(F40="N", G40*Rates!$C$6, 0)))) -> 0
A41: =SUM(E38:E45) -> 0 | E41: =IF(OR(C41=0,D41=0),,HOUR(D41-C41+"24:00")+CEILING(MINUTE(D41-C41+"24:00")/60,0.25)) -> 0 | H41: =IF(F41="D", G41*Rates!$C$3, IF(F41="W", G41*Rates!$C$4, IF(F41="M", G41*Rates!$C$5, IF(F41="N", G41*Rates!$C$6, 0)))) -> 0
...

Sheet Rates
A1: The following rates apply to Calgary Opera, 2021-2022,
A2: Type | B2: Code | C2: Rate* | F2: Other Variables For Formuals | G2: Hours
A3: Work in Excess of Span of Day (Rate 1) | B3: D | C3: 27.52 | F3: Max Weekly Hours Allowable | G3: 52
A4: Work in Excess of Maximum Weekly Hours (Rate 1) | B4: W | C4: 27.52
A5: Meal Break Infringement (Rate 1) | B5: M | C5: 35.02
A6: Overnight Rest Break Infringement (Rate 2) | B6: N | C6: 35.02
A7: Work on the Free Day (Rate 2) Per half hour or part (greater of min. 3 hrs.) | B7: F | C7: 35.02 or 1/6 salary
C8: *per half hour, or part of
A10: NOTE: all the other formulas rely on the rate and hours columns on this page being accurate, and don't rename it!
A11: Work on a free day may have to be added manually.

Sheet OT Totals
A1: Total OT | B1: Amount | C1: Notes
A2: Prep Week | B2: =Prep!$H$71 -> 0
A3: Week 1 | B3: ='Week 1'!$H$71 -> 0
A4: Week 2 | B4: ='Week 2'!$H$71 -> 0
A5: Week 3 | B5: ='Week 3'!$H$71 -> 0
A6: Week 4 | B6: ='Week 4'!$H$71 -> 0
A7: Week 5 | B7: ='Week 5'!$H$71 -> 0
A8: OT Total | B8: =SUM(B2:B7) -> 0
